Workbook

Sheet Anleitung
D2: root-service ag Wydenstrasse 29 Postfach 227 CH-8575 Bürglen Telefon +41 (0)71 634 80 40 Telefax +41 (0)71 633 25 37 E-Mail: info@root.ch
B5: Vorgehen
B7: 1. Arbeitsmappe «Gruppenberechtigung» | D7: In dieser Mappe werden den Gruppen die benötigten Rechte zugewiesen. Wie in der Legende beschrieben, bedeutet 1 das Recht für Vollzugriff; 2 für Löschen; 3 für Bearbeiten und erstellen; 4 für Lesen. Ein ! (Ausrufezeichen) steht für zusätzliche Rechte, welche nicht in den Hauptkategorien abgedeckt sind.
B9: 2. Arbeitsmappe «Benutzer» | D9: In dieser Arbeitsmappe werden alle Perigon-Benutzer erfasst und im blauen Bereich den dazugehörigen Gruppen zugewiesen. Ein Benutzer kann mehreren Gruppen zugewiesen werden.
B11: 3. Umsetzung in der Perigon-Benutzerverwaltung

Sheet Gruppenberechtigung
E2: root-service ag Wydenstrasse 29 Postfach 227 CH-8575 Bürglen Telefon +41 (0)71 634 80 40 E-Mail: info@root.ch Internet: www.root.ch
C3: Version 2025.2
C4: Gruppenberechtigung | F4: 1 | G4: Vollzugriff | K4: 2 | L4: Löschen | T4: 3 | U4: Bearbeiten / nicht Löschen
C5: Bereiche | F5: 4 | G5: Lesen | N5: 0 | O5: kein Zugriff | Y5: ! | Z5: zusätzliches Recht
F6: Benutzergruppe | G6: 01 Geschäftsleitung | H6: 02 Administration | I6: 03 HR/Personal | J6: 04 Finanzen | L6: 08 Diplomiertes Pflegefachpersonal (Tertiär) | M6: 09 Fachpersonal Pflege (Sekundar EFZ / EBA) | N6: 10 Andere/ohne Ausbildung (SRK) | O6: 11 Hauswirtschaft | P6: 12 Diplomiertes Pflegefachpersonal Psychiatrie (Tertiär) | T6: 20 Teamleitung | Z6: 93 Dispo DP Team A löschen | AA6: 94 Dispo DP Team B löschen | AB6: 95 Dispo EP Team A löschen | AC6: 96 Dispo EP Team B löschen | AD6: 97 Dispo lesen | AG6: 98 Notizen Administration | AH6: 99 Notitzen Pflege | AV6: Stufe 1 | AW6: Stufe 2 | AX6: Stufe 3 | AY6: Stufe 4 | BB6: Kontrolle | BC6: Kontrolle Stufe 1-4 wenn Leer dann mit Leerzeichen | BJ6: Ab Version | BK6: Bis Version (Letze Version wo diese Konfig aktiv wart) | BL6: In Version geändert | BM6: Aktiv? (Muss nicht manuell gemacht werden da eine Formel dies berechnet
BK7: Ausblenden
C8: Adressen | F8: Ü | G8: 1 | H8: 2 | I8: 2 | J8: 2 | L8: 4 | M8: 4 | N8: 4 | O8: 4 | P8: 1 | AV8: 1 | AW8: 2 | AX8: 3 | AY8: 4 | BB8: =IF(AND(E8<>"",AV8=""),"fehler","Ok") -> Ok | BC8: =IF(G8<>"",IF(OR(AV8="",AW8="",AX8="",AY8=""),"Leerzeichen fehlt","Leerzeiche IO"),"") -> Leerzeiche IO | BJ8: ? | BM8: =IF(BK8="","Ja","Nein") -> Ja
D9: Adresse | BB9: =IF(AND(E9<>"",AV9=""),"fehler","Ok") -> Ok | BC9: =IF(G9<>"",IF(OR(AV9="",AW9="",AX9="",AY9=""),"Leerzeichen fehlt","Leerzeiche IO"),"") | BJ9: ? | BM9: =IF(BK9="","Ja","Nein") -> Ja
E10: Daten lesen | G10: =LOOKUP(G$8,$AV$8:$BN$8,$AV10:$BN10) -> x | H10: =LOOKUP(H$8,$AV$8:$BN$8,$AV10:$BN10) -> x | I10: =LOOKUP(I$8,$AV$8:$BN$8,$AV10:$BN10) -> x | J10: =LOOKUP(J$8,$AV$8:$BN$8,$AV10:$BN10) -> x | K10: =LOOKUP(K$8,$AV$8:$BN$8,$AV10:$BN10) -> #N/A | L10: =LOOKUP(L$8,$AV$8:$BN$8,$AV10:$BN10) -> x | M10: =LOOKUP(M$8,$AV$8:$BN$8,$AV10:$BN10) -> x | N10: =LOOKUP(N$8,$AV$8:$BN$8,$AV10:$BN10) -> x | ... AU10: =LOOKUP(AU$8,$AV$8:$BN$8,$AV10:$BN10) -> #N/A | AV10: x | AW10: x | AX10: x | AY10: x | BB10: =IF(AND(E10<>"",AV10=""),"fehler","Ok") -> Ok | BC10: =IF(G10<>"",IF(OR(AV10="",AW10="",AX10="",AY10=""),"Leerzeichen fehlt","Leerzeiche IO"),"") -> Leerzeiche IO | BJ10: ? | BM10: =IF(BK10="","Ja","Nein") -> Ja
E11: Daten bearbeiten | G11: =LOOKUP(G$8,$AV$8:$BN$8,$AV11:$BN11) -> x | H11: =LOOKUP(H$8,$AV$8:$BN$8,$AV11:$BN11) -> x | I11: =LOOKUP(I$8,$AV$8:$BN$8,$AV11:$BN11) -> x | J11: =LOOKUP(J$8,$AV$8:$BN$8,$AV11:$BN11) -> x | K11: =LOOKUP(K$8,$AV$8:$BN$8,$AV11:$BN11) -> #N/A | L11: =LOOKUP(L$8,$AV$8:$BN$8,$AV11:$BN11) | M11: =LOOKUP(M$8,$AV$8:$BN$8,$AV11:$BN11) | N11: =LOOKUP(N$8,$AV$8:$BN$8,$AV11:$BN11) | ... AU11: =LOOKUP(AU$8,$AV$8:$BN$8,$AV11:$BN11) -> #N/A | AV11: x | AW11: x | AX11: x | BB11: =IF(AND(E11<>"",AV11=""),"fehler","Ok") -> Ok | BC11: =IF(G11<>"",IF(OR(AV11="",AW11="",AX11="",AY11=""),"Leerzeichen fehlt","Leerzeiche IO"),"") -> Leerzeiche IO | BJ11: ? | BM11: =IF(BK11="","Ja","Nein") -> Ja
E12: Daten erstellen | G12: =LOOKUP(G$8,$AV$8:$BN$8,$AV12:$BN12) -> x | H12: =LOOKUP(H$8,$AV$8:$BN$8,$AV12:$BN12) -> x | I12: =LOOKUP(I$8,$AV$8:$BN$8,$AV12:$BN12) -> x | J12: =LOOKUP(J$8,$AV$8:$BN$8,$AV12:$BN12) -> x | K12: =LOOKUP(K$8,$AV$8:$BN$8,$AV12:$BN12) -> #N/A | L12: =LOOKUP(L$8,$AV$8:$BN$8,$AV12:$BN12) | M12: =LOOKUP(M$8,$AV$8:$BN$8,$AV12:$BN12) | N12: =LOOKUP(N$8,$AV$8:$BN$8,$AV12:$BN12) | ... AU12: =LOOKUP(AU$8,$AV$8:$BN$8,$AV12:$BN12) -> #N/A | AV12: x | AW12: x | AX12: x | BB12: =IF(AND(E12<>"",AV12=""),"fehler","Ok") -> Ok | BC12: =IF(G12<>"",IF(OR(AV12="",AW12="",AX12="",AY12=""),"Leerzeichen fehlt","Leerzeiche IO"),"") -> Leerzeiche IO | BJ12: ? | BM12: =IF(BK12="","Ja","Nein") -> Ja
E13: Daten kopieren | G13: =LOOKUP(G$8,$AV$8:$BN$8,$AV13:$BN13) -> x | H13: =LOOKUP(H$8,$AV$8:$BN$8,$AV13:$BN13) -> x | I13: =LOOKUP(I$8,$AV$8:$BN$8,$AV13:$BN13) -> x | J13: =LOOKUP(J$8,$AV$8:$BN$8,$AV13:$BN13) -> x | K13: =LOOKUP(K$8,$AV$8:$BN$8,$AV13:$BN13) -> #N/A | L13: =LOOKUP(L$8,$AV$8:$BN$8,$AV13:$BN13) | M13: =LOOKUP(M$8,$AV$8:$BN$8,$AV13:$BN13) | N13: =LOOKUP(N$8,$AV$8:$BN$8,$AV13:$BN13) | ... AU13: =LOOKUP(AU$8,$AV$8:$BN$8,$AV13:$BN13) -> #N/A | AV13: x | AW13: x | AX13: x | BB13: =IF(AND(E13<>"",AV13=""),"fehler","Ok") -> Ok | BC13: =IF(G13<>"",IF(OR(AV13="",AW13="",AX13="",AY13=""),"Leerzeichen fehlt","Leerzeiche IO"),"") -> Leerzeiche IO | BJ13: ? | BM13: =IF(BK13="","Ja","Nein") -> Ja
E14: Daten löschen | G14: =LOOKUP(G$8,$AV$8:$BN$8,$AV14:$BN14) -> x | H14: =LOOKUP(H$8,$AV$8:$BN$8,$AV14:$BN14) -> x | I14: =LOOKUP(I$8,$AV$8:$BN$8,$AV14:$BN14) -> x | J14: =LOOKUP(J$8,$AV$8:$BN$8,$AV14:$BN14) -> x | K14: =LOOKUP(K$8,$AV$8:$BN$8,$AV14:$BN14) -> #N/A | L14: =LOOKUP(L$8,$AV$8:$BN$8,$AV14:$BN14) | M14: =LOOKUP(M$8,$AV$8:$BN$8,$AV14:$BN14) | N14: =LOOKUP(N$8,$AV$8:$BN$8,$AV14:$BN14) | ... AU14: =LOOKUP(AU$8,$AV$8:$BN$8,$AV14:$BN14) -> #N/A | AV14: x | AW14: x | BB14: =IF(AND(E14<>"",AV14=""),"fehler","Ok") -> Ok | BC14: =IF(G14<>"",IF(OR(AV14="",AW14="",AX14="",AY14=""),"Leerzeichen fehlt","Leerzeiche IO"),"") -> Leerzeiche IO | BJ14: ? | BM14: =IF(BK14="","Ja","Nein") -> Ja
E15: Daten löschen selektiert | G15: =LOOKUP(G$8,$AV$8:$BN$8,$AV15:$BN15) -> x | H15: =LOOKUP(H$8,$AV$8:$BN$8,$AV15:$BN15) -> ! | I15: =LOOKUP(I$8,$AV$8:$BN$8,$AV15:$BN15) -> ! | J15: =LOOKUP(J$8,$AV$8:$BN$8,$AV15:$BN15) -> ! | K15: =LOOKUP(K$8,$AV$8:$BN$8,$AV15:$BN15) -> #N/A | L15: =LOOKUP(L$8,$AV$8:$BN$8,$AV15:$BN15) | M15: =LOOKUP(M$8,$AV$8:$BN$8,$AV15:$BN15) | N15: =LOOKUP(N$8,$AV$8:$BN$8,$AV15:$BN15) | ... AU15: =LOOKUP(AU$8,$AV$8:$BN$8,$AV15:$BN15) -> #N/A | AV15: x | AW15: ! | BB15: =IF(AND(E15<>"",AV15=""),"fehler","Ok") -> Ok | BC15: =IF(G15<>"",IF(OR(AV15="",AW15="",AX15="",AY15=""),"Leerzeichen fehlt","Leerzeiche IO"),"") -> Leerzeiche IO | BJ15: ? | BM15: =IF(BK15="","Ja","Nein") -> Ja
D16: Einsatzplanung | BB16: =IF(AND(E16<>"",AV16=""),"fehler","Ok") -> Ok | BC16: =IF(G16<>"",IF(OR(AV16="",AW16="",AX16="",AY16=""),"Leerzeichen fehlt","Leerzeiche IO"),"") | BJ16: 2023.3 | BM16: =IF(BK16="","Ja","Nein") -> Ja
E17: Daten lesen | G17: =LOOKUP(G$8,$AV$8:$BN$8,$AV17:$BN17) -> x | H17: =LOOKUP(H$8,$AV$8:$BN$8,$AV17:$BN17) -> x | I17: =LOOKUP(I$8,$AV$8:$BN$8,$AV17:$BN17) -> x | J17: =LOOKUP(J$8,$AV$8:$BN$8,$AV17:$BN17) -> x | K17: =LOOKUP(K$8,$AV$8:$BN$8,$AV17:$BN17) -> #N/A | L17: =LOOKUP(L$8,$AV$8:$BN$8,$AV17:$BN17) -> x | M17: =LOOKUP(M$8,$AV$8:$BN$8,$AV17:$BN17) -> x | N17: =LOOKUP(N$8,$AV$8:$BN$8,$AV17:$BN17) -> x | ... AU17: =LOOKUP(AU$8,$AV$8:$BN$8,$AV17:$BN17) -> #N/A | AV17: x | AW17: x | AX17: x | AY17: x | BB17: =IF(AND(E17<>"",AV17=""),"fehler","Ok") -> Ok | BC17: =IF(G17<>"",IF(OR(AV17="",AW17="",AX17="",AY17=""),"Leerzeichen fehlt","Leerzeiche IO"),"") -> Leerzeiche IO | BJ17: 2023.3 | BM17: =IF(BK17="","Ja","Nein") -> Ja
E18: Daten erstellen/bearbeiten/kopieren | G18: =LOOKUP(G$8,$AV$8:$BN$8,$AV18:$BN18) -> x | H18: =LOOKUP(H$8,$AV$8:$BN$8,$AV18:$BN18) -> x | I18: =LOOKUP(I$8,$AV$8:$BN$8,$AV18:$BN18) -> x | J18: =LOOKUP(J$8,$AV$8:$BN$8,$AV18:$BN18) -> x | K18: =LOOKUP(K$8,$AV$8:$BN$8,$AV18:$BN18) -> #N/A | L18: =LOOKUP(L$8,$AV$8:$BN$8,$AV18:$BN18) | M18: =LOOKUP(M$8,$AV$8:$BN$8,$AV18:$BN18) | N18: =LOOKUP(N$8,$AV$8:$BN$8,$AV18:$BN18) | ... AU18: =LOOKUP(AU$8,$AV$8:$BN$8,$AV18:$BN18) -> #N/A | AV18: x | AW18: x | AX18: x | BB18: =IF(AND(E18<>"",AV18=""),"fehler","Ok") -> Ok | BC18: =IF(G18<>"",IF(OR(AV18="",AW18="",AX18="",AY18=""),"Leerzeichen fehlt","Leerzeiche IO"),"") -> Leerzeiche IO | BJ18: 2023.3 | BM18: =IF(BK18="","Ja","Nein") -> Ja
D19: Beziehungen | BB19: =IF(AND(E19<>"",AV19=""),"fehler","Ok") -> Ok | BC19: =IF(G19<>"",IF(OR(AV19="",AW19="",AX19="",AY19=""),"Leerzeichen fehlt","Leerzeiche IO"),"") | BJ19: ? | BM19: =IF(BK19="","Ja","Nein") -> Ja
E20: Beziehungen lesen | G20: =LOOKUP(G$8,$AV$8:$BN$8,$AV20:$BN20) -> x | H20: =LOOKUP(H$8,$AV$8:$BN$8,$AV20:$BN20) -> x | I20: =LOOKUP(I$8,$AV$8:$BN$8,$AV20:$BN20) -> x | J20: =LOOKUP(J$8,$AV$8:$BN$8,$AV20:$BN20) -> x | K20: =LOOKUP(K$8,$AV$8:$BN$8,$AV20:$BN20) -> #N/A | L20: =LOOKUP(L$8,$AV$8:$BN$8,$AV20:$BN20) -> x | M20: =LOOKUP(M$8,$AV$8:$BN$8,$AV20:$BN20) -> x | N20: =LOOKUP(N$8,$AV$8:$BN$8,$AV20:$BN20) -> x | ... AU20: =LOOKUP(AU$8,$AV$8:$BN$8,$AV20:$BN20) -> #N/A | AV20: x | AW20: x | AX20: x | AY20: x | BB20: =IF(AND(E20<>"",AV20=""),"fehler","Ok") -> Ok | BC20: =IF(G20<>"",IF(OR(AV20="",AW20="",AX20="",AY20=""),"Leerzeichen fehlt","Leerzeiche IO"),"") -> Leerzeiche IO | BJ20: ? | BM20: =IF(BK20="","Ja","Nein") -> Ja
E21: Beziehungen bearbeiten | G21: =LOOKUP(G$8,$AV$8:$BN$8,$AV21:$BN21) -> x | H21: =LOOKUP(H$8,$AV$8:$BN$8,$AV21:$BN21) -> x | I21: =LOOKUP(I$8,$AV$8:$BN$8,$AV21:$BN21) -> x | J21: =LOOKUP(J$8,$AV$8:$BN$8,$AV21:$BN21) -> x | K21: =LOOKUP(K$8,$AV$8:$BN$8,$AV21:$BN21) -> #N/A | L21: =LOOKUP(L$8,$AV$8:$BN$8,$AV21:$BN21) | M21: =LOOKUP(M$8,$AV$8:$BN$8,$AV21:$BN21) | N21: =LOOKUP(N$8,$AV$8:$BN$8,$AV21:$BN21) | ... AU21: =LOOKUP(AU$8,$AV$8:$BN$8,$AV21:$BN21) -> #N/A | AV21: x | AW21: x | AX21: x | BB21: =IF(AND(E21<>"",AV21=""),"fehler","Ok") -> Ok | BC21: =IF(G21<>"",IF(OR(AV21="",AW21="",AX21="",AY21=""),"Leerzeichen fehlt","Leerzeiche IO"),"") -> Leerzeiche IO | BJ21: ? | BM21: =IF(BK21="","Ja","Nein") -> Ja
E22: Beziehungsadresen erstellen | G22: =LOOKUP(G$8,$AV$8:$BN$8,$AV22:$BN22) -> x | H22: =LOOKUP(H$8,$AV$8:$BN$8,$AV22:$BN22) -> x | I22: =LOOKUP(I$8,$AV$8:$BN$8,$AV22:$BN22) -> x | J22: =LOOKUP(J$8,$AV$8:$BN$8,$AV22:$BN22) -> x | K22: =LOOKUP(K$8,$AV$8:$BN$8,$AV22:$BN22) -> #N/A | L22: =LOOKUP(L$8,$AV$8:$BN$8,$AV22:$BN22) | M22: =LOOKUP(M$8,$AV$8:$BN$8,$AV22:$BN22) | N22: =LOOKUP(N$8,$AV$8:$BN$8,$AV22:$BN22) | ... AU22: =LOOKUP(AU$8,$AV$8:$BN$8,$AV22:$BN22) -> #N/A | AV22: x | AW22: x | AX22: x | BB22: =IF(AND(E22<>"",AV22=""),"fehler","Ok") -> Ok | BC22: =IF(G22<>"",IF(OR(AV22="",AW22="",AX22="",AY22=""),"Leerzeichen fehlt","Leerzeiche IO"),"") -> Leerzeiche IO | BJ22: ? | BM22: =IF(BK22="","Ja","Nein") -> Ja
E23: Beziehungsadressen bearbeiten Verwaltet Nein | G23: =LOOKUP(G$8,$AV$8:$BN$8,$AV23:$BN23) -> x | H23: =LOOKUP(H$8,$AV$8:$BN$8,$AV23:$BN23) -> x | I23: =LOOKUP(I$8,$AV$8:$BN$8,$AV23:$BN23) -> x | J23: =LOOKUP(J$8,$AV$8:$BN$8,$AV23:$BN23) -> x | K23: =LOOKUP(K$8,$AV$8:$BN$8,$AV23:$BN23) -> #N/A | L23: =LOOKUP(L$8,$AV$8:$BN$8,$AV23:$BN23) | M23: =LOOKUP(M$8,$AV$8:$BN$8,$AV23:$BN23) | N23: =LOOKUP(N$8,$AV$8:$BN$8,$AV23:$BN23) | ... AU23: =LOOKUP(AU$8,$AV$8:$BN$8,$AV23:$BN23) -> #N/A | AV23: x | AW23: x | AX23: x | BB23: =IF(AND(E23<>"",AV23=""),"fehler","Ok") -> Ok | BC23: =IF(G23<>"",IF(OR(AV23="",AW23="",AX23="",AY23=""),"Leerzeichen fehlt","Leerzeiche IO"),"") -> Leerzeiche IO | BJ23: ? | BM23: =IF(BK23="","Ja","Nein") -> Ja
E24: Beziehungsadressen bearbeiten Verwaltet Ja | G24: =LOOKUP(G$8,$AV$8:$BN$8,$AV24:$BN24) -> x | H24: =LOOKUP(H$8,$AV$8:$BN$8,$AV24:$BN24) -> x | I24: =LOOKUP(I$8,$AV$8:$BN$8,$AV24:$BN24) -> x | J24: =LOOKUP(J$8,$AV$8:$BN$8,$AV24:$BN24) -> x | K24: =LOOKUP(K$8,$AV$8:$BN$8,$AV24:$BN24) -> #N/A | L24: =LOOKUP(L$8,$AV$8:$BN$8,$AV24:$BN24) | M24: =LOOKUP(M$8,$AV$8:$BN$8,$AV24:$BN24) | N24: =LOOKUP(N$8,$AV$8:$BN$8,$AV24:$BN24) | ... AU24: =LOOKUP(AU$8,$AV$8:$BN$8,$AV24:$BN24) -> #N/A | AV24: x | AW24: x | AX24: x | BB24: =IF(AND(E24<>"",AV24=""),"fehler","Ok") -> Ok | BC24: =IF(G24<>"",IF(OR(AV24="",AW24="",AX24="",AY24=""),"Leerzeichen fehlt","Leerzeiche IO"),"") -> Leerzeiche IO | BJ24: ? | BM24: =IF(BK24="","Ja","Nein") -> Ja
D25: Verbindungsangaben | BB25: =IF(AND(E25<>"",AV25=""),"fehler","Ok") -> Ok | BC25: =IF(G25<>"",IF(OR(AV25="",AW25="",AX25="",AY25=""),"Leerzeichen fehlt","Leerzeiche IO"),"") | BJ25: ? | BM25: =IF(BK25="","Ja","Nein") -> Ja
E26: Daten lesen | G26: =LOOKUP(G$8,$AV$8:$BN$8,$AV26:$BN26) -> x | H26: =LOOKUP(H$8,$AV$8:$BN$8,$AV26:$BN26) -> x | I26: =LOOKUP(I$8,$AV$8:$BN$8,$AV26:$BN26) -> x | J26: =LOOKUP(J$8,$AV$8:$BN$8,$AV26:$BN26) -> x | K26: =LOOKUP(K$8,$AV$8:$BN$8,$AV26:$BN26) -> #N/A | L26: =LOOKUP(L$8,$AV$8:$BN$8,$AV26:$BN26) -> x | M26: =LOOKUP(M$8,$AV$8:$BN$8,$AV26:$BN26) -> x | N26: =LOOKUP(N$8,$AV$8:$BN$8,$AV26:$BN26) -> x | ... AU26: =LOOKUP(AU$8,$AV$8:$BN$8,$AV26:$BN26) -> #N/A | AV26: x | AW26: x | AX26: x | AY26: x | BB26: =IF(AND(E26<>"",AV26=""),"fehler","Ok") -> Ok | BC26: =IF(G26<>"",IF(OR(AV26="",AW26="",AX26="",AY26=""),"Leerzeichen fehlt","Leerzeiche IO"),"") -> Leerzeiche IO | BJ26: ? | BM26: =IF(BK26="","Ja","Nein") -> Ja
E27: Daten erstellen/bearbeiten /kopieren | G27: =LOOKUP(G$8,$AV$8:$BN$8,$AV27:$BN27) -> x | H27: =LOOKUP(H$8,$AV$8:$BN$8,$AV27:$BN27) -> x | I27: =LOOKUP(I$8,$AV$8:$BN$8,$AV27:$BN27) -> x | J27: =LOOKUP(J$8,$AV$8:$BN$8,$AV27:$BN27) -> x | K27: =LOOKUP(K$8,$AV$8:$BN$8,$AV27:$BN27) -> #N/A | L27: =LOOKUP(L$8,$AV$8:$BN$8,$AV27:$BN27) | M27: =LOOKUP(M$8,$AV$8:$BN$8,$AV27:$BN27) | N27: =LOOKUP(N$8,$AV$8:$BN$8,$AV27:$BN27) | ... AU27: =LOOKUP(AU$8,$AV$8:$BN$8,$AV27:$BN27) -> #N/A | AV27: x | AW27: x | AX27: x | BB27: =IF(AND(E27<>"",AV27=""),"fehler","Ok") -> Ok | BC27: =IF(G27<>"",IF(OR(AV27="",AW27="",AX27="",AY27=""),"Leerzeichen fehlt","Leerzeiche IO"),"") -> Leerzeiche IO | BJ27: ? | BM27: =IF(BK27="","Ja","Nein") -> Ja
E28: Daten löschen | G28: =LOOKUP(G$8,$AV$8:$BN$8,$AV28:$BN28) -> x | H28: =LOOKUP(H$8,$AV$8:$BN$8,$AV28:$BN28) -> x | I28: =LOOKUP(I$8,$AV$8:$BN$8,$AV28:$BN28) -> x | J28: =LOOKUP(J$8,$AV$8:$BN$8,$AV28:$BN28) -> x | K28: =LOOKUP(K$8,$AV$8:$BN$8,$AV28:$BN28) -> #N/A | L28: =LOOKUP(L$8,$AV$8:$BN$8,$AV28:$BN28) | M28: =LOOKUP(M$8,$AV$8:$BN$8,$AV28:$BN28) | N28: =LOOKUP(N$8,$AV$8:$BN$8,$AV28:$BN28) | ... AU28: =LOOKUP(AU$8,$AV$8:$BN$8,$AV28:$BN28) -> #N/A | AV28: x | AW28: x | BB28: =IF(AND(E28<>"",AV28=""),"fehler","Ok") -> Ok | BC28: =IF(G28<>"",IF(OR(AV28="",AW28="",AX28="",AY28=""),"Leerzeichen fehlt","Leerzeiche IO"),"") -> Leerzeiche IO | BJ28: ? | BM28: =IF(BK28="","Ja","Nein") -> Ja
D29: Vorgänge | BC29: =IF(G29<>"",IF(OR(AV29="",AW29="",AX29="",AY29=""),"Leerzeichen fehlt","Leerzeiche IO"),"") | BJ29: ? | BM29: =IF(BK29="","Ja","Nein") -> Ja
E30: E-Mail versenden | G30: =LOOKUP(G$8,$AV$8:$BN$8,$AV30:$BN30) -> x | H30: =LOOKUP(H$8,$AV$8:$BN$8,$AV30:$BN30) -> x | I30: =LOOKUP(I$8,$AV$8:$BN$8,$AV30:$BN30) -> x | J30: =LOOKUP(J$8,$AV$8:$BN$8,$AV30:$BN30) -> x | K30: =LOOKUP(K$8,$AV$8:$BN$8,$AV30:$BN30) -> #N/A | L30: =LOOKUP(L$8,$AV$8:$BN$8,$AV30:$BN30) | M30: =LOOKUP(M$8,$AV$8:$BN$8,$AV30:$BN30) | N30: =LOOKUP(N$8,$AV$8:$BN$8,$AV30:$BN30) | ... AU30: =LOOKUP(AU$8,$AV$8:$BN$8,$AV30:$BN30) -> #N/A | AV30: x | AW30: x | AX30: ! | BB30: =IF(AND(E30<>"",AV30=""),"fehler","Ok") -> Ok | BC30: =IF(G30<>"",IF(OR(AV30="",AW30="",AX30="",AY30=""),"Leerzeichen fehlt","Leerzeiche IO"),"") -> Leerzeiche IO | BJ30: ? | BM30: =IF(BK30="","Ja","Nein") -> Ja
E31: MS-Office-Dokumente erstellen | G31: =LOOKUP(G$8,$AV$8:$BN$8,$AV31:$BN31) -> x | H31: =LOOKUP(H$8,$AV$8:$BN$8,$AV31:$BN31) -> x | I31: =LOOKUP(I$8,$AV$8:$BN$8,$AV31:$BN31) -> x | J31: =LOOKUP(J$8,$AV$8:$BN$8,$AV31:$BN31) -> x | K31: =LOOKUP(K$8,$AV$8:$BN$8,$AV31:$BN31) -> #N/A | L31: =LOOKUP(L$8,$AV$8:$BN$8,$AV31:$BN31) | M31: =LOOKUP(M$8,$AV$8:$BN$8,$AV31:$BN31) | N31: =LOOKUP(N$8,$AV$8:$BN$8,$AV31:$BN31) | ... AU31: =LOOKUP(AU$8,$AV$8:$BN$8,$AV31:$BN31) -> #N/A | AV31: x | AW31: x | AX31: ! | BB31: =IF(AND(E31<>"",AV31=""),"fehler","Ok") -> Ok | BC31: =IF(G31<>"",IF(OR(AV31="",AW31="",AX31="",AY31=""),"Leerzeichen fehlt","Leerzeiche IO"),"") -> Leerzeiche IO | BJ31: ? | BM31: =IF(BK31="","Ja","Nein") -> Ja
E32: Dokumenteverzeichnis (bisherige) | G32: =LOOKUP(G$8,$AV$8:$BN$8,$AV32:$BN32) -> x | H32: =LOOKUP(H$8,$AV$8:$BN$8,$AV32:$BN32) -> x | I32: =LOOKUP(I$8,$AV$8:$BN$8,$AV32:$BN32) -> x | J32: =LOOKUP(J$8,$AV$8:$BN$8,$AV32:$BN32) -> x | K32: =LOOKUP(K$8,$AV$8:$BN$8,$AV32:$BN32) -> #N/A | L32: =LOOKUP(L$8,$AV$8:$BN$8,$AV32:$BN32) | M32: =LOOKUP(M$8,$AV$8:$BN$8,$AV32:$BN32) | N32: =LOOKUP(N$8,$AV$8:$BN$8,$AV32:$BN32) | ... AU32: =LOOKUP(AU$8,$AV$8:$BN$8,$AV32:$BN32) -> #N/A | AV32: x | AW32: x | AX32: ! | BB32: =IF(AND(E32<>"",AV32=""),"fehler","Ok") -> Ok | BC32: =IF(G32<>"",IF(OR(AV32="",AW32="",AX32="",AY32=""),"Leerzeichen fehlt","Leerzeiche IO"),"") -> Leerzeiche IO | BJ32: ? | BM32: =IF(BK32="","Ja","Nein") -> Ja
E33: Drucken | G33: =LOOKUP(G$8,$AV$8:$BN$8,$AV33:$BN33) -> x | H33: =LOOKUP(H$8,$AV$8:$BN$8,$AV33:$BN33) -> x | I33: =LOOKUP(I$8,$AV$8:$BN$8,$AV33:$BN33) -> x | J33: =LOOKUP(J$8,$AV$8:$BN$8,$AV33:$BN33) -> x | K33: =LOOKUP(K$8,$AV$8:$BN$8,$AV33:$BN33) -> #N/A | L33: =LOOKUP(L$8,$AV$8:$BN$8,$AV33:$BN33) | M33: =LOOKUP(M$8,$AV$8:$BN$8,$AV33:$BN33) | N33: =LOOKUP(N$8,$AV$8:$BN$8,$AV33:$BN33) | ... AU33: =LOOKUP(AU$8,$AV$8:$BN$8,$AV33:$BN33) -> #N/A | AV33: x | AW33: x | AX33: ! | BB33: =IF(AND(E33<>"",AV33=""),"fehler","Ok") -> Ok | BC33: =IF(G33<>"",IF(OR(AV33="",AW33="",AX33="",AY33=""),"Leerzeichen fehlt","Leerzeiche IO"),"") -> Leerzeiche IO | BJ33: ? | BM33: =IF(BK33="","Ja","Nein") -> Ja
E34: Gruppenzuweisung für Selektion | G34: =LOOKUP(G$8,$AV$8:$BN$8,$AV34:$BN34) -> x | H34: =LOOKUP(H$8,$AV$8:$BN$8,$AV34:$BN34) -> x | I34: =LOOKUP(I$8,$AV$8:$BN$8,$AV34:$BN34) -> x | J34: =LOOKUP(J$8,$AV$8:$BN$8,$AV34:$BN34) -> x | K34: =LOOKUP(K$8,$AV$8:$BN$8,$AV34:$BN34) -> #N/A | L34: =LOOKUP(L$8,$AV$8:$BN$8,$AV34:$BN34) | M34: =LOOKUP(M$8,$AV$8:$BN$8,$AV34:$BN34) | N34: =LOOKUP(N$8,$AV$8:$BN$8,$AV34:$BN34) | ... AU34: =LOOKUP(AU$8,$AV$8:$BN$8,$AV34:$BN34) -> #N/A | AV34: x | AW34: x | AX34: ! | BB34: =IF(AND(E34<>"",AV34=""),"fehler","Ok") -> Ok | BC34: =IF(G34<>"",IF(OR(AV34="",AW34="",AX34="",AY34=""),"Leerzeichen fehlt","Leerzeiche IO"),"") -> Leerzeiche IO | BJ34: ? | BM34: =IF(BK34="","Ja","Nein") -> Ja
E35: Notiz für Selektion generieren | G35: =LOOKUP(G$8,$AV$8:$BN$8,$AV35:$BN35) -> x | H35: =LOOKUP(H$8,$AV$8:$BN$8,$AV35:$BN35) -> x | I35: =LOOKUP(I$8,$AV$8:$BN$8,$AV35:$BN35) -> x | J35: =LOOKUP(J$8,$AV$8:$BN$8,$AV35:$BN35) -> x | K35: =LOOKUP(K$8,$AV$8:$BN$8,$AV35:$BN35) -> #N/A | L35: =LOOKUP(L$8,$AV$8:$BN$8,$AV35:$BN35) | M35: =LOOKUP(M$8,$AV$8:$BN$8,$AV35:$BN35) | N35: =LOOKUP(N$8,$AV$8:$BN$8,$AV35:$BN35) | ... AU35: =LOOKUP(AU$8,$AV$8:$BN$8,$AV35:$BN35) -> #N/A | AV35: x | AW35: x | AX35: ! | BB35: =IF(AND(E35<>"",AV35=""),"fehler","Ok") -> Ok | BC35: =IF(G35<>"",IF(OR(AV35="",AW35="",AX35="",AY35=""),"Leerzeichen fehlt","Leerzeiche IO"),"") -> Leerzeiche IO | BJ35: ? | BM35: =IF(BK35="","Ja","Nein") -> Ja
E36: Mitglieder-Briefanrede generieren selektiert | G36: =LOOKUP(G$8,$AV$8:$BN$8,$AV36:$BN36) -> x | H36: =LOOKUP(H$8,$AV$8:$BN$8,$AV36:$BN36) -> x | I36: =LOOKUP(I$8,$AV$8:$BN$8,$AV36:$BN36) -> x | J36: =LOOKUP(J$8,$AV$8:$BN$8,$AV36:$BN36) -> x | K36: =LOOKUP(K$8,$AV$8:$BN$8,$AV36:$BN36) -> #N/A | L36: =LOOKUP(L$8,$AV$8:$BN$8,$AV36:$BN36) | M36: =LOOKUP(M$8,$AV$8:$BN$8,$AV36:$BN36) | N36: =LOOKUP(N$8,$AV$8:$BN$8,$AV36:$BN36) | ... AU36: =LOOKUP(AU$8,$AV$8:$BN$8,$AV36:$BN36) -> #N/A | AV36: x | AW36: x | AX36: ! | BB36: =IF(AND(E36<>"",AV36=""),"fehler","Ok") -> Ok | BC36: =IF(G36<>"",IF(OR(AV36="",AW36="",AX36="",AY36=""),"Leerzeichen fehlt","Leerzeiche IO"),"") -> Leerzeiche IO | BJ36: ? | BM36: =IF(BK36="","Ja","Nein") -> Ja
E37: Adress-Briefanrede generieren selektiert | G37: =LOOKUP(G$8,$AV$8:$BN$8,$AV37:$BN37) -> x | H37: =LOOKUP(H$8,$AV$8:$BN$8,$AV37:$BN37) -> x | I37: =LOOKUP(I$8,$AV$8:$BN$8,$AV37:$BN37) -> x | J37: =LOOKUP(J$8,$AV$8:$BN$8,$AV37:$BN37) -> x | K37: =LOOKUP(K$8,$AV$8:$BN$8,$AV37:$BN37) -> #N/A | L37: =LOOKUP(L$8,$AV$8:$BN$8,$AV37:$BN37) | M37: =LOOKUP(M$8,$AV$8:$BN$8,$AV37:$BN37) | N37: =LOOKUP(N$8,$AV$8:$BN$8,$AV37:$BN37) | ... AU37: =LOOKUP(AU$8,$AV$8:$BN$8,$AV37:$BN37) -> #N/A | AV37: x | AW37: x | AX37: ! | BB37: =IF(AND(E37<>"",AV37=""),"fehler","Ok") -> Ok | BC37: =IF(G37<>"",IF(OR(AV37="",AW37="",AX37="",AY37=""),"Leerzeichen fehlt","Leerzeiche IO"),"") -> Leerzeiche IO | BJ37: ? | BM37: =IF(BK37="","Ja","Nein") -> Ja
E38: Ettikettendruck | G38: =LOOKUP(G$8,$AV$8:$BN$8,$AV38:$BN38) -> x | H38: =LOOKUP(H$8,$AV$8:$BN$8,$AV38:$BN38) -> x | I38: =LOOKUP(I$8,$AV$8:$BN$8,$AV38:$BN38) -> x | J38: =LOOKUP(J$8,$AV$8:$BN$8,$AV38:$BN38) -> x | K38: =LOOKUP(K$8,$AV$8:$BN$8,$AV38:$BN38) -> #N/A | L38: =LOOKUP(L$8,$AV$8:$BN$8,$AV38:$BN38) | M38: =LOOKUP(M$8,$AV$8:$BN$8,$AV38:$BN38) | N38: =LOOKUP(N$8,$AV$8:$BN$8,$AV38:$BN38) | ... AU38: =LOOKUP(AU$8,$AV$8:$BN$8,$AV38:$BN38) -> #N/A | AV38: x | AW38: x | AX38: ! | BB38: =IF(AND(E38<>"",AV38=""),"fehler","Ok") -> Ok | BC38: =IF(G38<>"",IF(OR(AV38="",AW38="",AX38="",AY38=""),"Leerzeichen fehlt","Leerzeiche IO"),"") -> Leerzeiche IO | BJ38: ? | BM38: =IF(BK38="","Ja","Nein") -> Ja
E39: Status ändern selektiert | G39: =LOOKUP(G$8,$AV$8:$BN$8,$AV39:$BN39) -> x | H39: =LOOKUP(H$8,$AV$8:$BN$8,$AV39:$BN39) -> x | I39: =LOOKUP(I$8,$AV$8:$BN$8,$AV39:$BN39) -> x | J39: =LOOKUP(J$8,$AV$8:$BN$8,$AV39:$BN39) -> x | K39: =LOOKUP(K$8,$AV$8:$BN$8,$AV39:$BN39) -> #N/A | L39: =LOOKUP(L$8,$AV$8:$BN$8,$AV39:$BN39) | M39: =LOOKUP(M$8,$AV$8:$BN$8,$AV39:$BN39) | N39: =LOOKUP(N$8,$AV$8:$BN$8,$AV39:$BN39) | ... AU39: =LOOKUP(AU$8,$AV$8:$BN$8,$AV39:$BN39) -> #N/A | AV39: x | AW39: x | AX39: ! | BB39: =IF(AND(E39<>"",AV39=""),"fehler","Ok") -> Ok | BC39: =IF(G39<>"",IF(OR(AV39="",AW39="",AX39="",AY39=""),"Leerzeichen fehlt","Leerzeiche IO"),"") -> Leerzeiche IO | BJ39: ? | BM39: =IF(BK39="","Ja","Nein") -> Ja
E40: Mitglieder-Gruppenzuweisung aktualisieren | G40: =LOOKUP(G$8,$AV$8:$BN$8,$AV40:$BN40) -> x | H40: =LOOKUP(H$8,$AV$8:$BN$8,$AV40:$BN40) -> ! | I40: =LOOKUP(I$8,$AV$8:$BN$8,$AV40:$BN40) -> ! | J40: =LOOKUP(J$8,$AV$8:$BN$8,$AV40:$BN40) -> ! | K40: =LOOKUP(K$8,$AV$8:$BN$8,$AV40:$BN40) -> #N/A | L40: =LOOKUP(L$8,$AV$8:$BN$8,$AV40:$BN40) | M40: =LOOKUP(M$8,$AV$8:$BN$8,$AV40:$BN40) | N40: =LOOKUP(N$8,$AV$8:$BN$8,$AV40:$BN40) | ... AU40: =LOOKUP(AU$8,$AV$8:$BN$8,$AV40:$BN40) -> #N/A | AV40: x | AW40: ! | AX40: ! | BB40: =IF(AND(E40<>"",AV40=""),"fehler","Ok") -> Ok | BC40: =IF(G40<>"",IF(OR(AV40="",AW40="",AX40="",AY40=""),"Leerzeichen fehlt","Leerzeiche IO"),"") -> Leerzeiche IO | BJ40: ? | BM40: =IF(BK40="","Ja","Nein") -> Ja
E41: Kunden-Gruppenzuweisung aktualisieren | G41: =LOOKUP(G$8,$AV$8:$BN$8,$AV41:$BN41) -> x | H41: =LOOKUP(H$8,$AV$8:$BN$8,$AV41:$BN41) -> ! | I41: =LOOKUP(I$8,$AV$8:$BN$8,$AV41:$BN41) -> ! | J41: =LOOKUP(J$8,$AV$8:$BN$8,$AV41:$BN41) -> ! | K41: =LOOKUP(K$8,$AV$8:$BN$8,$AV41:$BN41) -> #N/A | L41: =LOOKUP(L$8,$AV$8:$BN$8,$AV41:$BN41) | M41: =LOOKUP(M$8,$AV$8:$BN$8,$AV41:$BN41) | N41: =LOOKUP(N$8,$AV$8:$BN$8,$AV41:$BN41) | ... AU41: =LOOKUP(AU$8,$AV$8:$BN$8,$AV41:$BN41) -> #N/A | AV41: x | AW41: ! | AX41: ! | BB41: =IF(AND(E41<>"",AV41=""),"fehler","Ok") -> Ok | BC41: =IF(G41<>"",IF(OR(AV41="",AW41="",AX41="",AY41=""),"Leerzeichen fehlt","Leerzeiche IO"),"") -> Leerzeiche IO | BJ41: ? | BM41: =IF(BK41="","Ja","Nein") -> Ja
E42: MS-Office-Vorlagen bearbeiten | G42: =LOOKUP(G$8,$AV$8:$BN$8,$AV42:$BN42) -> x | H42: =LOOKUP(H$8,$AV$8:$BN$8,$AV42:$BN42) -> ! | I42: =LOOKUP(I$8,$AV$8:$BN$8,$AV42:$BN42) -> ! | J42: =LOOKUP(J$8,$AV$8:$BN$8,$AV42:$BN42) -> ! | K42: =LOOKUP(K$8,$AV$8:$BN$8,$AV42:$BN42) -> #N/A | L42: =LOOKUP(L$8,$AV$8:$BN$8,$AV42:$BN42) | M42: =LOOKUP(M$8,$AV$8:$BN$8,$AV42:$BN42) | N42: =LOOKUP(N$8,$AV$8:$BN$8,$AV42:$BN42) | ... AU42: =LOOKUP(AU$8,$AV$8:$BN$8,$AV42:$BN42) -> #N/A | AV42: x | AW42: ! | AX42: ! | BB42: =IF(AND(E42<>"",AV42=""),"fehler","Ok") -> Ok | BC42: =IF(G42<>"",IF(OR(AV42="",AW42="",AX42="",AY42=""),"Leerzeichen fehlt","Leerzeiche IO"),"") -> Leerzeiche IO | BJ42: ? | BM42: =IF(BK42="","Ja","Nein") -> Ja
E43: Import/Export | G43: =LOOKUP(G$8,$AV$8:$BN$8,$AV43:$BN43) -> x | H43: =LOOKUP(H$8,$AV$8:$BN$8,$AV43:$BN43) | I43: =LOOKUP(I$8,$AV$8:$BN$8,$AV43:$BN43) | J43: =LOOKUP(J$8,$AV$8:$BN$8,$AV43:$BN43) | K43: =LOOKUP(K$8,$AV$8:$BN$8,$AV43:$BN43) -> #N/A | L43: =LOOKUP(L$8,$AV$8:$BN$8,$AV43:$BN43) | M43: =LOOKUP(M$8,$AV$8:$BN$8,$AV43:$BN43) | N43: =LOOKUP(N$8,$AV$8:$BN$8,$AV43:$BN43) | ... AU43: =LOOKUP(AU$8,$AV$8:$BN$8,$AV43:$BN43) -> #N/A | AV43: x | BB43: =IF(AND(E43<>"",AV43=""),"fehler","Ok") -> Ok | BC43: =IF(G43<>"",IF(OR(AV43="",AW43="",AX43="",AY43=""),"Leerzeichen fehlt","Leerzeiche IO"),"") -> Leerzeiche IO | BJ43: ? | BM43: =IF(BK43="","Ja","Nein") -> Ja
E44: Mitarbeiter-Dokumentenverzeichnis (bisherige) | G44: =LOOKUP(G$8,$AV$8:$BN$8,$AV44:$BN44) -> x | H44: =LOOKUP(H$8,$AV$8:$BN$8,$AV44:$BN44) | I44: =LOOKUP(I$8,$AV$8:$BN$8,$AV44:$BN44) | J44: =LOOKUP(J$8,$AV$8:$BN$8,$AV44:$BN44) | K44: =LOOKUP(K$8,$AV$8:$BN$8,$AV44:$BN44) -> #N/A | L44: =LOOKUP(L$8,$AV$8:$BN$8,$AV44:$BN44) | M44: =LOOKUP(M$8,$AV$8:$BN$8,$AV44:$BN44) | N44: =LOOKUP(N$8,$AV$8:$BN$8,$AV44:$BN44) | ... AU44: =LOOKUP(AU$8,$AV$8:$BN$8,$AV44:$BN44) -> #N/A | AV44: x | BB44: =IF(AND(E44<>"",AV44=""),"fehler","Ok") -> Ok | BC44: =IF(G44<>"",IF(OR(AV44="",AW44="",AX44="",AY44=""),"Leerzeichen fehlt","Leerzeiche IO"),"") -> Leerzeiche IO | BJ44: ? | BM44: =IF(BK44="","Ja","Nein") -> Ja
E45: Adressen bereinigen | G45: =LOOKUP(G$8,$AV$8:$BN$8,$AV45:$BN45) -> x | H45: =LOOKUP(H$8,$AV$8:$BN$8,$AV45:$BN45) | I45: =LOOKUP(I$8,$AV$8:$BN$8,$AV45:$BN45) | J45: =LOOKUP(J$8,$AV$8:$BN$8,$AV45:$BN45) | K45: =LOOKUP(K$8,$AV$8:$BN$8,$AV45:$BN45) -> #N/A | L45: =LOOKUP(L$8,$AV$8:$BN$8,$AV45:$BN45) | M45: =LOOKUP(M$8,$AV$8:$BN$8,$AV45:$BN45) | N45: =LOOKUP(N$8,$AV$8:$BN$8,$AV45:$BN45) | ... AU45: =LOOKUP(AU$8,$AV$8:$BN$8,$AV45:$BN45) -> #N/A | AV45: x | BB45: =IF(AND(E45<>"",AV45=""),"fehler","Ok") -> Ok | BC45: =IF(G45<>"",IF(OR(AV45="",AW45="",AX45="",AY45=""),"Leerzeichen fehlt","Leerzeiche IO"),"") -> Leerzeiche IO | BJ45: ? | BM45: =IF(BK45="","Ja","Nein") -> Ja
D46: Stammdaten | BB46: =IF(AND(E46<>"",AV46=""),"fehler","Ok") -> Ok | BC46: =IF(G46<>"",IF(OR(AV46="",AW46="",AX46="",AY46=""),"Leerzeichen fehlt","Leerzeiche IO"),"") | BJ46: ? | BM46: =IF(BK46="","Ja","Nein") -> Ja
D47: > Versandtypenverwaltung | BB47: =IF(AND(E47<>"",AV47=""),"fehler","Ok") -> Ok | BC47: =IF(G47<>"",IF(OR(AV47="",AW47="",AX47="",AY47=""),"Leerzeichen fehlt","Leerzeiche IO"),"") | BJ47: ? | BM47: =IF(BK47="","Ja","Nein") -> Ja
E48: Daten lesen | G48: =LOOKUP(G$8,$AV$8:$BN$8,$AV48:$BN48) -> x | H48: =LOOKUP(H$8,$AV$8:$BN$8,$AV48:$BN48) -> x | I48: =LOOKUP(I$8,$AV$8:$BN$8,$AV48:$BN48) -> x | J48: =LOOKUP(J$8,$AV$8:$BN$8,$AV48:$BN48) -> x | K48: =LOOKUP(K$8,$AV$8:$BN$8,$AV48:$BN48) -> #N/A | L48: =LOOKUP(L$8,$AV$8:$BN$8,$AV48:$BN48) -> x | M48: =LOOKUP(M$8,$AV$8:$BN$8,$AV48:$BN48) -> x | N48: =LOOKUP(N$8,$AV$8:$BN$8,$AV48:$BN48) -> x | ... AU48: =LOOKUP(AU$8,$AV$8:$BN$8,$AV48:$BN48) -> #N/A | AV48: x | AW48: x | AX48: x | AY48: x | BB48: =IF(AND(E48<>"",AV48=""),"fehler","Ok") -> Ok | BC48: =IF(G48<>"",IF(OR(AV48="",AW48="",AX48="",AY48=""),"Leerzeichen fehlt","Leerzeiche IO"),"") -> Leerzeiche IO | BJ48: ? | BM48: =IF(BK48="","Ja","Nein") -> Ja
E49: Daten erstellen/bearbeiten/kopieren | G49: =LOOKUP(G$8,$AV$8:$BN$8,$AV49:$BN49) -> x | H49: =LOOKUP(H$8,$AV$8:$BN$8,$AV49:$BN49) -> x | I49: =LOOKUP(I$8,$AV$8:$BN$8,$AV49:$BN49) -> x | J49: =LOOKUP(J$8,$AV$8:$BN$8,$AV49:$BN49) -> x | K49: =LOOKUP(K$8,$AV$8:$BN$8,$AV49:$BN49) -> #N/A | L49: =LOOKUP(L$8,$AV$8:$BN$8,$AV49:$BN49) | M49: =LOOKUP(M$8,$AV$8:$BN$8,$AV49:$BN49) | N49: =LOOKUP(N$8,$AV$8:$BN$8,$AV49:$BN49) | ... AU49: =LOOKUP(AU$8,$AV$8:$BN$8,$AV49:$BN49) -> #N/A | AV49: x | AW49: x | AX49: x | BB49: =IF(AND(E49<>"",AV49=""),"fehler","Ok") -> Ok | BC49: =IF(G49<>"",IF(OR(AV49="",AW49="",AX49="",AY49=""),"Leerzeichen fehlt","Leerzeiche IO"),"") -> Leerzeiche IO | BJ49: ? | BM49: =IF(BK49="","Ja","Nein") -> Ja
E50: Daten löschen | G50: =LOOKUP(G$8,$AV$8:$BN$8,$AV50:$BN50) -> x | H50: =LOOKUP(H$8,$AV$8:$BN$8,$AV50:$BN50) -> x | I50: =LOOKUP(I$8,$AV$8:$BN$8,$AV50:$BN50) -> x | J50: =LOOKUP(J$8,$AV$8:$BN$8,$AV50:$BN50) -> x | K50: =LOOKUP(K$8,$AV$8:$BN$8,$AV50:$BN50) -> #N/A | L50: =LOOKUP(L$8,$AV$8:$BN$8,$AV50:$BN50) | M50: =LOOKUP(M$8,$AV$8:$BN$8,$AV50:$BN50) | N50: =LOOKUP(N$8,$AV$8:$BN$8,$AV50:$BN50) | ... AU50: =LOOKUP(AU$8,$AV$8:$BN$8,$AV50:$BN50) -> #N/A | AV50: x | AW50: x | BB50: =IF(AND(E50<>"",AV50=""),"fehler","Ok") -> Ok | BC50: =IF(G50<>"",IF(OR(AV50="",AW50="",AX50="",AY50=""),"Leerzeichen fehlt","Leerzeiche IO"),"") -> Leerzeiche IO | BJ50: ? | BM50: =IF(BK50="","Ja","Nein") -> Ja
D51: > Beziehungsarten | BB51: =IF(AND(E51<>"",AV51=""),"fehler","Ok") -> Ok | BC51: =IF(G51<>"",IF(OR(AV51="",AW51="",AX51="",AY51=""),"Leerzeichen fehlt","Leerzeiche IO"),"") | BJ51: ? | BM51: =IF(BK51="","Ja","Nein") -> Ja
E52: Daten lesen | G52: =LOOKUP(G$8,$AV$8:$BN$8,$AV52:$BN52) -> x | H52: =LOOKUP(H$8,$AV$8:$BN$8,$AV52:$BN52) -> x | I52: =LOOKUP(I$8,$AV$8:$BN$8,$AV52:$BN52) -> x | J52: =LOOKUP(J$8,$AV$8:$BN$8,$AV52:$BN52) -> x | K52: =LOOKUP(K$8,$AV$8:$BN$8,$AV52:$BN52) -> #N/A | L52: =LOOKUP(L$8,$AV$8:$BN$8,$AV52:$BN52) -> x | M52: =LOOKUP(M$8,$AV$8:$BN$8,$AV52:$BN52) -> x | N52: =LOOKUP(N$8,$AV$8:$BN$8,$AV52:$BN52) -> x | ... AU52: =LOOKUP(AU$8,$AV$8:$BN$8,$AV52:$BN52) -> #N/A | AV52: x | AW52: x | AX52: x | AY52: x | BB52: =IF(AND(E52<>"",AV52=""),"fehler","Ok") -> Ok | BC52: =IF(G52<>"",IF(OR(AV52="",AW52="",AX52="",AY52=""),"Leerzeichen fehlt","Leerzeiche IO"),"") -> Leerzeiche IO | BJ52: ? | BM52: =IF(BK52="","Ja","Nein") -> Ja
E53: Daten erstellen/bearbeiten/kopieren | G53: =LOOKUP(G$8,$AV$8:$BN$8,$AV53:$BN53) -> x | H53: =LOOKUP(H$8,$AV$8:$BN$8,$AV53:$BN53) -> x | I53: =LOOKUP(I$8,$AV$8:$BN$8,$AV53:$BN53) -> x | J53: =LOOKUP(J$8,$AV$8:$BN$8,$AV53:$BN53) -> x | K53: =LOOKUP(K$8,$AV$8:$BN$8,$AV53:$BN53) -> #N/A | L53: =LOOKUP(L$8,$AV$8:$BN$8,$AV53:$BN53) | M53: =LOOKUP(M$8,$AV$8:$BN$8,$AV53:$BN53) | N53: =LOOKUP(N$8,$AV$8:$BN$8,$AV53:$BN53) | ... AU53: =LOOKUP(AU$8,$AV$8:$BN$8,$AV53:$BN53) -> #N/A | AV53: x | AW53: x | AX53: x | BB53: =IF(AND(E53<>"",AV53=""),"fehler","Ok") -> Ok | BC53: =IF(G53<>"",IF(OR(AV53="",AW53="",AX53="",AY53=""),"Leerzeichen fehlt","Leerzeiche IO"),"") -> Leerzeiche IO | BJ53: ? | BM53: =IF(BK53="","Ja","Nein") -> Ja
E54: Daten löschen | G54: =LOOKUP(G$8,$AV$8:$BN$8,$AV54:$BN54) -> x | H54: =LOOKUP(H$8,$AV$8:$BN$8,$AV54:$BN54) -> x | I54: =LOOKUP(I$8,$AV$8:$BN$8,$AV54:$BN54) -> x | J54: =LOOKUP(J$8,$AV$8:$BN$8,$AV54:$BN54) -> x | K54: =LOOKUP(K$8,$AV$8:$BN$8,$AV54:$BN54) -> #N/A | L54: =LOOKUP(L$8,$AV$8:$BN$8,$AV54:$BN54) | M54: =LOOKUP(M$8,$AV$8:$BN$8,$AV54:$BN54) | N54: =LOOKUP(N$8,$AV$8:$BN$8,$AV54:$BN54) | ... AU54: =LOOKUP(AU$8,$AV$8:$BN$8,$AV54:$BN54) -> #N/A | AV54: x | AW54: x | BB54: =IF(AND(E54<>"",AV54=""),"fehler","Ok") -> Ok | BC54: =IF(G54<>"",IF(OR(AV54="",AW54="",AX54="",AY54=""),"Leerzeichen fehlt","Leerzeiche IO"),"") -> Leerzeiche IO | BJ54: ? | BM54: =IF(BK54="","Ja","Nein") -> Ja
D55: > Ortschaften | BB55: =IF(AND(E55<>"",AV55=""),"fehler","Ok") -> Ok | BC55: =IF(G55<>"",IF(OR(AV55="",AW55="",AX55="",AY55=""),"Leerzeichen fehlt","Leerzeiche IO"),"") | BJ55: ? | BM55: =IF(BK55="","Ja","Nein") -> Ja
E56: Daten lesen | G56: =LOOKUP(G$8,$AV$8:$BN$8,$AV56:$BN56) -> x | H56: =LOOKUP(H$8,$AV$8:$BN$8,$AV56:$BN56) -> x | I56: =LOOKUP(I$8,$AV$8:$BN$8,$AV56:$BN56) -> x | J56: =LOOKUP(J$8,$AV$8:$BN$8,$AV56:$BN56) -> x | K56: =LOOKUP(K$8,$AV$8:$BN$8,$AV56:$BN56) -> #N/A | L56: =LOOKUP(L$8,$AV$8:$BN$8,$AV56:$BN56) -> x | M56: =LOOKUP(M$8,$AV$8:$BN$8,$AV56:$BN56) -> x | N56: =LOOKUP(N$8,$AV$8:$BN$8,$AV56:$BN56) -> x | ... AU56: =LOOKUP(AU$8,$AV$8:$BN$8,$AV56:$BN56) -> #N/A | AV56: x | AW56: x | AX56: x | AY56: x | BB56: =IF(AND(E56<>"",AV56=""),"fehler","Ok") -> Ok | BC56: =IF(G56<>"",IF(OR(AV56="",AW56="",AX56="",AY56=""),"Leerzeichen fehlt","Leerzeiche IO"),"") -> Leerzeiche IO | BJ56: ? | BM56: =IF(BK56="","Ja","Nein") -> Ja
E57: Daten erstellen/bearbeiten/kopieren | G57: =LOOKUP(G$8,$AV$8:$BN$8,$AV57:$BN57) -> x | H57: =LOOKUP(H$8,$AV$8:$BN$8,$AV57:$BN57) -> x | I57: =LOOKUP(I$8,$AV$8:$BN$8,$AV57:$BN57) -> x | J57: =LOOKUP(J$8,$AV$8:$BN$8,$AV57:$BN57) -> x | K57: =LOOKUP(K$8,$AV$8:$BN$8,$AV57:$BN57) -> #N/A | L57: =LOOKUP(L$8,$AV$8:$BN$8,$AV57:$BN57) | M57: =LOOKUP(M$8,$AV$8:$BN$8,$AV57:$BN57) | N57: =LOOKUP(N$8,$AV$8:$BN$8,$AV57:$BN57) | ... AU57: =LOOKUP(AU$8,$AV$8:$BN$8,$AV57:$BN57) -> #N/A | AV57: x | AW57: x | AX57: x | BB57: =IF(AND(E57<>"",AV57=""),"fehler","Ok") -> Ok | BC57: =IF(G57<>"",IF(OR(AV57="",AW57="",AX57="",AY57=""),"Leerzeichen fehlt","Leerzeiche IO"),"") -> Leerzeiche IO | BJ57: ? | BM57: =IF(BK57="","Ja","Nein") -> Ja
E58: Daten löschen | G58: =LOOKUP(G$8,$AV$8:$BN$8,$AV58:$BN58) -> x | H58: =LOOKUP(H$8,$AV$8:$BN$8,$AV58:$BN58) -> x | I58: =LOOKUP(I$8,$AV$8:$BN$8,$AV58:$BN58) -> x | J58: =LOOKUP(J$8,$AV$8:$BN$8,$AV58:$BN58) -> x | K58: =LOOKUP(K$8,$AV$8:$BN$8,$AV58:$BN58) -> #N/A | L58: =LOOKUP(L$8,$AV$8:$BN$8,$AV58:$BN58) | M58: =LOOKUP(M$8,$AV$8:$BN$8,$AV58:$BN58) | N58: =LOOKUP(N$8,$AV$8:$BN$8,$AV58:$BN58) | ... AU58: =LOOKUP(AU$8,$AV$8:$BN$8,$AV58:$BN58) -> #N/A | AV58: x | AW58: x | BB58: =IF(AND(E58<>"",AV58=""),"fehler","Ok") -> Ok | BC58: =IF(G58<>"",IF(OR(AV58="",AW58="",AX58="",AY58=""),"Leerzeichen fehlt","Leerzeiche IO"),"") -> Leerzeiche IO | BJ58: ? | BM58: =IF(BK58="","Ja","Nein") -> Ja
D59: > Länder | BB59: =IF(AND(E59<>"",AV59=""),"fehler","Ok") -> Ok | BC59: =IF(G59<>"",IF(OR(AV59="",AW59="",AX59="",AY59=""),"Leerzeichen fehlt","Leerzeiche IO"),"") | BJ59: ? | BM59: =IF(BK59="","Ja","Nein") -> Ja
E60: Daten lesen | G60: =LOOKUP(G$8,$AV$8:$BN$8,$AV60:$BN60) -> x | H60: =LOOKUP(H$8,$AV$8:$BN$8,$AV60:$BN60) -> x | I60: =LOOKUP(I$8,$AV$8:$BN$8,$AV60:$BN60) -> x | J60: =LOOKUP(J$8,$AV$8:$BN$8,$AV60:$BN60) -> x | K60: =LOOKUP(K$8,$AV$8:$BN$8,$AV60:$BN60) -> #N/A | L60: =LOOKUP(L$8,$AV$8:$BN$8,$AV60:$BN60) -> x | M60: =LOOKUP(M$8,$AV$8:$BN$8,$AV60:$BN60) -> x | N60: =LOOKUP(N$8,$AV$8:$BN$8,$AV60:$BN60) -> x | ... AU60: =LOOKUP(AU$8,$AV$8:$BN$8,$AV60:$BN60) -> #N/A | AV60: x | AW60: x | AX60: x | AY60: x | BB60: =IF(AND(E60<>"",AV60=""),"fehler","Ok") -> Ok | BC60: =IF(G60<>"",IF(OR(AV60="",AW60="",AX60="",AY60=""),"Leerzeichen fehlt","Leerzeiche IO"),"") -> Leerzeiche IO | BJ60: ? | BM60: =IF(BK60="","Ja","Nein") -> Ja
E61: Daten erstellen/bearbeiten/kopieren | G61: =LOOKUP(G$8,$AV$8:$BN$8,$AV61:$BN61) -> x | H61: =LOOKUP(H$8,$AV$8:$BN$8,$AV61:$BN61) -> x | I61: =LOOKUP(I$8,$AV$8:$BN$8,$AV61:$BN61) -> x | J61: =LOOKUP(J$8,$AV$8:$BN$8,$AV61:$BN61) -> x | K61: =LOOKUP(K$8,$AV$8:$BN$8,$AV61:$BN61) -> #N/A | L61: =LOOKUP(L$8,$AV$8:$BN$8,$AV61:$BN61) | M61: =LOOKUP(M$8,$AV$8:$BN$8,$AV61:$BN61) | N61: =LOOKUP(N$8,$AV$8:$BN$8,$AV61:$BN61) | ... AU61: =LOOKUP(AU$8,$AV$8:$BN$8,$AV61:$BN61) -> #N/A | AV61: x | AW61: x | AX61: x | BB61: =IF(AND(E61<>"",AV61=""),"fehler","Ok") -> Ok | BC61: =IF(G61<>"",IF(OR(AV61="",AW61="",AX61="",AY61=""),"Leerzeichen fehlt","Leerzeiche IO"),"") -> Leerzeiche IO | BJ61: ? | BM61: =IF(BK61="","Ja","Nein") -> Ja
E62: Daten löschen | G62: =LOOKUP(G$8,$AV$8:$BN$8,$AV62:$BN62) -> x | H62: =LOOKUP(H$8,$AV$8:$BN$8,$AV62:$BN62) -> x | I62: =LOOKUP(I$8,$AV$8:$BN$8,$AV62:$BN62) -> x | J62: =LOOKUP(J$8,$AV$8:$BN$8,$AV62:$BN62) -> x | K62: =LOOKUP(K$8,$AV$8:$BN$8,$AV62:$BN62) -> #N/A | L62: =LOOKUP(L$8,$AV$8:$BN$8,$AV62:$BN62) | M62: =LOOKUP(M$8,$AV$8:$BN$8,$AV62:$BN62) | N62: =LOOKUP(N$8,$AV$8:$BN$8,$AV62:$BN62) | ... AU62: =LOOKUP(AU$8,$AV$8:$BN$8,$AV62:$BN62) -> #N/A | AV62: x | AW62: x | BB62: =IF(AND(E62<>"",AV62=""),"fehler","Ok") -> Ok | BC62: =IF(G62<>"",IF(OR(AV62="",AW62="",AX62="",AY62=""),"Leerzeichen fehlt","Leerzeiche IO"),"") -> Leerzeiche IO | BJ62: ? | BM62: =IF(BK62="","Ja","Nein") -> Ja
D63: > Quartiere | BB63: =IF(AND(E63<>"",AV63=""),"fehler","Ok") -> Ok | BC63: =IF(G63<>"",IF(OR(AV63="",AW63="",AX63="",AY63=""),"Leerzeichen fehlt","Leerzeiche IO"),"") | BJ63: ? | BM63: =IF(BK63="","Ja","Nein") -> Ja
E64: Daten lesen | G64: =LOOKUP(G$8,$AV$8:$BN$8,$AV64:$BN64) -> x | H64: =LOOKUP(H$8,$AV$8:$BN$8,$AV64:$BN64) -> x | I64: =LOOKUP(I$8,$AV$8:$BN$8,$AV64:$BN64) -> x | J64: =LOOKUP(J$8,$AV$8:$BN$8,$AV64:$BN64) -> x | K64: =LOOKUP(K$8,$AV$8:$BN$8,$AV64:$BN64) -> #N/A | L64: =LOOKUP(L$8,$AV$8:$BN$8,$AV64:$BN64) -> x | M64: =LOOKUP(M$8,$AV$8:$BN$8,$AV64:$BN64) -> x | N64: =LOOKUP(N$8,$AV$8:$BN$8,$AV64:$BN64) -> x | ... AU64: =LOOKUP(AU$8,$AV$8:$BN$8,$AV64:$BN64) -> #N/A | AV64: x | AW64: x | AX64: x | AY64: x | BB64: =IF(AND(E64<>"",AV64=""),"fehler","Ok") -> Ok | BC64: =IF(G64<>"",IF(OR(AV64="",AW64="",AX64="",AY64=""),"Leerzeichen fehlt","Leerzeiche IO"),"") -> Leerzeiche IO | BJ64: ? | BM64: =IF(BK64="","Ja","Nein") -> Ja
E65: Daten erstellen/bearbeiten/kopieren | G65: =LOOKUP(G$8,$AV$8:$BN$8,$AV65:$BN65) -> x | H65: =LOOKUP(H$8,$AV$8:$BN$8,$AV65:$BN65) -> x | I65: =LOOKUP(I$8,$AV$8:$BN$8,$AV65:$BN65) -> x | J65: =LOOKUP(J$8,$AV$8:$BN$8,$AV65:$BN65) -> x | K65: =LOOKUP(K$8,$AV$8:$BN$8,$AV65:$BN65) -> #N/A | L65: =LOOKUP(L$8,$AV$8:$BN$8,$AV65:$BN65) | M65: =LOOKUP(M$8,$AV$8:$BN$8,$AV65:$BN65) | N65: =LOOKUP(N$8,$AV$8:$BN$8,$AV65:$BN65) | ... AU65: =LOOKUP(AU$8,$AV$8:$BN$8,$AV65:$BN65) -> #N/A | AV65: x | AW65: x | AX65: x | BB65: =IF(AND(E65<>"",AV65=""),"fehler","Ok") -> Ok | BC65: =IF(G65<>"",IF(OR(AV65="",AW65="",AX65="",AY65=""),"Leerzeichen fehlt","Leerzeiche IO"),"") -> Leerzeiche IO | BJ65: ? | BM65: =IF(BK65="","Ja","Nein") -> Ja
E66: Daten löschen | G66: =LOOKUP(G$8,$AV$8:$BN$8,$AV66:$BN66) -> x | H66: =LOOKUP(H$8,$AV$8:$BN$8,$AV66:$BN66) -> x | I66: =LOOKUP(I$8,$AV$8:$BN$8,$AV66:$BN66) -> x | J66: =LOOKUP(J$8,$AV$8:$BN$8,$AV66:$BN66) -> x | K66: =LOOKUP(K$8,$AV$8:$BN$8,$AV66:$BN66) -> #N/A | L66: =LOOKUP(L$8,$AV$8:$BN$8,$AV66:$BN66) | M66: =LOOKUP(M$8,$AV$8:$BN$8,$AV66:$BN66) | N66: =LOOKUP(N$8,$AV$8:$BN$8,$AV66:$BN66) | ... AU66: =LOOKUP(AU$8,$AV$8:$BN$8,$AV66:$BN66) -> #N/A | AV66: x | AW66: x | BB66: =IF(AND(E66<>"",AV66=""),"fehler","Ok") -> Ok | BC66: =IF(G66<>"",IF(OR(AV66="",AW66="",AX66="",AY66=""),"Leerzeichen fehlt","Leerzeiche IO"),"") -> Leerzeiche IO | BJ66: ? | BM66: =IF(BK66="","Ja","Nein") -> Ja
D67: > Mitgliedschaft | BB67: =IF(AND(E67<>"",AV67=""),"fehler","Ok") -> Ok | BC67: =IF(G67<>"",IF(OR(AV67="",AW67="",AX67="",AY67=""),"Leerzeichen fehlt","Leerzeiche IO"),"") | BJ67: ? | BM67: =IF(BK67="","Ja","Nein") -> Ja
E68: Daten lesen | G68: =LOOKUP(G$8,$AV$8:$BN$8,$AV68:$BN68) -> x | H68: =LOOKUP(H$8,$AV$8:$BN$8,$AV68:$BN68) -> x | I68: =LOOKUP(I$8,$AV$8:$BN$8,$AV68:$BN68) -> x | J68: =LOOKUP(J$8,$AV$8:$BN$8,$AV68:$BN68) -> x | K68: =LOOKUP(K$8,$AV$8:$BN$8,$AV68:$BN68) -> #N/A | L68: =LOOKUP(L$8,$AV$8:$BN$8,$AV68:$BN68) -> x | M68: =LOOKUP(M$8,$AV$8:$BN$8,$AV68:$BN68) -> x | N68: =LOOKUP(N$8,$AV$8:$BN$8,$AV68:$BN68) -> x | ... AU68: =LOOKUP(AU$8,$AV$8:$BN$8,$AV68:$BN68) -> #N/A | AV68: x | AW68: x | AX68: x | AY68: x | BB68: =IF(AND(E68<>"",AV68=""),"fehler","Ok") -> Ok | BC68: =IF(G68<>"",IF(OR(AV68="",AW68="",AX68="",AY68=""),"Leerzeichen fehlt","Leerzeiche IO"),"") -> Leerzeiche IO | BJ68: ? | BM68: =IF(BK68="","Ja","Nein") -> Ja
E69: Daten erstellen/bearbeiten/kopieren | G69: =LOOKUP(G$8,$AV$8:$BN$8,$AV69:$BN69) -> x | H69: =LOOKUP(H$8,$AV$8:$BN$8,$AV69:$BN69) -> x | I69: =LOOKUP(I$8,$AV$8:$BN$8,$AV69:$BN69) -> x | J69: =LOOKUP(J$8,$AV$8:$BN$8,$AV69:$BN69) -> x | K69: =LOOKUP(K$8,$AV$8:$BN$8,$AV69:$BN69) -> #N/A | L69: =LOOKUP(L$8,$AV$8:$BN$8,$AV69:$BN69) | M69: =LOOKUP(M$8,$AV$8:$BN$8,$AV69:$BN69) | N69: =LOOKUP(N$8,$AV$8:$BN$8,$AV69:$BN69) | ... AU69: =LOOKUP(AU$8,$AV$8:$BN$8,$AV69:$BN69) -> #N/A | AV69: x | AW69: x | AX69: x | BB69: =IF(AND(E69<>"",AV69=""),"fehler","Ok") -> Ok | BC69: =IF(G69<>"",IF(OR(AV69="",AW69="",AX69="",AY69=""),"Leerzeichen fehlt","Leerzeiche IO"),"") -> Leerzeiche IO | BJ69: ? | BM69: =IF(BK69="","Ja","Nein") -> Ja
E70: Daten löschen | G70: =LOOKUP(G$8,$AV$8:$BN$8,$AV70:$BN70) -> x | H70: =LOOKUP(H$8,$AV$8:$BN$8,$AV70:$BN70) -> x | I70: =LOOKUP(I$8,$AV$8:$BN$8,$AV70:$BN70) -> x | J70: =LOOKUP(J$8,$AV$8:$BN$8,$AV70:$BN70) -> x | K70: =LOOKUP(K$8,$AV$8:$BN$8,$AV70:$BN70) -> #N/A | L70: =LOOKUP(L$8,$AV$8:$BN$8,$AV70:$BN70) | M70: =LOOKUP(M$8,$AV$8:$BN$8,$AV70:$BN70) | N70: =LOOKUP(N$8,$AV$8:$BN$8,$AV70:$BN70) | ... AU70: =LOOKUP(AU$8,$AV$8:$BN$8,$AV70:$BN70) -> #N/A | AV70: x | AW70: x | BB70: =IF(AND(E70<>"",AV70=""),"fehler","Ok") -> Ok | BC70: =IF(G70<>"",IF(OR(AV70="",AW70="",AX70="",AY70=""),"Leerzeichen fehlt","Leerzeiche IO"),"") -> Leerzeiche IO | BJ70: ? | BM70: =IF(BK70="","Ja","Nein") -> Ja
BB71: =IF(AND(E71<>"",AV71=""),"fehler","Ok") -> Ok | BC71: =IF(G71<>"",IF(OR(AV71="",AW71="",AX71="",AY71=""),"Leerzeichen fehlt","Leerzeiche IO"),"") | BJ71: ? | BM71: =IF(BK71="","Ja","Nein") -> Ja
C72: Kunden | F72: Ü | G72: 1 | H72: 2 | I72: 4 | J72: 4 | L72: 4 | M72: 4 | N72: 4 | O72: 4 | P72: 1 | BB72: =IF(AND(E72<>"",AV72=""),"fehler","Ok") -> Ok | BC72: =IF(G72<>"",IF(OR(AV72="",AW72="",AX72="",AY72=""),"Leerzeichen fehlt","Leerzeiche IO"),"") -> Leerzeiche IO | BJ72: ? | BM72: =IF(BK72="","Ja","Nein") -> Ja
D73: Daten | BB73: =IF(AND(E73<>"",AV73=""),"fehler","Ok") -> Ok | BC73: =IF(G73<>"",IF(OR(AV73="",AW73="",AX73="",AY73=""),"Leerzeichen fehlt","Leerzeiche IO"),"") | BJ73: ? | BM73: =IF(BK73="","Ja","Nein") -> Ja
E74: Daten lesen | G74: =LOOKUP(G$72,$AV$8:$BN$8,$AV74:$BN74) -> x | H74: =LOOKUP(H$72,$AV$8:$BN$8,$AV74:$BN74) -> x | I74: =LOOKUP(I$72,$AV$8:$BN$8,$AV74:$BN74) -> x | J74: =LOOKUP(J$72,$AV$8:$BN$8,$AV74:$BN74) -> x | K74: =LOOKUP(K$72,$AV$8:$BN$8,$AV74:$BN74) -> #N/A | L74: =LOOKUP(L$72,$AV$8:$BN$8,$AV74:$BN74) -> x | M74: =LOOKUP(M$72,$AV$8:$BN$8,$AV74:$BN74) -> x | N74: =LOOKUP(N$72,$AV$8:$BN$8,$AV74:$BN74) -> x | ... AU74: =LOOKUP(AU$72,$AV$8:$BN$8,$AV74:$BN74) -> #N/A | AV74: x | AW74: x | AX74: x | AY74: x | BB74: =IF(AND(E74<>"",AV74=""),"fehler","Ok") -> Ok | BC74: =IF(G74<>"",IF(OR(AV74="",AW74="",AX74="",AY74=""),"Leerzeichen fehlt","Leerzeiche IO"),"") -> Leerzeiche IO | BJ74: ? | BM74: =IF(BK74="","Ja","Nein") -> Ja
E75: Daten bearbeiten | G75: =LOOKUP(G$72,$AV$8:$BN$8,$AV75:$BN75) -> x | H75: =LOOKUP(H$72,$AV$8:$BN$8,$AV75:$BN75) -> x | I75: =LOOKUP(I$72,$AV$8:$BN$8,$AV75:$BN75) | J75: =LOOKUP(J$72,$AV$8:$BN$8,$AV75:$BN75) | K75: =LOOKUP(K$72,$AV$8:$BN$8,$AV75:$BN75) -> #N/A | L75: =LOOKUP(L$72,$AV$8:$BN$8,$AV75:$BN75) | M75: =LOOKUP(M$72,$AV$8:$BN$8,$AV75:$BN75) | N75: =LOOKUP(N$72,$AV$8:$BN$8,$AV75:$BN75) | ... AU75: =LOOKUP(AU$72,$AV$8:$BN$8,$AV75:$BN75) -> #N/A | AV75: x | AW75: x | AX75: x | BB75: =IF(AND(E75<>"",AV75=""),"fehler","Ok") -> Ok | BC75: =IF(G75<>"",IF(OR(AV75="",AW75="",AX75="",AY75=""),"Leerzeichen fehlt","Leerzeiche IO"),"") -> Leerzeiche IO | BJ75: ? | BM75: =IF(BK75="","Ja","Nein") -> Ja
E76: Daten erstellen | G76: =LOOKUP(G$72,$AV$8:$BN$8,$AV76:$BN76) -> x | H76: =LOOKUP(H$72,$AV$8:$BN$8,$AV76:$BN76) -> x | I76: =LOOKUP(I$72,$AV$8:$BN$8,$AV76:$BN76) | J76: =LOOKUP(J$72,$AV$8:$BN$8,$AV76:$BN76) | K76: =LOOKUP(K$72,$AV$8:$BN$8,$AV76:$BN76) -> #N/A | L76: =LOOKUP(L$72,$AV$8:$BN$8,$AV76:$BN76) | M76: =LOOKUP(M$72,$AV$8:$BN$8,$AV76:$BN76) | N76: =LOOKUP(N$72,$AV$8:$BN$8,$AV76:$BN76) | ... AU76: =LOOKUP(AU$72,$AV$8:$BN$8,$AV76:$BN76) -> #N/A | AV76: x | AW76: x | AX76: x | BB76: =IF(AND(E76<>"",AV76=""),"fehler","Ok") -> Ok | BC76: =IF(G76<>"",IF(OR(AV76="",AW76="",AX76="",AY76=""),"Leerzeichen fehlt","Leerzeiche IO"),"") -> Leerzeiche IO | BJ76: ? | BM76: =IF(BK76="","Ja","Nein") -> Ja
E77: Daten kopieren | G77: =LOOKUP(G$72,$AV$8:$BN$8,$AV77:$BN77) -> x | H77: =LOOKUP(H$72,$AV$8:$BN$8,$AV77:$BN77) -> x | I77: =LOOKUP(I$72,$AV$8:$BN$8,$AV77:$BN77) | J77: =LOOKUP(J$72,$AV$8:$BN$8,$AV77:$BN77) | K77: =LOOKUP(K$72,$AV$8:$BN$8,$AV77:$BN77) -> #N/A | L77: =LOOKUP(L$72,$AV$8:$BN$8,$AV77:$BN77) | M77: =LOOKUP(M$72,$AV$8:$BN$8,$AV77:$BN77) | N77: =LOOKUP(N$72,$AV$8:$BN$8,$AV77:$BN77) | ... AU77: =LOOKUP(AU$72,$AV$8:$BN$8,$AV77:$BN77) -> #N/A | AV77: x | AW77: x | AX77: x | BB77: =IF(AND(E77<>"",AV77=""),"fehler","Ok") -> Ok | BC77: =IF(G77<>"",IF(OR(AV77="",AW77="",AX77="",AY77=""),"Leerzeichen fehlt","Leerzeiche IO"),"") -> Leerzeiche IO | BJ77: ? | BM77: =IF(BK77="","Ja","Nein") -> Ja
E78: Daten löschen | G78: =LOOKUP(G$72,$AV$8:$BN$8,$AV78:$BN78) -> x | H78: =LOOKUP(H$72,$AV$8:$BN$8,$AV78:$BN78) -> x | I78: =LOOKUP(I$72,$AV$8:$BN$8,$AV78:$BN78) | J78: =LOOKUP(J$72,$AV$8:$BN$8,$AV78:$BN78) | K78: =LOOKUP(K$72,$AV$8:$BN$8,$AV78:$BN78) -> #N/A | L78: =LOOKUP(L$72,$AV$8:$BN$8,$AV78:$BN78) | M78: =LOOKUP(M$72,$AV$8:$BN$8,$AV78:$BN78) | N78: =LOOKUP(N$72,$AV$8:$BN$8,$AV78:$BN78) | ... AU78: =LOOKUP(AU$72,$AV$8:$BN$8,$AV78:$BN78) -> #N/A | AV78: x | AW78: x | BB78: =IF(AND(E78<>"",AV78=""),"fehler","Ok") -> Ok | BC78: =IF(G78<>"",IF(OR(AV78="",AW78="",AX78="",AY78=""),"Leerzeichen fehlt","Leerzeiche IO"),"") -> Leerzeiche IO | BJ78: ? | BM78: =IF(BK78="","Ja","Nein") -> Ja
E79: Daten löschen selektiert | G79: =LOOKUP(G$72,$AV$8:$BN$8,$AV79:$BN79) -> x | H79: =LOOKUP(H$72,$AV$8:$BN$8,$AV79:$BN79) -> ! | I79: =LOOKUP(I$72,$AV$8:$BN$8,$AV79:$BN79) | J79: =LOOKUP(J$72,$AV$8:$BN$8,$AV79:$BN79) | K79: =LOOKUP(K$72,$AV$8:$BN$8,$AV79:$BN79) -> #N/A | L79: =LOOKUP(L$72,$AV$8:$BN$8,$AV79:$BN79) | M79: =LOOKUP(M$72,$AV$8:$BN$8,$AV79:$BN79) | N79: =LOOKUP(N$72,$AV$8:$BN$8,$AV79:$BN79) | ... AU79: =LOOKUP(AU$72,$AV$8:$BN$8,$AV79:$BN79) -> #N/A | AV79: x | AW79: ! | BB79: =IF(AND(E79<>"",AV79=""),"fehler","Ok") -> Ok | BC79: =IF(G79<>"",IF(OR(AV79="",AW79="",AX79="",AY79=""),"Leerzeichen fehlt","Leerzeiche IO"),"") -> Leerzeiche IO | BJ79: ? | BM79: =IF(BK79="","Ja","Nein") -> Ja
D80: Vorgänge | BB80: =IF(AND(E80<>"",AV80=""),"fehler","Ok") -> Ok | BC80: =IF(G80<>"",IF(OR(AV80="",AW80="",AX80="",AY80=""),"Leerzeichen fehlt","Leerzeiche IO"),"") | BJ80: ? | BM80: =IF(BK80="","Ja","Nein") -> Ja
E81: Drucken | G81: =LOOKUP(G$72,$AV$8:$BN$8,$AV81:$BN81) -> x | H81: =LOOKUP(H$72,$AV$8:$BN$8,$AV81:$BN81) -> x | I81: =LOOKUP(I$72,$AV$8:$BN$8,$AV81:$BN81) -> ! | J81: =LOOKUP(J$72,$AV$8:$BN$8,$AV81:$BN81) -> ! | K81: =LOOKUP(K$72,$AV$8:$BN$8,$AV81:$BN81) -> #N/A | L81: =LOOKUP(L$72,$AV$8:$BN$8,$AV81:$BN81) -> ! | M81: =LOOKUP(M$72,$AV$8:$BN$8,$AV81:$BN81) -> ! | N81: =LOOKUP(N$72,$AV$8:$BN$8,$AV81:$BN81) -> ! | ... AU81: =LOOKUP(AU$72,$AV$8:$BN$8,$AV81:$BN81) -> #N/A | AV81: x | AW81: x | AX81: x | AY81: ! | BB81: =IF(AND(E81<>"",AV81=""),"fehler","Ok") -> Ok | BC81: =IF(G81<>"",IF(OR(AV81="",AW81="",AX81="",AY81=""),"Leerzeichen fehlt","Leerzeiche IO"),"") -> Leerzeiche IO | BJ81: ? | BM81: =IF(BK81="","Ja","Nein") -> Ja
E82: Preislistenzuweisung auf sel. Kunden | G82: =LOOKUP(G$72,$AV$8:$BN$8,$AV82:$BN82) -> x | H82: =LOOKUP(H$72,$AV$8:$BN$8,$AV82:$BN82) -> x | I82: =LOOKUP(I$72,$AV$8:$BN$8,$AV82:$BN82) | J82: =LOOKUP(J$72,$AV$8:$BN$8,$AV82:$BN82) | K82: =LOOKUP(K$72,$AV$8:$BN$8,$AV82:$BN82) -> #N/A | L82: =LOOKUP(L$72,$AV$8:$BN$8,$AV82:$BN82) | M82: =LOOKUP(M$72,$AV$8:$BN$8,$AV82:$BN82) | N82: =LOOKUP(N$72,$AV$8:$BN$8,$AV82:$BN82) | ... AU82: =LOOKUP(AU$72,$AV$8:$BN$8,$AV82:$BN82) -> #N/A | AV82: x | AW82: x | AX82: ! | BB82: =IF(AND(E82<>"",AV82=""),"fehler","Ok") -> Ok | BC82: =IF(G82<>"",IF(OR(AV82="",AW82="",AX82="",AY82=""),"Leerzeichen fehlt","Leerzeiche IO"),"") -> Leerzeiche IO | BJ82: ? | BM82: =IF(BK82="","Ja","Nein") -> Ja
E83: Geschäftsbereich auf sel. Kunde | G83: =LOOKUP(G$72,$AV$8:$BN$8,$AV83:$BN83) -> x | H83: =LOOKUP(H$72,$AV$8:$BN$8,$AV83:$BN83) -> x | I83: =LOOKUP(I$72,$AV$8:$BN$8,$AV83:$BN83) | J83: =LOOKUP(J$72,$AV$8:$BN$8,$AV83:$BN83) | K83: =LOOKUP(K$72,$AV$8:$BN$8,$AV83:$BN83) -> #N/A | L83: =LOOKUP(L$72,$AV$8:$BN$8,$AV83:$BN83) | M83: =LOOKUP(M$72,$AV$8:$BN$8,$AV83:$BN83) | N83: =LOOKUP(N$72,$AV$8:$BN$8,$AV83:$BN83) | ... AU83: =LOOKUP(AU$72,$AV$8:$BN$8,$AV83:$BN83) -> #N/A | AV83: x | AW83: x | AX83: ! | BB83: =IF(AND(E83<>"",AV83=""),"fehler","Ok") -> Ok | BC83: =IF(G83<>"",IF(OR(AV83="",AW83="",AX83="",AY83=""),"Leerzeichen fehlt","Leerzeiche IO"),"") -> Leerzeiche IO | BJ83: ? | BM83: =IF(BK83="","Ja","Nein") -> Ja
E84: Mitgliedertarif setzen | G84: =LOOKUP(G$72,$AV$8:$BN$8,$AV84:$BN84) -> x | H84: =LOOKUP(H$72,$AV$8:$BN$8,$AV84:$BN84) -> x | I84: =LOOKUP(I$72,$AV$8:$BN$8,$AV84:$BN84) | J84: =LOOKUP(J$72,$AV$8:$BN$8,$AV84:$BN84) | K84: =LOOKUP(K$72,$AV$8:$BN$8,$AV84:$BN84) -> #N/A | L84: =LOOKUP(L$72,$AV$8:$BN$8,$AV84:$BN84) | M84: =LOOKUP(M$72,$AV$8:$BN$8,$AV84:$BN84) | N84: =LOOKUP(N$72,$AV$8:$BN$8,$AV84:$BN84) | ... AU84: =LOOKUP(AU$72,$AV$8:$BN$8,$AV84:$BN84) -> #N/A | AV84: x | AW84: x | AX84: ! | BB84: =IF(AND(E84<>"",AV84=""),"fehler","Ok") -> Ok | BC84: =IF(G84<>"",IF(OR(AV84="",AW84="",AX84="",AY84=""),"Leerzeichen fehlt","Leerzeiche IO"),"") -> Leerzeiche IO | BJ84: ? | BM84: =IF(BK84="","Ja","Nein") -> Ja
E85: Import/Export | G85: =LOOKUP(G$72,$AV$8:$BN$8,$AV85:$BN85) -> x | H85: =LOOKUP(H$72,$AV$8:$BN$8,$AV85:$BN85) | I85: =LOOKUP(I$72,$AV$8:$BN$8,$AV85:$BN85) | J85: =LOOKUP(J$72,$AV$8:$BN$8,$AV85:$BN85) | K85: =LOOKUP(K$72,$AV$8:$BN$8,$AV85:$BN85) -> #N/A | L85: =LOOKUP(L$72,$AV$8:$BN$8,$AV85:$BN85) | M85: =LOOKUP(M$72,$AV$8:$BN$8,$AV85:$BN85) | N85: =LOOKUP(N$72,$AV$8:$BN$8,$AV85:$BN85) | ... AU85: =LOOKUP(AU$72,$AV$8:$BN$8,$AV85:$BN85) -> #N/A | AV85: x | BB85: =IF(AND(E85<>"",AV85=""),"fehler","Ok") -> Ok | BC85: =IF(G85<>"",IF(OR(AV85="",AW85="",AX85="",AY85=""),"Leerzeichen fehlt","Leerzeiche IO"),"") -> Leerzeiche IO | BJ85: ? | BM85: =IF(BK85="","Ja","Nein") -> Ja
D86: Tabellen | BB86: =IF(AND(E86<>"",AV86=""),"fehler","Ok") -> Ok | BC86: =IF(G86<>"",IF(OR(AV86="",AW86="",AX86="",AY86=""),"Leerzeichen fehlt","Leerzeiche IO"),"") | BJ86: ? | BM86: =IF(BK86="","Ja","Nein") -> Ja
D87: > Zeugnisverwaltung | BB87: =IF(AND(E87<>"",AV87=""),"fehler","Ok") -> Ok | BC87: =IF(G87<>"",IF(OR(AV87="",AW87="",AX87="",AY87=""),"Leerzeichen fehlt","Leerzeiche IO"),"") | BJ87: ? | BM87: =IF(BK87="","Ja","Nein") -> Ja
E88: Daten lesen | G88: =LOOKUP(G$72,$AV$8:$BN$8,$AV88:$BN88) -> x | H88: =LOOKUP(H$72,$AV$8:$BN$8,$AV88:$BN88) -> x | I88: =LOOKUP(I$72,$AV$8:$BN$8,$AV88:$BN88) -> x | J88: =LOOKUP(J$72,$AV$8:$BN$8,$AV88:$BN88) -> x | K88: =LOOKUP(K$72,$AV$8:$BN$8,$AV88:$BN88) -> #N/A | L88: =LOOKUP(L$72,$AV$8:$BN$8,$AV88:$BN88) -> x | M88: =LOOKUP(M$72,$AV$8:$BN$8,$AV88:$BN88) -> x | N88: =LOOKUP(N$72,$AV$8:$BN$8,$AV88:$BN88) -> x | ... AU88: =LOOKUP(AU$72,$AV$8:$BN$8,$AV88:$BN88) -> #N/A | AV88: x | AW88: x | AX88: x | AY88: x | BB88: =IF(AND(E88<>"",AV88=""),"fehler","Ok") -> Ok | BC88: =IF(G88<>"",IF(OR(AV88="",AW88="",AX88="",AY88=""),"Leerzeichen fehlt","Leerzeiche IO"),"") -> Leerzeiche IO | BJ88: ? | BM88: =IF(BK88="","Ja","Nein") -> Ja
E89: Daten erstellen/bearbeiten/kopieren | G89: =LOOKUP(G$72,$AV$8:$BN$8,$AV89:$BN89) -> x | H89: =LOOKUP(H$72,$AV$8:$BN$8,$AV89:$BN89) -> x | I89: =LOOKUP(I$72,$AV$8:$BN$8,$AV89:$BN89) | J89: =LOOKUP(J$72,$AV$8:$BN$8,$AV89:$BN89) | K89: =LOOKUP(K$72,$AV$8:$BN$8,$AV89:$BN89) -> #N/A | L89: =LOOKUP(L$72,$AV$8:$BN$8,$AV89:$BN89) | M89: =LOOKUP(M$72,$AV$8:$BN$8,$AV89:$BN89) | N89: =LOOKUP(N$72,$AV$8:$BN$8,$AV89:$BN89) | ... AU89: =LOOKUP(AU$72,$AV$8:$BN$8,$AV89:$BN89) -> #N/A | AV89: x | AW89: x | AX89: x | BB89: =IF(AND(E89<>"",AV89=""),"fehler","Ok") -> Ok | BC89: =IF(G89<>"",IF(OR(AV89="",AW89="",AX89="",AY89=""),"Leerzeichen fehlt","Leerzeiche IO"),"") -> Leerzeiche IO | BJ89: ? | BM89: =IF(BK89="","Ja","Nein") -> Ja
E90: Daten löschen | G90: =LOOKUP(G$72,$AV$8:$BN$8,$AV90:$BN90) -> x | H90: =LOOKUP(H$72,$AV$8:$BN$8,$AV90:$BN90) -> x | I90: =LOOKUP(I$72,$AV$8:$BN$8,$AV90:$BN90) | J90: =LOOKUP(J$72,$AV$8:$BN$8,$AV90:$BN90) | K90: =LOOKUP(K$72,$AV$8:$BN$8,$AV90:$BN90) -> #N/A | L90: =LOOKUP(L$72,$AV$8:$BN$8,$AV90:$BN90) | M90: =LOOKUP(M$72,$AV$8:$BN$8,$AV90:$BN90) | N90: =LOOKUP(N$72,$AV$8:$BN$8,$AV90:$BN90) | ... AU90: =LOOKUP(AU$72,$AV$8:$BN$8,$AV90:$BN90) -> #N/A | AV90: x | AW90: x | BB90: =IF(AND(E90<>"",AV90=""),"fehler","Ok") -> Ok | BC90: =IF(G90<>"",IF(OR(AV90="",AW90="",AX90="",AY90=""),"Leerzeichen fehlt","Leerzeiche IO"),"") -> Leerzeiche IO | BJ90: ? | BM90: =IF(BK90="","Ja","Nein") -> Ja
E91: Daten löschen selektiert | G91: =LOOKUP(G$72,$AV$8:$BN$8,$AV91:$BN91) -> x | H91: =LOOKUP(H$72,$AV$8:$BN$8,$AV91:$BN91) -> ! | I91: =LOOKUP(I$72,$AV$8:$BN$8,$AV91:$BN91) | J91: =LOOKUP(J$72,$AV$8:$BN$8,$AV91:$BN91) | K91: =LOOKUP(K$72,$AV$8:$BN$8,$AV91:$BN91) -> #N/A | L91: =LOOKUP(L$72,$AV$8:$BN$8,$AV91:$BN91) | M91: =LOOKUP(M$72,$AV$8:$BN$8,$AV91:$BN91) | N91: =LOOKUP(N$72,$AV$8:$BN$8,$AV91:$BN91) | ... AU91: =LOOKUP(AU$72,$AV$8:$BN$8,$AV91:$BN91) -> #N/A | AV91: x | AW91: ! | BB91: =IF(AND(E91<>"",AV91=""),"fehler","Ok") -> Ok | BC91: =IF(G91<>"",IF(OR(AV91="",AW91="",AX91="",AY91=""),"Leerzeichen fehlt","Leerzeiche IO"),"") -> Leerzeiche IO | BJ91: ? | BM91: =IF(BK91="","Ja","Nein") -> Ja
D92: > Zahlstellen | BB92: =IF(AND(E92<>"",AV92=""),"fehler","Ok") -> Ok | BC92: =IF(G92<>"",IF(OR(AV92="",AW92="",AX92="",AY92=""),"Leerzeichen fehlt","Leerzeiche IO"),"") | BJ92: ? | BM92: =IF(BK92="","Ja","Nein") -> Ja
E93: Daten lesen | G93: =LOOKUP(G$72,$AV$8:$BN$8,$AV93:$BN93) -> x | H93: =LOOKUP(H$72,$AV$8:$BN$8,$AV93:$BN93) -> x | I93: =LOOKUP(I$72,$AV$8:$BN$8,$AV93:$BN93) | J93: =LOOKUP(J$72,$AV$8:$BN$8,$AV93:$BN93) | K93: =LOOKUP(K$72,$AV$8:$BN$8,$AV93:$BN93) -> #N/A | L93: =LOOKUP(L$72,$AV$8:$BN$8,$AV93:$BN93) | M93: =LOOKUP(M$72,$AV$8:$BN$8,$AV93:$BN93) | N93: =LOOKUP(N$72,$AV$8:$BN$8,$AV93:$BN93) | ... AU93: =LOOKUP(AU$72,$AV$8:$BN$8,$AV93:$BN93) -> #N/A | AV93: x | AW93: x | BB93: =IF(AND(E93<>"",AV93=""),"fehler","Ok") -> Ok | BC93: =IF(G93<>"",IF(OR(AV93="",AW93="",AX93="",AY93=""),"Leerzeichen fehlt","Leerzeiche IO"),"") -> Leerzeiche IO | BJ93: ? | BM93: =IF(BK93="","Ja","Nein") -> Ja
E94: Daten erstellen/bearbeiten/kopieren | G94: =LOOKUP(G$72,$AV$8:$BN$8,$AV94:$BN94) -> x | H94: =LOOKUP(H$72,$AV$8:$BN$8,$AV94:$BN94) | I94: =LOOKUP(I$72,$AV$8:$BN$8,$AV94:$BN94) | J94: =LOOKUP(J$72,$AV$8:$BN$8,$AV94:$BN94) | K94: =LOOKUP(K$72,$AV$8:$BN$8,$AV94:$BN94) -> #N/A | L94: =LOOKUP(L$72,$AV$8:$BN$8,$AV94:$BN94) | M94: =LOOKUP(M$72,$AV$8:$BN$8,$AV94:$BN94) | N94: =LOOKUP(N$72,$AV$8:$BN$8,$AV94:$BN94) | ... AU94: =LOOKUP(AU$72,$AV$8:$BN$8,$AV94:$BN94) -> #N/A | AV94: x | BB94: =IF(AND(E94<>"",AV94=""),"fehler","Ok") -> Ok | BC94: =IF(G94<>"",IF(OR(AV94="",AW94="",AX94="",AY94=""),"Leerzeichen fehlt","Leerzeiche IO"),"") -> Leerzeiche IO | BJ94: ? | BM94: =IF(BK94="","Ja","Nein") -> Ja
E95: Daten löschen | G95: =LOOKUP(G$72,$AV$8:$BN$8,$AV95:$BN95) -> x | H95: =LOOKUP(H$72,$AV$8:$BN$8,$AV95:$BN95) | I95: =LOOKUP(I$72,$AV$8:$BN$8,$AV95:$BN95) | J95: =LOOKUP(J$72,$AV$8:$BN$8,$AV95:$BN95) | K95: =LOOKUP(K$72,$AV$8:$BN$8,$AV95:$BN95) -> #N/A | L95: =LOOKUP(L$72,$AV$8:$BN$8,$AV95:$BN95) | M95: =LOOKUP(M$72,$AV$8:$BN$8,$AV95:$BN95) | N95: =LOOKUP(N$72,$AV$8:$BN$8,$AV95:$BN95) | ... AU95: =LOOKUP(AU$72,$AV$8:$BN$8,$AV95:$BN95) -> #N/A | AV95: x | BB95: =IF(AND(E95<>"",AV95=""),"fehler","Ok") -> Ok | BC95: =IF(G95<>"",IF(OR(AV95="",AW95="",AX95="",AY95=""),"Leerzeichen fehlt","Leerzeiche IO"),"") -> Leerzeiche IO | BJ95: ? | BM95: =IF(BK95="","Ja","Nein") -> Ja
E96: Daten löschen selektiert | G96: =LOOKUP(G$72,$AV$8:$BN$8,$AV96:$BN96) -> x | H96: =LOOKUP(H$72,$AV$8:$BN$8,$AV96:$BN96) | I96: =LOOKUP(I$72,$AV$8:$BN$8,$AV96:$BN96) | J96: =LOOKUP(J$72,$AV$8:$BN$8,$AV96:$BN96) | K96: =LOOKUP(K$72,$AV$8:$BN$8,$AV96:$BN96) -> #N/A | L96: =LOOKUP(L$72,$AV$8:$BN$8,$AV96:$BN96) | M96: =LOOKUP(M$72,$AV$8:$BN$8,$AV96:$BN96) | N96: =LOOKUP(N$72,$AV$8:$BN$8,$AV96:$BN96) | ... AU96: =LOOKUP(AU$72,$AV$8:$BN$8,$AV96:$BN96) -> #N/A | AV96: x | BB96: =IF(AND(E96<>"",AV96=""),"fehler","Ok") -> Ok | BC96: =IF(G96<>"",IF(OR(AV96="",AW96="",AX96="",AY96=""),"Leerzeichen fehlt","Leerzeiche IO"),"") -> Leerzeiche IO | BJ96: ? | BM96: =IF(BK96="","Ja","Nein") -> Ja
D97: > Konditionen | BB97: =IF(AND(E97<>"",AV97=""),"fehler","Ok") -> Ok | BC97: =IF(G97<>"",IF(OR(AV97="",AW97="",AX97="",AY97=""),"Leerzeichen fehlt","Leerzeiche IO"),"") | BJ97: ? | BM97: =IF(BK97="","Ja","Nein") -> Ja
E98: Daten lesen | G98: =LOOKUP(G$72,$AV$8:$BN$8,$AV98:$BN98) -> x | H98: =LOOKUP(H$72,$AV$8:$BN$8,$AV98:$BN98) -> x | I98: =LOOKUP(I$72,$AV$8:$BN$8,$AV98:$BN98) | J98: =LOOKUP(J$72,$AV$8:$BN$8,$AV98:$BN98) | K98: =LOOKUP(K$72,$AV$8:$BN$8,$AV98:$BN98) -> #N/A | L98: =LOOKUP(L$72,$AV$8:$BN$8,$AV98:$BN98) | M98: =LOOKUP(M$72,$AV$8:$BN$8,$AV98:$BN98) | N98: =LOOKUP(N$72,$AV$8:$BN$8,$AV98:$BN98) | ... AU98: =LOOKUP(AU$72,$AV$8:$BN$8,$AV98:$BN98) -> #N/A | AV98: x | AW98: x | AX98: x | BB98: =IF(AND(E98<>"",AV98=""),"fehler","Ok") -> Ok | BC98: =IF(G98<>"",IF(OR(AV98="",AW98="",AX98="",AY98=""),"Leerzeichen fehlt","Leerzeiche IO"),"") -> Leerzeiche IO | BJ98: ? | BM98: =IF(BK98="","Ja","Nein") -> Ja
E99: Daten erstellen/bearbeiten/kopieren | G99: =LOOKUP(G$72,$AV$8:$BN$8,$AV99:$BN99) -> x | H99: =LOOKUP(H$72,$AV$8:$BN$8,$AV99:$BN99) -> x | I99: =LOOKUP(I$72,$AV$8:$BN$8,$AV99:$BN99) | J99: =LOOKUP(J$72,$AV$8:$BN$8,$AV99:$BN99) | K99: =LOOKUP(K$72,$AV$8:$BN$8,$AV99:$BN99) -> #N/A | L99: =LOOKUP(L$72,$AV$8:$BN$8,$AV99:$BN99) | M99: =LOOKUP(M$72,$AV$8:$BN$8,$AV99:$BN99) | N99: =LOOKUP(N$72,$AV$8:$BN$8,$AV99:$BN99) | ... AU99: =LOOKUP(AU$72,$AV$8:$BN$8,$AV99:$BN99) -> #N/A | AV99: x | AW99: x | BB99: =IF(AND(E99<>"",AV99=""),"fehler","Ok") -> Ok | BC99: =IF(G99<>"",IF(OR(AV99="",AW99="",AX99="",AY99=""),"Leerzeichen fehlt","Leerzeiche IO"),"") -> Leerzeiche IO | BJ99: ? | BM99: =IF(BK99="","Ja","Nein") -> Ja
E100: Daten löschen | G100: =LOOKUP(G$72,$AV$8:$BN$8,$AV100:$BN100) -> x | H100: =LOOKUP(H$72,$AV$8:$BN$8,$AV100:$BN100) | I100: =LOOKUP(I$72,$AV$8:$BN$8,$AV100:$BN100) | J100: =LOOKUP(J$72,$AV$8:$BN$8,$AV100:$BN100) | K100: =LOOKUP(K$72,$AV$8:$BN$8,$AV100:$BN100) -> #N/A | L100: =LOOKUP(L$72,$AV$8:$BN$8,$AV100:$BN100) | M100: =LOOKUP(M$72,$AV$8:$BN$8,$AV100:$BN100) | N100: =LOOKUP(N$72,$AV$8:$BN$8,$AV100:$BN100) | ... AU100: =LOOKUP(AU$72,$AV$8:$BN$8,$AV100:$BN100) -> #N/A | AV100: x | BB100: =IF(AND(E100<>"",AV100=""),"fehler","Ok") -> Ok | BC100: =IF(G100<>"",IF(OR(AV100="",AW100="",AX100="",AY100=""),"Leerzeichen fehlt","Leerzeiche IO"),"") -> Leerzeiche IO | BJ100: ? | BM100: =IF(BK100="","Ja","Nein") -> Ja
E101: Daten löschen selektiert | G101: =LOOKUP(G$72,$AV$8:$BN$8,$AV101:$BN101) -> x | H101: =LOOKUP(H$72,$AV$8:$BN$8,$AV101:$BN101) | I101: =LOOKUP(I$72,$AV$8:$BN$8,$AV101:$BN101) | J101: =LOOKUP(J$72,$AV$8:$BN$8,$AV101:$BN101) | K101: =LOOKUP(K$72,$AV$8:$BN$8,$AV101:$BN101) -> #N/A | L101: =LOOKUP(L$72,$AV$8:$BN$8,$AV101:$BN101) | M101: =LOOKUP(M$72,$AV$8:$BN$8,$AV101:$BN101) | N101: =LOOKUP(N$72,$AV$8:$BN$8,$AV101:$BN101) | ... AU101: =LOOKUP(AU$72,$AV$8:$BN$8,$AV101:$BN101) -> #N/A | AV101: x | BB101: =IF(AND(E101<>"",AV101=""),"fehler","Ok") -> Ok | BC101: =IF(G101<>"",IF(OR(AV101="",AW101="",AX101="",AY101=""),"Leerzeichen fehlt","Leerzeiche IO"),"") -> Leerzeiche IO | BJ101: ? | BM101: =IF(BK101="","Ja","Nein") -> Ja
...

Sheet Benutzer
F2: root-service ag Wydenstrasse 29 Postfach 227 CH-8575 Bürglen Telefon +41 (0)71 634 80 40 E-Mail: info@root.ch Internet: www.root.ch
B4: Benutzer in Gruppen
B6: Benutzer
B7: Adress - ID | C7: Name | D7: Benutzername | E7: Benutzergruppe | F7: =IF(Gruppenberechtigung!G$6="","",Gruppenberechtigung!G$6) -> 01 Geschäftsleitung | G7: =IF(Gruppenberechtigung!H$6="","",Gruppenberechtigung!H$6) -> 02 Administration | H7: =IF(Gruppenberechtigung!I$6="","",Gruppenberechtigung!I$6) -> 03 HR/Personal | I7: =IF(Gruppenberechtigung!J$6="","",Gruppenberechtigung!J$6) -> 04 Finanzen | J7: =IF(Gruppenberechtigung!K$6="","",Gruppenberechtigung!K$6) | K7: =IF(Gruppenberechtigung!L$6="","",Gruppenberechtigung!L$6) -> 08 Diplomiertes Pflegefachpersonal (Tertiär) | L7: =IF(Gruppenberechtigung!M$6="","",Gruppenberechtigung!M$6) -> 09 Fachpersonal Pflege (Sekundar EFZ / EBA) | M7: =IF(Gruppenberechtigung!N$6="","",Gruppenberechtigung!N$6) -> 10 Andere/ohne Ausbildung (SRK) | ... U7: =IF(Gruppenberechtigung!V$6="","",Gruppenberechtigung!V$6) | V7: =IF(Gruppenberechtigung!R$6="","",Gruppenberechtigung!R$6) | W7: =IF(Gruppenberechtigung!X$6="","",Gruppenberechtigung!X$6) | X7: =IF(Gruppenberechtigung!Y$6="","",Gruppenberechtigung!Y$6) | Y7: =IF(Gruppenberechtigung!Z$6="","",Gruppenberechtigung!Z$6) -> 93 Dispo DP Team A löschen | Z7: =IF(Gruppenberechtigung!AA$6="","",Gruppenberechtigung!AA$6) -> 94 Dispo DP Team B löschen | AA7: =IF(Gruppenberechtigung!AB$6="","",Gruppenberechtigung!AB$6) -> 95 Dispo EP Team A löschen | AB7: =IF(Gruppenberechtigung!AC$6="","",Gruppenberechtigung!AC$6) -> 96 Dispo EP Team B löschen | AC7: =IF(Gruppenberechtigung!AD$6="","",Gruppenberechtigung!AD$6) -> 97 Dispo lesen | AD7: =IF(Gruppenberechtigung!AE$6="","",Gruppenberechtigung!AE$6) | ... AT7: =IF(Gruppenberechtigung!AU$6="","",Gruppenberechtigung!AU$6)
B9: keine | C9: Administrator (Vollzugriff) | D9: Administrator | Z9: x | AA9: x | AB9: x | AC9: x | AF9: x
B10: 1253 | C10: Ursula Meier | D10: um | F10: x | S10: x | AF10: x
B11: 1257 | C11: Silvana Normalverbraucher | D11: sn | G11: x | AF11: x
B12: 1256 | C12: Erika Mustermann | D12: em | G12: x | AF12: x
B13: 1258 | C13: Andrea Musterfrau | D13: am | I13: x | L13: x | O13: x | AB13: x | AG13: x
B14: 1259 | C14: Hanna von Musterhausen | D14: hv | AB14: x
B15: 1260 | C15: Franziska Schweizer | D15: fs | S15: x | AB15: x
B16: 1261 | C16: Carolline Smith | D16: cs | M16: x | Y16: x | Z16: x | AB16: x | AG16: x
B17: 1254 | C17: Max Mustermann | D17: mm | F17: x | M17: x | AB17: x | AF17: x
B18: 1255 | C18: Vreni Müller | D18: vm | F18: x | O18: x | AA18: x | AB18: x | AF18: x

Sheet Tabelle1
C3: >Hilfe- und Pflegedokumentation
C4: >>Vorgänge
D5: Leistungsübernahme aus LPB | F5: =LOOKUP(Gruppenberechtigung!#REF!,Gruppenberechtigung!$AV$8:$BN$8,$AB5:$AG5) -> #REF! | G5: =LOOKUP(Gruppenberechtigung!#REF!,Gruppenberechtigung!$AV$8:$BN$8,$AB5:$AG5) -> #REF! | H5: =LOOKUP(Gruppenberechtigung!#REF!,Gruppenberechtigung!$AV$8:$BN$8,$AB5:$AG5) -> #REF! | I5: =LOOKUP(Gruppenberechtigung!#REF!,Gruppenberechtigung!$AV$8:$BN$8,$AB5:$AG5) -> #REF! | J5: =LOOKUP(Gruppenberechtigung!#REF!,Gruppenberechtigung!$AV$8:$BN$8,$AB5:$AG5) -> #REF! | K5: =LOOKUP(Gruppenberechtigung!#REF!,Gruppenberechtigung!$AV$8:$BN$8,$AB5:$AG5) -> #REF! | L5: =LOOKUP(Gruppenberechtigung!#REF!,Gruppenberechtigung!$AV$8:$BN$8,$AB5:$AG5) -> #REF! | M5: =LOOKUP(Gruppenberechtigung!#REF!,Gruppenberechtigung!$AV$8:$BN$8,$AB5:$AG5) -> #REF! | ... AA5: =LOOKUP(Gruppenberechtigung!#REF!,Gruppenberechtigung!$AV$8:$BN$8,$AB5:$AG5) -> #REF! | AB5: x | AC5: x | AD5: !
D6: >>Auswertungen
D7: Überweisungsrapport drucken | F7: =LOOKUP(Gruppenberechtigung!#REF!,Gruppenberechtigung!$AV$8:$BN$8,$AB7:$AG7) -> #REF! | G7: =LOOKUP(Gruppenberechtigung!#REF!,Gruppenberechtigung!$AV$8:$BN$8,$AB7:$AG7) -> #REF! | H7: =LOOKUP(Gruppenberechtigung!#REF!,Gruppenberechtigung!$AV$8:$BN$8,$AB7:$AG7) -> #REF! | I7: =LOOKUP(Gruppenberechtigung!#REF!,Gruppenberechtigung!$AV$8:$BN$8,$AB7:$AG7) -> #REF! | J7: =LOOKUP(Gruppenberechtigung!#REF!,Gruppenberechtigung!$AV$8:$BN$8,$AB7:$AG7) -> #REF! | K7: =LOOKUP(Gruppenberechtigung!#REF!,Gruppenberechtigung!$AV$8:$BN$8,$AB7:$AG7) -> #REF! | L7: =LOOKUP(Gruppenberechtigung!#REF!,Gruppenberechtigung!$AV$8:$BN$8,$AB7:$AG7) -> #REF! | M7: =LOOKUP(Gruppenberechtigung!#REF!,Gruppenberechtigung!$AV$8:$BN$8,$AB7:$AG7) -> #REF! | ... AA7: =LOOKUP(Gruppenberechtigung!#REF!,Gruppenberechtigung!$AV$8:$BN$8,$AB7:$AG7) -> #REF! | AB7: x | AC7: x | AD7: ! | AE7: !
D8: Kardex druckenm | F8: =LOOKUP(Gruppenberechtigung!#REF!,Gruppenberechtigung!$AV$8:$BN$8,$AB8:$AG8) -> #REF! | G8: =LOOKUP(Gruppenberechtigung!#REF!,Gruppenberechtigung!$AV$8:$BN$8,$AB8:$AG8) -> #REF! | H8: =LOOKUP(Gruppenberechtigung!#REF!,Gruppenberechtigung!$AV$8:$BN$8,$AB8:$AG8) -> #REF! | I8: =LOOKUP(Gruppenberechtigung!#REF!,Gruppenberechtigung!$AV$8:$BN$8,$AB8:$AG8) -> #REF! | J8: =LOOKUP(Gruppenberechtigung!#REF!,Gruppenberechtigung!$AV$8:$BN$8,$AB8:$AG8) -> #REF! | K8: =LOOKUP(Gruppenberechtigung!#REF!,Gruppenberechtigung!$AV$8:$BN$8,$AB8:$AG8) -> #REF! | L8: =LOOKUP(Gruppenberechtigung!#REF!,Gruppenberechtigung!$AV$8:$BN$8,$AB8:$AG8) -> #REF! | M8: =LOOKUP(Gruppenberechtigung!#REF!,Gruppenberechtigung!$AV$8:$BN$8,$AB8:$AG8) -> #REF! | ... AA8: =LOOKUP(Gruppenberechtigung!#REF!,Gruppenberechtigung!$AV$8:$BN$8,$AB8:$AG8) -> #REF! | AB8: x | AC8: x | AD8: ! | AE8: !
D9: Kardex Rückseite drucken | F9: =LOOKUP(Gruppenberechtigung!#REF!,Gruppenberechtigung!$AV$8:$BN$8,$AB9:$AG9) -> #REF! | G9: =LOOKUP(Gruppenberechtigung!#REF!,Gruppenberechtigung!$AV$8:$BN$8,$AB9:$AG9) -> #REF! | H9: =LOOKUP(Gruppenberechtigung!#REF!,Gruppenberechtigung!$AV$8:$BN$8,$AB9:$AG9) -> #REF! | I9: =LOOKUP(Gruppenberechtigung!#REF!,Gruppenberechtigung!$AV$8:$BN$8,$AB9:$AG9) -> #REF! | J9: =LOOKUP(Gruppenberechtigung!#REF!,Gruppenberechtigung!$AV$8:$BN$8,$AB9:$AG9) -> #REF! | K9: =LOOKUP(Gruppenberechtigung!#REF!,Gruppenberechtigung!$AV$8:$BN$8,$AB9:$AG9) -> #REF! | L9: =LOOKUP(Gruppenberechtigung!#REF!,Gruppenberechtigung!$AV$8:$BN$8,$AB9:$AG9) -> #REF! | M9: =LOOKUP(Gruppenberechtigung!#REF!,Gruppenberechtigung!$AV$8:$BN$8,$AB9:$AG9) -> #REF! | ... AA9: =LOOKUP(Gruppenberechtigung!#REF!,Gruppenberechtigung!$AV$8:$BN$8,$AB9:$AG9) -> #REF! | AB9: x | AC9: x | AD9: ! | AE9: !
D10: Daten lesen | F10: =LOOKUP(Gruppenberechtigung!#REF!,Gruppenberechtigung!$AV$8:$BN$8,$AB10:$AG10) -> #REF! | G10: =LOOKUP(Gruppenberechtigung!#REF!,Gruppenberechtigung!$AV$8:$BN$8,$AB10:$AG10) -> #REF! | H10: =LOOKUP(Gruppenberechtigung!#REF!,Gruppenberechtigung!$AV$8:$BN$8,$AB10:$AG10) -> #REF! | I10: =LOOKUP(Gruppenberechtigung!#REF!,Gruppenberechtigung!$AV$8:$BN$8,$AB10:$AG10) -> #REF! | J10: =LOOKUP(Gruppenberechtigung!#REF!,Gruppenberechtigung!$AV$8:$BN$8,$AB10:$AG10) -> #REF! | K10: =LOOKUP(Gruppenberechtigung!#REF!,Gruppenberechtigung!$AV$8:$BN$8,$AB10:$AG10) -> #REF! | L10: =LOOKUP(Gruppenberechtigung!#REF!,Gruppenberechtigung!$AV$8:$BN$8,$AB10:$AG10) -> #REF! | M10: =LOOKUP(Gruppenberechtigung!#REF!,Gruppenberechtigung!$AV$8:$BN$8,$AB10:$AG10) -> #REF! | ... AA10: =LOOKUP(Gruppenberechtigung!#REF!,Gruppenberechtigung!$AV$8:$BN$8,$AB10:$AG10) -> #REF! | AB10: x | AC10: x | AD10: x | AE10: x
D11: Daten erstellen | F11: =LOOKUP(Gruppenberechtigung!#REF!,Gruppenberechtigung!$AV$8:$BN$8,$AB11:$AG11) -> #REF! | G11: =LOOKUP(Gruppenberechtigung!#REF!,Gruppenberechtigung!$AV$8:$BN$8,$AB11:$AG11) -> #REF! | H11: =LOOKUP(Gruppenberechtigung!#REF!,Gruppenberechtigung!$AV$8:$BN$8,$AB11:$AG11) -> #REF! | I11: =LOOKUP(Gruppenberechtigung!#REF!,Gruppenberechtigung!$AV$8:$BN$8,$AB11:$AG11) -> #REF! | J11: =LOOKUP(Gruppenberechtigung!#REF!,Gruppenberechtigung!$AV$8:$BN$8,$AB11:$AG11) -> #REF! | K11: =LOOKUP(Gruppenberechtigung!#REF!,Gruppenberechtigung!$AV$8:$BN$8,$AB11:$AG11) -> #REF! | L11: =LOOKUP(Gruppenberechtigung!#REF!,Gruppenberechtigung!$AV$8:$BN$8,$AB11:$AG11) -> #REF! | M11: =LOOKUP(Gruppenberechtigung!#REF!,Gruppenberechtigung!$AV$8:$BN$8,$AB11:$AG11) -> #REF! | ... AA11: =LOOKUP(Gruppenberechtigung!#REF!,Gruppenberechtigung!$AV$8:$BN$8,$AB11:$AG11) -> #REF! | AB11: x | AC11: x
D12: Daten bearbeiten | F12: =LOOKUP(Gruppenberechtigung!#REF!,Gruppenberechtigung!$AV$8:$BN$8,$AB12:$AG12) -> #REF! | G12: =LOOKUP(Gruppenberechtigung!#REF!,Gruppenberechtigung!$AV$8:$BN$8,$AB12:$AG12) -> #REF! | H12: =LOOKUP(Gruppenberechtigung!#REF!,Gruppenberechtigung!$AV$8:$BN$8,$AB12:$AG12) -> #REF! | I12: =LOOKUP(Gruppenberechtigung!#REF!,Gruppenberechtigung!$AV$8:$BN$8,$AB12:$AG12) -> #REF! | J12: =LOOKUP(Gruppenberechtigung!#REF!,Gruppenberechtigung!$AV$8:$BN$8,$AB12:$AG12) -> #REF! | K12: =LOOKUP(Gruppenberechtigung!#REF!,Gruppenberechtigung!$AV$8:$BN$8,$AB12:$AG12) -> #REF! | L12: =LOOKUP(Gruppenberechtigung!#REF!,Gruppenberechtigung!$AV$8:$BN$8,$AB12:$AG12) -> #REF! | M12: =LOOKUP(Gruppenberechtigung!#REF!,Gruppenberechtigung!$AV$8:$BN$8,$AB12:$AG12) -> #REF! | ... AA12: =LOOKUP(Gruppenberechtigung!#REF!,Gruppenberechtigung!$AV$8:$BN$8,$AB12:$AG12) -> #REF! | AB12: x | AC12: x | AD12: x
D13: Daten löschen | F13: =LOOKUP(Gruppenberechtigung!#REF!,Gruppenberechtigung!$AV$8:$BN$8,$AB13:$AG13) -> #REF! | G13: =LOOKUP(Gruppenberechtigung!#REF!,Gruppenberechtigung!$AV$8:$BN$8,$AB13:$AG13) -> #REF! | H13: =LOOKUP(Gruppenberechtigung!#REF!,Gruppenberechtigung!$AV$8:$BN$8,$AB13:$AG13) -> #REF! | I13: =LOOKUP(Gruppenberechtigung!#REF!,Gruppenberechtigung!$AV$8:$BN$8,$AB13:$AG13) -> #REF! | J13: =LOOKUP(Gruppenberechtigung!#REF!,Gruppenberechtigung!$AV$8:$BN$8,$AB13:$AG13) -> #REF! | K13: =LOOKUP(Gruppenberechtigung!#REF!,Gruppenberechtigung!$AV$8:$BN$8,$AB13:$AG13) -> #REF! | L13: =LOOKUP(Gruppenberechtigung!#REF!,Gruppenberechtigung!$AV$8:$BN$8,$AB13:$AG13) -> #REF! | M13: =LOOKUP(Gruppenberechtigung!#REF!,Gruppenberechtigung!$AV$8:$BN$8,$AB13:$AG13) -> #REF! | ... AA13: =LOOKUP(Gruppenberechtigung!#REF!,Gruppenberechtigung!$AV$8:$BN$8,$AB13:$AG13) -> #REF! | AB13: x | AC13: x
D14: Drucken | F14: =LOOKUP(Gruppenberechtigung!#REF!,Gruppenberechtigung!$AV$8:$BN$8,$AB14:$AG14) -> #REF! | G14: =LOOKUP(Gruppenberechtigung!#REF!,Gruppenberechtigung!$AV$8:$BN$8,$AB14:$AG14) -> #REF! | H14: =LOOKUP(Gruppenberechtigung!#REF!,Gruppenberechtigung!$AV$8:$BN$8,$AB14:$AG14) -> #REF! | I14: =LOOKUP(Gruppenberechtigung!#REF!,Gruppenberechtigung!$AV$8:$BN$8,$AB14:$AG14) -> #REF! | J14: =LOOKUP(Gruppenberechtigung!#REF!,Gruppenberechtigung!$AV$8:$BN$8,$AB14:$AG14) -> #REF! | K14: =LOOKUP(Gruppenberechtigung!#REF!,Gruppenberechtigung!$AV$8:$BN$8,$AB14:$AG14) -> #REF! | L14: =LOOKUP(Gruppenberechtigung!#REF!,Gruppenberechtigung!$AV$8:$BN$8,$AB14:$AG14) -> #REF! | M14: =LOOKUP(Gruppenberechtigung!#REF!,Gruppenberechtigung!$AV$8:$BN$8,$AB14:$AG14) -> #REF! | ... AA14: =LOOKUP(Gruppenberechtigung!#REF!,Gruppenberechtigung!$AV$8:$BN$8,$AB14:$AG14) -> #REF! | AB14: x | AC14: x | AD14: x | AE14: !
C15: >Kundennotiz
D16: Daten erstellen | F16: =LOOKUP(Gruppenberechtigung!#REF!,Gruppenberechtigung!$AV$8:$BN$8,$AB16:$AG16) -> #REF! | G16: =LOOKUP(Gruppenberechtigung!#REF!,Gruppenberechtigung!$AV$8:$BN$8,$AB16:$AG16) -> #REF! | H16: =LOOKUP(Gruppenberechtigung!#REF!,Gruppenberechtigung!$AV$8:$BN$8,$AB16:$AG16) -> #REF! | I16: =LOOKUP(Gruppenberechtigung!#REF!,Gruppenberechtigung!$AV$8:$BN$8,$AB16:$AG16) -> #REF! | J16: =LOOKUP(Gruppenberechtigung!#REF!,Gruppenberechtigung!$AV$8:$BN$8,$AB16:$AG16) -> #REF! | K16: =LOOKUP(Gruppenberechtigung!#REF!,Gruppenberechtigung!$AV$8:$BN$8,$AB16:$AG16) -> #REF! | L16: =LOOKUP(Gruppenberechtigung!#REF!,Gruppenberechtigung!$AV$8:$BN$8,$AB16:$AG16) -> #REF! | M16: =LOOKUP(Gruppenberechtigung!#REF!,Gruppenberechtigung!$AV$8:$BN$8,$AB16:$AG16) -> #REF! | ... AA16: =LOOKUP(Gruppenberechtigung!#REF!,Gruppenberechtigung!$AV$8:$BN$8,$AB16:$AG16) -> #REF! | AB16: x | AC16: x | AD16: x
D17: Daten bearbeiten | F17: =LOOKUP(Gruppenberechtigung!#REF!,Gruppenberechtigung!$AV$8:$BN$8,$AB17:$AG17) -> #REF! | G17: =LOOKUP(Gruppenberechtigung!#REF!,Gruppenberechtigung!$AV$8:$BN$8,$AB17:$AG17) -> #REF! | H17: =LOOKUP(Gruppenberechtigung!#REF!,Gruppenberechtigung!$AV$8:$BN$8,$AB17:$AG17) -> #REF! | I17: =LOOKUP(Gruppenberechtigung!#REF!,Gruppenberechtigung!$AV$8:$BN$8,$AB17:$AG17) -> #REF! | J17: =LOOKUP(Gruppenberechtigung!#REF!,Gruppenberechtigung!$AV$8:$BN$8,$AB17:$AG17) -> #REF! | K17: =LOOKUP(Gruppenberechtigung!#REF!,Gruppenberechtigung!$AV$8:$BN$8,$AB17:$AG17) -> #REF! | L17: =LOOKUP(Gruppenberechtigung!#REF!,Gruppenberechtigung!$AV$8:$BN$8,$AB17:$AG17) -> #REF! | M17: =LOOKUP(Gruppenberechtigung!#REF!,Gruppenberechtigung!$AV$8:$BN$8,$AB17:$AG17) -> #REF! | ... AA17: =LOOKUP(Gruppenberechtigung!#REF!,Gruppenberechtigung!$AV$8:$BN$8,$AB17:$AG17) -> #REF! | AB17: x | AC17: x | AD17: x
D18: Daten löschen | F18: =LOOKUP(Gruppenberechtigung!#REF!,Gruppenberechtigung!$AV$8:$BN$8,$AB18:$AG18) -> #REF! | G18: =LOOKUP(Gruppenberechtigung!#REF!,Gruppenberechtigung!$AV$8:$BN$8,$AB18:$AG18) -> #REF! | H18: =LOOKUP(Gruppenberechtigung!#REF!,Gruppenberechtigung!$AV$8:$BN$8,$AB18:$AG18) -> #REF! | I18: =LOOKUP(Gruppenberechtigung!#REF!,Gruppenberechtigung!$AV$8:$BN$8,$AB18:$AG18) -> #REF! | J18: =LOOKUP(Gruppenberechtigung!#REF!,Gruppenberechtigung!$AV$8:$BN$8,$AB18:$AG18) -> #REF! | K18: =LOOKUP(Gruppenberechtigung!#REF!,Gruppenberechtigung!$AV$8:$BN$8,$AB18:$AG18) -> #REF! | L18: =LOOKUP(Gruppenberechtigung!#REF!,Gruppenberechtigung!$AV$8:$BN$8,$AB18:$AG18) -> #REF! | M18: =LOOKUP(Gruppenberechtigung!#REF!,Gruppenberechtigung!$AV$8:$BN$8,$AB18:$AG18) -> #REF! | ... AA18: =LOOKUP(Gruppenberechtigung!#REF!,Gruppenberechtigung!$AV$8:$BN$8,$AB18:$AG18) -> #REF! | AB18: x | AC18: x
D19: Drucken | F19: =LOOKUP(Gruppenberechtigung!#REF!,Gruppenberechtigung!$AV$8:$BN$8,$AB19:$AG19) -> #REF! | G19: =LOOKUP(Gruppenberechtigung!#REF!,Gruppenberechtigung!$AV$8:$BN$8,$AB19:$AG19) -> #REF! | H19: =LOOKUP(Gruppenberechtigung!#REF!,Gruppenberechtigung!$AV$8:$BN$8,$AB19:$AG19) -> #REF! | I19: =LOOKUP(Gruppenberechtigung!#REF!,Gruppenberechtigung!$AV$8:$BN$8,$AB19:$AG19) -> #REF! | J19: =LOOKUP(Gruppenberechtigung!#REF!,Gruppenberechtigung!$AV$8:$BN$8,$AB19:$AG19) -> #REF! | K19: =LOOKUP(Gruppenberechtigung!#REF!,Gruppenberechtigung!$AV$8:$BN$8,$AB19:$AG19) -> #REF! | L19: =LOOKUP(Gruppenberechtigung!#REF!,Gruppenberechtigung!$AV$8:$BN$8,$AB19:$AG19) -> #REF! | M19: =LOOKUP(Gruppenberechtigung!#REF!,Gruppenberechtigung!$AV$8:$BN$8,$AB19:$AG19) -> #REF! | ... AA19: =LOOKUP(Gruppenberechtigung!#REF!,Gruppenberechtigung!$AV$8:$BN$8,$AB19:$AG19) -> #REF! | AB19: x | AC19: x | AD19: x | AE19: !
C20: >Verlaufsbericht
D21: Daten erstellen | F21: =LOOKUP(Gruppenberechtigung!#REF!,Gruppenberechtigung!$AV$8:$BN$8,$AB21:$AG21) -> #REF! | G21: =LOOKUP(Gruppenberechtigung!#REF!,Gruppenberechtigung!$AV$8:$BN$8,$AB21:$AG21) -> #REF! | H21: =LOOKUP(Gruppenberechtigung!#REF!,Gruppenberechtigung!$AV$8:$BN$8,$AB21:$AG21) -> #REF! | I21: =LOOKUP(Gruppenberechtigung!#REF!,Gruppenberechtigung!$AV$8:$BN$8,$AB21:$AG21) -> #REF! | J21: ! | K21: =LOOKUP(Gruppenberechtigung!#REF!,Gruppenberechtigung!$AV$8:$BN$8,$AB21:$AG21) -> #REF! | L21: =LOOKUP(Gruppenberechtigung!#REF!,Gruppenberechtigung!$AV$8:$BN$8,$AB21:$AG21) -> #REF! | M21: =LOOKUP(Gruppenberechtigung!#REF!,Gruppenberechtigung!$AV$8:$BN$8,$AB21:$AG21) -> #REF! | N21: =LOOKUP(Gruppenberechtigung!#REF!,Gruppenberechtigung!$AV$8:$BN$8,$AB21:$AG21) -> #REF! | O21: =LOOKUP(Gruppenberechtigung!#REF!,Gruppenberechtigung!$AV$8:$BN$8,$AB21:$AG21) -> #REF! | P21: =LOOKUP(Gruppenberechtigung!#REF!,Gruppenberechtigung!$AV$8:$BN$8,$AB21:$AG21) -> #REF! | Q21: =LOOKUP(Gruppenberechtigung!#REF!,Gruppenberechtigung!$AV$8:$BN$8,$AB21:$AG21) -> #REF! | R21: =LOOKUP(Gruppenberechtigung!#REF!,Gruppenberechtigung!$AV$8:$BN$8,$AB21:$AG21) -> #REF! | ... AA21: =LOOKUP(Gruppenberechtigung!#REF!,Gruppenberechtigung!$AV$8:$BN$8,$AB21:$AG21) -> #REF! | AB21: x | AC21: x | AD21: x
D22: Daten bearbeiten | F22: =LOOKUP(Gruppenberechtigung!#REF!,Gruppenberechtigung!$AV$8:$BN$8,$AB22:$AG22) -> #REF! | G22: =LOOKUP(Gruppenberechtigung!#REF!,Gruppenberechtigung!$AV$8:$BN$8,$AB22:$AG22) -> #REF! | H22: =LOOKUP(Gruppenberechtigung!#REF!,Gruppenberechtigung!$AV$8:$BN$8,$AB22:$AG22) -> #REF! | I22: =LOOKUP(Gruppenberechtigung!#REF!,Gruppenberechtigung!$AV$8:$BN$8,$AB22:$AG22) -> #REF! | J22: ! | K22: =LOOKUP(Gruppenberechtigung!#REF!,Gruppenberechtigung!$AV$8:$BN$8,$AB22:$AG22) -> #REF! | L22: =LOOKUP(Gruppenberechtigung!#REF!,Gruppenberechtigung!$AV$8:$BN$8,$AB22:$AG22) -> #REF! | M22: =LOOKUP(Gruppenberechtigung!#REF!,Gruppenberechtigung!$AV$8:$BN$8,$AB22:$AG22) -> #REF! | N22: =LOOKUP(Gruppenberechtigung!#REF!,Gruppenberechtigung!$AV$8:$BN$8,$AB22:$AG22) -> #REF! | O22: =LOOKUP(Gruppenberechtigung!#REF!,Gruppenberechtigung!$AV$8:$BN$8,$AB22:$AG22) -> #REF! | P22: =LOOKUP(Gruppenberechtigung!#REF!,Gruppenberechtigung!$AV$8:$BN$8,$AB22:$AG22) -> #REF! | Q22: =LOOKUP(Gruppenberechtigung!#REF!,Gruppenberechtigung!$AV$8:$BN$8,$AB22:$AG22) -> #REF! | R22: =LOOKUP(Gruppenberechtigung!#REF!,Gruppenberechtigung!$AV$8:$BN$8,$AB22:$AG22) -> #REF! | ... AA22: =LOOKUP(Gruppenberechtigung!#REF!,Gruppenberechtigung!$AV$8:$BN$8,$AB22:$AG22) -> #REF! | AB22: x | AC22: x | AD22: x
D23: Daten löschen | F23: =LOOKUP(Gruppenberechtigung!#REF!,Gruppenberechtigung!$AV$8:$BN$8,$AB23:$AG23) -> #REF! | G23: =LOOKUP(Gruppenberechtigung!#REF!,Gruppenberechtigung!$AV$8:$BN$8,$AB23:$AG23) -> #REF! | H23: =LOOKUP(Gruppenberechtigung!#REF!,Gruppenberechtigung!$AV$8:$BN$8,$AB23:$AG23) -> #REF! | I23: =LOOKUP(Gruppenberechtigung!#REF!,Gruppenberechtigung!$AV$8:$BN$8,$AB23:$AG23) -> #REF! | J23: =LOOKUP(Gruppenberechtigung!#REF!,Gruppenberechtigung!$AV$8:$BN$8,$AB23:$AG23) -> #REF! | K23: =LOOKUP(Gruppenberechtigung!#REF!,Gruppenberechtigung!$AV$8:$BN$8,$AB23:$AG23) -> #REF! | L23: =LOOKUP(Gruppenberechtigung!#REF!,Gruppenberechtigung!$AV$8:$BN$8,$AB23:$AG23) -> #REF! | M23: =LOOKUP(Gruppenberechtigung!#REF!,Gruppenberechtigung!$AV$8:$BN$8,$AB23:$AG23) -> #REF! | ... AA23: =LOOKUP(Gruppenberechtigung!#REF!,Gruppenberechtigung!$AV$8:$BN$8,$AB23:$AG23) -> #REF! | AB23: x | AC23: x
D24: Drucken | F24: =LOOKUP(Gruppenberechtigung!#REF!,Gruppenberechtigung!$AV$8:$BN$8,$AB24:$AG24) -> #REF! | G24: =LOOKUP(Gruppenberechtigung!#REF!,Gruppenberechtigung!$AV$8:$BN$8,$AB24:$AG24) -> #REF! | H24: =LOOKUP(Gruppenberechtigung!#REF!,Gruppenberechtigung!$AV$8:$BN$8,$AB24:$AG24) -> #REF! | I24: =LOOKUP(Gruppenberechtigung!#REF!,Gruppenberechtigung!$AV$8:$BN$8,$AB24:$AG24) -> #REF! | J24: =LOOKUP(Gruppenberechtigung!#REF!,Gruppenberechtigung!$AV$8:$BN$8,$AB24:$AG24) -> #REF! | K24: =LOOKUP(Gruppenberechtigung!#REF!,Gruppenberechtigung!$AV$8:$BN$8,$AB24:$AG24) -> #REF! | L24: =LOOKUP(Gruppenberechtigung!#REF!,Gruppenberechtigung!$AV$8:$BN$8,$AB24:$AG24) -> #REF! | M24: =LOOKUP(Gruppenberechtigung!#REF!,Gruppenberechtigung!$AV$8:$BN$8,$AB24:$AG24) -> #REF! | ... AA24: =LOOKUP(Gruppenberechtigung!#REF!,Gruppenberechtigung!$AV$8:$BN$8,$AB24:$AG24) -> #REF! | AB24: x | AC24: x | AD24: x | AE24: !
C25: >Medikament
D26: Daten erstellen | F26: =LOOKUP(Gruppenberechtigung!#REF!,Gruppenberechtigung!$AV$8:$BN$8,$AB26:$AG26) -> #REF! | G26: =LOOKUP(Gruppenberechtigung!#REF!,Gruppenberechtigung!$AV$8:$BN$8,$AB26:$AG26) -> #REF! | H26: =LOOKUP(Gruppenberechtigung!#REF!,Gruppenberechtigung!$AV$8:$BN$8,$AB26:$AG26) -> #REF! | I26: =LOOKUP(Gruppenberechtigung!#REF!,Gruppenberechtigung!$AV$8:$BN$8,$AB26:$AG26) -> #REF! | J26: ! | K26: =LOOKUP(Gruppenberechtigung!#REF!,Gruppenberechtigung!$AV$8:$BN$8,$AB26:$AG26) -> #REF! | L26: =LOOKUP(Gruppenberechtigung!#REF!,Gruppenberechtigung!$AV$8:$BN$8,$AB26:$AG26) -> #REF! | M26: =LOOKUP(Gruppenberechtigung!#REF!,Gruppenberechtigung!$AV$8:$BN$8,$AB26:$AG26) -> #REF! | N26: =LOOKUP(Gruppenberechtigung!#REF!,Gruppenberechtigung!$AV$8:$BN$8,$AB26:$AG26) -> #REF! | O26: =LOOKUP(Gruppenberechtigung!#REF!,Gruppenberechtigung!$AV$8:$BN$8,$AB26:$AG26) -> #REF! | P26: =LOOKUP(Gruppenberechtigung!#REF!,Gruppenberechtigung!$AV$8:$BN$8,$AB26:$AG26) -> #REF! | Q26: =LOOKUP(Gruppenberechtigung!#REF!,Gruppenberechtigung!$AV$8:$BN$8,$AB26:$AG26) -> #REF! | R26: =LOOKUP(Gruppenberechtigung!#REF!,Gruppenberechtigung!$AV$8:$BN$8,$AB26:$AG26) -> #REF! | ... AA26: =LOOKUP(Gruppenberechtigung!#REF!,Gruppenberechtigung!$AV$8:$BN$8,$AB26:$AG26) -> #REF! | AB26: x | AC26: x | AD26: x
D27: Daten bearbeiten | F27: =LOOKUP(Gruppenberechtigung!#REF!,Gruppenberechtigung!$AV$8:$BN$8,$AB27:$AG27) -> #REF! | G27: =LOOKUP(Gruppenberechtigung!#REF!,Gruppenberechtigung!$AV$8:$BN$8,$AB27:$AG27) -> #REF! | H27: =LOOKUP(Gruppenberechtigung!#REF!,Gruppenberechtigung!$AV$8:$BN$8,$AB27:$AG27) -> #REF! | I27: =LOOKUP(Gruppenberechtigung!#REF!,Gruppenberechtigung!$AV$8:$BN$8,$AB27:$AG27) -> #REF! | J27: ! | K27: =LOOKUP(Gruppenberechtigung!#REF!,Gruppenberechtigung!$AV$8:$BN$8,$AB27:$AG27) -> #REF! | L27: =LOOKUP(Gruppenberechtigung!#REF!,Gruppenberechtigung!$AV$8:$BN$8,$AB27:$AG27) -> #REF! | M27: =LOOKUP(Gruppenberechtigung!#REF!,Gruppenberechtigung!$AV$8:$BN$8,$AB27:$AG27) -> #REF! | N27: =LOOKUP(Gruppenberechtigung!#REF!,Gruppenberechtigung!$AV$8:$BN$8,$AB27:$AG27) -> #REF! | O27: =LOOKUP(Gruppenberechtigung!#REF!,Gruppenberechtigung!$AV$8:$BN$8,$AB27:$AG27) -> #REF! | P27: =LOOKUP(Gruppenberechtigung!#REF!,Gruppenberechtigung!$AV$8:$BN$8,$AB27:$AG27) -> #REF! | Q27: =LOOKUP(Gruppenberechtigung!#REF!,Gruppenberechtigung!$AV$8:$BN$8,$AB27:$AG27) -> #REF! | R27: =LOOKUP(Gruppenberechtigung!#REF!,Gruppenberechtigung!$AV$8:$BN$8,$AB27:$AG27) -> #REF! | ... AA27: =LOOKUP(Gruppenberechtigung!#REF!,Gruppenberechtigung!$AV$8:$BN$8,$AB27:$AG27) -> #REF! | AB27: x | AC27: x | AD27: x
D28: Daten löschen | F28: =LOOKUP(Gruppenberechtigung!#REF!,Gruppenberechtigung!$AV$8:$BN$8,$AB28:$AG28) -> #REF! | G28: =LOOKUP(Gruppenberechtigung!#REF!,Gruppenberechtigung!$AV$8:$BN$8,$AB28:$AG28) -> #REF! | H28: =LOOKUP(Gruppenberechtigung!#REF!,Gruppenberechtigung!$AV$8:$BN$8,$AB28:$AG28) -> #REF! | I28: =LOOKUP(Gruppenberechtigung!#REF!,Gruppenberechtigung!$AV$8:$BN$8,$AB28:$AG28) -> #REF! | J28: =LOOKUP(Gruppenberechtigung!#REF!,Gruppenberechtigung!$AV$8:$BN$8,$AB28:$AG28) -> #REF! | K28: =LOOKUP(Gruppenberechtigung!#REF!,Gruppenberechtigung!$AV$8:$BN$8,$AB28:$AG28) -> #REF! | L28: =LOOKUP(Gruppenberechtigung!#REF!,Gruppenberechtigung!$AV$8:$BN$8,$AB28:$AG28) -> #REF! | M28: =LOOKUP(Gruppenberechtigung!#REF!,Gruppenberechtigung!$AV$8:$BN$8,$AB28:$AG28) -> #REF! | ... AA28: =LOOKUP(Gruppenberechtigung!#REF!,Gruppenberechtigung!$AV$8:$BN$8,$AB28:$AG28) -> #REF! | AB28: x | AC28: x
D29: Drucken | F29: =LOOKUP(Gruppenberechtigung!#REF!,Gruppenberechtigung!$AV$8:$BN$8,$AB29:$AG29) -> #REF! | G29: =LOOKUP(Gruppenberechtigung!#REF!,Gruppenberechtigung!$AV$8:$BN$8,$AB29:$AG29) -> #REF! | H29: =LOOKUP(Gruppenberechtigung!#REF!,Gruppenberechtigung!$AV$8:$BN$8,$AB29:$AG29) -> #REF! | I29: =LOOKUP(Gruppenberechtigung!#REF!,Gruppenberechtigung!$AV$8:$BN$8,$AB29:$AG29) -> #REF! | J29: =LOOKUP(Gruppenberechtigung!#REF!,Gruppenberechtigung!$AV$8:$BN$8,$AB29:$AG29) -> #REF! | K29: =LOOKUP(Gruppenberechtigung!#REF!,Gruppenberechtigung!$AV$8:$BN$8,$AB29:$AG29) -> #REF! | L29: =LOOKUP(Gruppenberechtigung!#REF!,Gruppenberechtigung!$AV$8:$BN$8,$AB29:$AG29) -> #REF! | M29: =LOOKUP(Gruppenberechtigung!#REF!,Gruppenberechtigung!$AV$8:$BN$8,$AB29:$AG29) -> #REF! | ... AA29: =LOOKUP(Gruppenberechtigung!#REF!,Gruppenberechtigung!$AV$8:$BN$8,$AB29:$AG29) -> #REF! | AB29: x | AC29: x | AD29: x | AE29: !
D30: Neue Medikamente in d. Stammdaten übernehmen | F30: =LOOKUP(Gruppenberechtigung!#REF!,Gruppenberechtigung!$AV$8:$BN$8,$AB30:$AG30) -> #REF! | G30: =LOOKUP(Gruppenberechtigung!#REF!,Gruppenberechtigung!$AV$8:$BN$8,$AB30:$AG30) -> #REF! | H30: =LOOKUP(Gruppenberechtigung!#REF!,Gruppenberechtigung!$AV$8:$BN$8,$AB30:$AG30) -> #REF! | I30: =LOOKUP(Gruppenberechtigung!#REF!,Gruppenberechtigung!$AV$8:$BN$8,$AB30:$AG30) -> #REF! | J30: ! | K30: =LOOKUP(Gruppenberechtigung!#REF!,Gruppenberechtigung!$AV$8:$BN$8,$AB30:$AG30) -> #REF! | L30: =LOOKUP(Gruppenberechtigung!#REF!,Gruppenberechtigung!$AV$8:$BN$8,$AB30:$AG30) -> #REF! | M30: =LOOKUP(Gruppenberechtigung!#REF!,Gruppenberechtigung!$AV$8:$BN$8,$AB30:$AG30) -> #REF! | N30: =LOOKUP(Gruppenberechtigung!#REF!,Gruppenberechtigung!$AV$8:$BN$8,$AB30:$AG30) -> #REF! | O30: =LOOKUP(Gruppenberechtigung!#REF!,Gruppenberechtigung!$AV$8:$BN$8,$AB30:$AG30) -> #REF! | P30: =LOOKUP(Gruppenberechtigung!#REF!,Gruppenberechtigung!$AV$8:$BN$8,$AB30:$AG30) -> #REF! | Q30: =LOOKUP(Gruppenberechtigung!#REF!,Gruppenberechtigung!$AV$8:$BN$8,$AB30:$AG30) -> #REF! | R30: =LOOKUP(Gruppenberechtigung!#REF!,Gruppenberechtigung!$AV$8:$BN$8,$AB30:$AG30) -> #REF! | ... AA30: =LOOKUP(Gruppenberechtigung!#REF!,Gruppenberechtigung!$AV$8:$BN$8,$AB30:$AG30) -> #REF! | AB30: x | AC30: x | AD30: !
C37: >Wunddokumentation
D38: Daten erstellen | F38: =LOOKUP(Gruppenberechtigung!#REF!,Gruppenberechtigung!$AV$8:$BN$8,$AB38:$AG38) -> #REF! | G38: =LOOKUP(Gruppenberechtigung!#REF!,Gruppenberechtigung!$AV$8:$BN$8,$AB38:$AG38) -> #REF! | H38: =LOOKUP(Gruppenberechtigung!#REF!,Gruppenberechtigung!$AV$8:$BN$8,$AB38:$AG38) -> #REF! | I38: =LOOKUP(Gruppenberechtigung!#REF!,Gruppenberechtigung!$AV$8:$BN$8,$AB38:$AG38) -> #REF! | J38: =LOOKUP(Gruppenberechtigung!#REF!,Gruppenberechtigung!$AV$8:$BN$8,$AB38:$AG38) -> #REF! | K38: =LOOKUP(Gruppenberechtigung!#REF!,Gruppenberechtigung!$AV$8:$BN$8,$AB38:$AG38) -> #REF! | L38: =LOOKUP(Gruppenberechtigung!#REF!,Gruppenberechtigung!$AV$8:$BN$8,$AB38:$AG38) -> #REF! | M38: =LOOKUP(Gruppenberechtigung!#REF!,Gruppenberechtigung!$AV$8:$BN$8,$AB38:$AG38) -> #REF! | ... AA38: =LOOKUP(Gruppenberechtigung!#REF!,Gruppenberechtigung!$AV$8:$BN$8,$AB38:$AG38) -> #REF! | AB38: x | AC38: x | AD38: x | AE38: x
D39: Daten bearbeiten | F39: =LOOKUP(Gruppenberechtigung!#REF!,Gruppenberechtigung!$AV$8:$BN$8,$AB39:$AG39) -> #REF! | G39: =LOOKUP(Gruppenberechtigung!#REF!,Gruppenberechtigung!$AV$8:$BN$8,$AB39:$AG39) -> #REF! | H39: =LOOKUP(Gruppenberechtigung!#REF!,Gruppenberechtigung!$AV$8:$BN$8,$AB39:$AG39) -> #REF! | I39: =LOOKUP(Gruppenberechtigung!#REF!,Gruppenberechtigung!$AV$8:$BN$8,$AB39:$AG39) -> #REF! | J39: =LOOKUP(Gruppenberechtigung!#REF!,Gruppenberechtigung!$AV$8:$BN$8,$AB39:$AG39) -> #REF! | K39: =LOOKUP(Gruppenberechtigung!#REF!,Gruppenberechtigung!$AV$8:$BN$8,$AB39:$AG39) -> #REF! | L39: =LOOKUP(Gruppenberechtigung!#REF!,Gruppenberechtigung!$AV$8:$BN$8,$AB39:$AG39) -> #REF! | M39: =LOOKUP(Gruppenberechtigung!#REF!,Gruppenberechtigung!$AV$8:$BN$8,$AB39:$AG39) -> #REF! | ... AA39: =LOOKUP(Gruppenberechtigung!#REF!,Gruppenberechtigung!$AV$8:$BN$8,$AB39:$AG39) -> #REF! | AB39: x | AC39: x | AD39: x
D40: Daten löschen | F40: =LOOKUP(Gruppenberechtigung!#REF!,Gruppenberechtigung!$AV$8:$BN$8,$AB40:$AG40) -> #REF! | G40: =LOOKUP(Gruppenberechtigung!#REF!,Gruppenberechtigung!$AV$8:$BN$8,$AB40:$AG40) -> #REF! | H40: =LOOKUP(Gruppenberechtigung!#REF!,Gruppenberechtigung!$AV$8:$BN$8,$AB40:$AG40) -> #REF! | I40: =LOOKUP(Gruppenberechtigung!#REF!,Gruppenberechtigung!$AV$8:$BN$8,$AB40:$AG40) -> #REF! | J40: =LOOKUP(Gruppenberechtigung!#REF!,Gruppenberechtigung!$AV$8:$BN$8,$AB40:$AG40) -> #REF! | K40: =LOOKUP(Gruppenberechtigung!#REF!,Gruppenberechtigung!$AV$8:$BN$8,$AB40:$AG40) -> #REF! | L40: =LOOKUP(Gruppenberechtigung!#REF!,Gruppenberechtigung!$AV$8:$BN$8,$AB40:$AG40) -> #REF! | M40: =LOOKUP(Gruppenberechtigung!#REF!,Gruppenberechtigung!$AV$8:$BN$8,$AB40:$AG40) -> #REF! | ... AA40: =LOOKUP(Gruppenberechtigung!#REF!,Gruppenberechtigung!$AV$8:$BN$8,$AB40:$AG40) -> #REF! | AB40: x | AC40: x
D41: Drucken | F41: =LOOKUP(Gruppenberechtigung!#REF!,Gruppenberechtigung!$AV$8:$BN$8,$AB41:$AG41) -> #REF! | G41: =LOOKUP(Gruppenberechtigung!#REF!,Gruppenberechtigung!$AV$8:$BN$8,$AB41:$AG41) -> #REF! | H41: =LOOKUP(Gruppenberechtigung!#REF!,Gruppenberechtigung!$AV$8:$BN$8,$AB41:$AG41) -> #REF! | I41: =LOOKUP(Gruppenberechtigung!#REF!,Gruppenberechtigung!$AV$8:$BN$8,$AB41:$AG41) -> #REF! | J41: =LOOKUP(Gruppenberechtigung!#REF!,Gruppenberechtigung!$AV$8:$BN$8,$AB41:$AG41) -> #REF! | K41: =LOOKUP(Gruppenberechtigung!#REF!,Gruppenberechtigung!$AV$8:$BN$8,$AB41:$AG41) -> #REF! | L41: =LOOKUP(Gruppenberechtigung!#REF!,Gruppenberechtigung!$AV$8:$BN$8,$AB41:$AG41) -> #REF! | M41: =LOOKUP(Gruppenberechtigung!#REF!,Gruppenberechtigung!$AV$8:$BN$8,$AB41:$AG41) -> #REF! | ... AA41: =LOOKUP(Gruppenberechtigung!#REF!,Gruppenberechtigung!$AV$8:$BN$8,$AB41:$AG41) -> #REF! | AB41: x | AC41: x | AD41: x | AE41: !
C42: >Pflegeplanung
D43: Daten lesen | F43: =LOOKUP(Gruppenberechtigung!#REF!,Gruppenberechtigung!$AV$8:$BN$8,$AB43:$AG43) -> #REF! | G43: =LOOKUP(Gruppenberechtigung!#REF!,Gruppenberechtigung!$AV$8:$BN$8,$AB43:$AG43) -> #REF! | H43: =LOOKUP(Gruppenberechtigung!#REF!,Gruppenberechtigung!$AV$8:$BN$8,$AB43:$AG43) -> #REF! | I43: =LOOKUP(Gruppenberechtigung!#REF!,Gruppenberechtigung!$AV$8:$BN$8,$AB43:$AG43) -> #REF! | J43: =LOOKUP(Gruppenberechtigung!#REF!,Gruppenberechtigung!$AV$8:$BN$8,$AB43:$AG43) -> #REF! | K43: =LOOKUP(Gruppenberechtigung!#REF!,Gruppenberechtigung!$AV$8:$BN$8,$AB43:$AG43) -> #REF! | L43: =LOOKUP(Gruppenberechtigung!#REF!,Gruppenberechtigung!$AV$8:$BN$8,$AB43:$AG43) -> #REF! | M43: =LOOKUP(Gruppenberechtigung!#REF!,Gruppenberechtigung!$AV$8:$BN$8,$AB43:$AG43) -> #REF! | ... AA43: =LOOKUP(Gruppenberechtigung!#REF!,Gruppenberechtigung!$AV$8:$BN$8,$AB43:$AG43) -> #REF! | AB43: x | AC43: x | AD43: x | AE43: x
D44: Daten erstellen | F44: =LOOKUP(Gruppenberechtigung!#REF!,Gruppenberechtigung!$AV$8:$BN$8,$AB44:$AG44) -> #REF! | G44: =LOOKUP(Gruppenberechtigung!#REF!,Gruppenberechtigung!$AV$8:$BN$8,$AB44:$AG44) -> #REF! | H44: =LOOKUP(Gruppenberechtigung!#REF!,Gruppenberechtigung!$AV$8:$BN$8,$AB44:$AG44) -> #REF! | I44: =LOOKUP(Gruppenberechtigung!#REF!,Gruppenberechtigung!$AV$8:$BN$8,$AB44:$AG44) -> #REF! | J44: =LOOKUP(Gruppenberechtigung!#REF!,Gruppenberechtigung!$AV$8:$BN$8,$AB44:$AG44) -> #REF! | K44: =LOOKUP(Gruppenberechtigung!#REF!,Gruppenberechtigung!$AV$8:$BN$8,$AB44:$AG44) -> #REF! | L44: =LOOKUP(Gruppenberechtigung!#REF!,Gruppenberechtigung!$AV$8:$BN$8,$AB44:$AG44) -> #REF! | M44: =LOOKUP(Gruppenberechtigung!#REF!,Gruppenberechtigung!$AV$8:$BN$8,$AB44:$AG44) -> #REF! | ... AA44: =LOOKUP(Gruppenberechtigung!#REF!,Gruppenberechtigung!$AV$8:$BN$8,$AB44:$AG44) -> #REF! | AB44: x | AC44: x | AD44: x
D45: Daten bearbeiten | F45: =LOOKUP(Gruppenberechtigung!#REF!,Gruppenberechtigung!$AV$8:$BN$8,$AB45:$AG45) -> #REF! | G45: =LOOKUP(Gruppenberechtigung!#REF!,Gruppenberechtigung!$AV$8:$BN$8,$AB45:$AG45) -> #REF! | H45: =LOOKUP(Gruppenberechtigung!#REF!,Gruppenberechtigung!$AV$8:$BN$8,$AB45:$AG45) -> #REF! | I45: =LOOKUP(Gruppenberechtigung!#REF!,Gruppenberechtigung!$AV$8:$BN$8,$AB45:$AG45) -> #REF! | J45: =LOOKUP(Gruppenberechtigung!#REF!,Gruppenberechtigung!$AV$8:$BN$8,$AB45:$AG45) -> #REF! | K45: =LOOKUP(Gruppenberechtigung!#REF!,Gruppenberechtigung!$AV$8:$BN$8,$AB45:$AG45) -> #REF! | L45: =LOOKUP(Gruppenberechtigung!#REF!,Gruppenberechtigung!$AV$8:$BN$8,$AB45:$AG45) -> #REF! | M45: =LOOKUP(Gruppenberechtigung!#REF!,Gruppenberechtigung!$AV$8:$BN$8,$AB45:$AG45) -> #REF! | ... AA45: =LOOKUP(Gruppenberechtigung!#REF!,Gruppenberechtigung!$AV$8:$BN$8,$AB45:$AG45) -> #REF! | AB45: x | AC45: x | AD45: x
D46: Daten löschen | F46: =LOOKUP(Gruppenberechtigung!#REF!,Gruppenberechtigung!$AV$8:$BN$8,$AB46:$AG46) -> #REF! | G46: =LOOKUP(Gruppenberechtigung!#REF!,Gruppenberechtigung!$AV$8:$BN$8,$AB46:$AG46) -> #REF! | H46: =LOOKUP(Gruppenberechtigung!#REF!,Gruppenberechtigung!$AV$8:$BN$8,$AB46:$AG46) -> #REF! | I46: =LOOKUP(Gruppenberechtigung!#REF!,Gruppenberechtigung!$AV$8:$BN$8,$AB46:$AG46) -> #REF! | J46: =LOOKUP(Gruppenberechtigung!#REF!,Gruppenberechtigung!$AV$8:$BN$8,$AB46:$AG46) -> #REF! | K46: =LOOKUP(Gruppenberechtigung!#REF!,Gruppenberechtigung!$AV$8:$BN$8,$AB46:$AG46) -> #REF! | L46: =LOOKUP(Gruppenberechtigung!#REF!,Gruppenberechtigung!$AV$8:$BN$8,$AB46:$AG46) -> #REF! | M46: =LOOKUP(Gruppenberechtigung!#REF!,Gruppenberechtigung!$AV$8:$BN$8,$AB46:$AG46) -> #REF! | ... AA46: =LOOKUP(Gruppenberechtigung!#REF!,Gruppenberechtigung!$AV$8:$BN$8,$AB46:$AG46) -> #REF! | AB46: x | AC46: x
D47: Drucken | F47: =LOOKUP(Gruppenberechtigung!#REF!,Gruppenberechtigung!$AV$8:$BN$8,$AB47:$AG47) -> #REF! | G47: =LOOKUP(Gruppenberechtigung!#REF!,Gruppenberechtigung!$AV$8:$BN$8,$AB47:$AG47) -> #REF! | H47: =LOOKUP(Gruppenberechtigung!#REF!,Gruppenberechtigung!$AV$8:$BN$8,$AB47:$AG47) -> #REF! | I47: =LOOKUP(Gruppenberechtigung!#REF!,Gruppenberechtigung!$AV$8:$BN$8,$AB47:$AG47) -> #REF! | J47: =LOOKUP(Gruppenberechtigung!#REF!,Gruppenberechtigung!$AV$8:$BN$8,$AB47:$AG47) -> #REF! | K47: =LOOKUP(Gruppenberechtigung!#REF!,Gruppenberechtigung!$AV$8:$BN$8,$AB47:$AG47) -> #REF! | L47: =LOOKUP(Gruppenberechtigung!#REF!,Gruppenberechtigung!$AV$8:$BN$8,$AB47:$AG47) -> #REF! | M47: =LOOKUP(Gruppenberechtigung!#REF!,Gruppenberechtigung!$AV$8:$BN$8,$AB47:$AG47) -> #REF! | ... AA47: =LOOKUP(Gruppenberechtigung!#REF!,Gruppenberechtigung!$AV$8:$BN$8,$AB47:$AG47) -> #REF! | AB47: x | AC47: x | AD47: x | AE47: x
C50: >Info-Definition
C51: >>Adressen
D52: Daten lesen | F52: =LOOKUP(F$643,$AB$8:$AG$8,$AB52:$AG52) -> #N/A | G52: =LOOKUP(G$643,$AB$8:$AG$8,$AB52:$AG52) -> #N/A | H52: =LOOKUP(H$643,$AB$8:$AG$8,$AB52:$AG52) -> #N/A | I52: =LOOKUP(I$643,$AB$8:$AG$8,$AB52:$AG52) -> #N/A | J52: =LOOKUP(J$643,$AB$8:$AG$8,$AB52:$AG52) -> #N/A | K52: =LOOKUP(K$643,$AB$8:$AG$8,$AB52:$AG52) -> #N/A | L52: =LOOKUP(L$643,$AB$8:$AG$8,$AB52:$AG52) -> #N/A | M52: =LOOKUP(M$643,$AB$8:$AG$8,$AB52:$AG52) -> #N/A | ... AA52: =LOOKUP(AA$643,$AB$8:$AG$8,$AB52:$AG52) -> #N/A | AB52: x | AC52: x | AD52: x | AE52: x
D53: Daten erstellen/bearbeiten/kopieren | F53: =LOOKUP(F$643,$AB$8:$AG$8,$AB53:$AG53) -> #N/A | G53: =LOOKUP(G$643,$AB$8:$AG$8,$AB53:$AG53) -> #N/A | H53: =LOOKUP(H$643,$AB$8:$AG$8,$AB53:$AG53) -> #N/A | I53: =LOOKUP(I$643,$AB$8:$AG$8,$AB53:$AG53) -> #N/A | J53: =LOOKUP(J$643,$AB$8:$AG$8,$AB53:$AG53) -> #N/A | K53: =LOOKUP(K$643,$AB$8:$AG$8,$AB53:$AG53) -> #N/A | L53: =LOOKUP(L$643,$AB$8:$AG$8,$AB53:$AG53) -> #N/A | M53: =LOOKUP(M$643,$AB$8:$AG$8,$AB53:$AG53) -> #N/A | ... AA53: =LOOKUP(AA$643,$AB$8:$AG$8,$AB53:$AG53) -> #N/A | AB53: x | AC53: x
D54: Daten löschen | F54: =LOOKUP(F$643,$AB$8:$AG$8,$AB54:$AG54) -> #N/A | G54: =LOOKUP(G$643,$AB$8:$AG$8,$AB54:$AG54) -> #N/A | H54: =LOOKUP(H$643,$AB$8:$AG$8,$AB54:$AG54) -> #N/A | I54: =LOOKUP(I$643,$AB$8:$AG$8,$AB54:$AG54) -> #N/A | J54: =LOOKUP(J$643,$AB$8:$AG$8,$AB54:$AG54) -> #N/A | K54: =LOOKUP(K$643,$AB$8:$AG$8,$AB54:$AG54) -> #N/A | L54: =LOOKUP(L$643,$AB$8:$AG$8,$AB54:$AG54) -> #N/A | M54: =LOOKUP(M$643,$AB$8:$AG$8,$AB54:$AG54) -> #N/A | ... AA54: =LOOKUP(AA$643,$AB$8:$AG$8,$AB54:$AG54) -> #N/A | AB54: x
C55: >>Adressnotizen
D56: Daten lesen | F56: =LOOKUP(F$643,$AB$8:$AG$8,$AB56:$AG56) -> #N/A | G56: =LOOKUP(G$643,$AB$8:$AG$8,$AB56:$AG56) -> #N/A | H56: =LOOKUP(H$643,$AB$8:$AG$8,$AB56:$AG56) -> #N/A | I56: =LOOKUP(I$643,$AB$8:$AG$8,$AB56:$AG56) -> #N/A | J56: =LOOKUP(J$643,$AB$8:$AG$8,$AB56:$AG56) -> #N/A | K56: =LOOKUP(K$643,$AB$8:$AG$8,$AB56:$AG56) -> #N/A | L56: =LOOKUP(L$643,$AB$8:$AG$8,$AB56:$AG56) -> #N/A | M56: =LOOKUP(M$643,$AB$8:$AG$8,$AB56:$AG56) -> #N/A | ... AA56: =LOOKUP(AA$643,$AB$8:$AG$8,$AB56:$AG56) -> #N/A | AB56: x | AC56: x | AD56: x | AE56: x
D57: Daten erstellen/bearbeiten/kopieren | F57: =LOOKUP(F$643,$AB$8:$AG$8,$AB57:$AG57) -> #N/A | G57: =LOOKUP(G$643,$AB$8:$AG$8,$AB57:$AG57) -> #N/A | H57: =LOOKUP(H$643,$AB$8:$AG$8,$AB57:$AG57) -> #N/A | I57: =LOOKUP(I$643,$AB$8:$AG$8,$AB57:$AG57) -> #N/A | J57: =LOOKUP(J$643,$AB$8:$AG$8,$AB57:$AG57) -> #N/A | K57: =LOOKUP(K$643,$AB$8:$AG$8,$AB57:$AG57) -> #N/A | L57: =LOOKUP(L$643,$AB$8:$AG$8,$AB57:$AG57) -> #N/A | M57: =LOOKUP(M$643,$AB$8:$AG$8,$AB57:$AG57) -> #N/A | ... AA57: =LOOKUP(AA$643,$AB$8:$AG$8,$AB57:$AG57) -> #N/A | AB57: x | AC57: x
D58: Daten löschen | F58: =LOOKUP(F$643,$AB$8:$AG$8,$AB58:$AG58) -> #N/A | G58: =LOOKUP(G$643,$AB$8:$AG$8,$AB58:$AG58) -> #N/A | H58: =LOOKUP(H$643,$AB$8:$AG$8,$AB58:$AG58) -> #N/A | I58: =LOOKUP(I$643,$AB$8:$AG$8,$AB58:$AG58) -> #N/A | J58: =LOOKUP(J$643,$AB$8:$AG$8,$AB58:$AG58) -> #N/A | K58: =LOOKUP(K$643,$AB$8:$AG$8,$AB58:$AG58) -> #N/A | L58: =LOOKUP(L$643,$AB$8:$AG$8,$AB58:$AG58) -> #N/A | M58: =LOOKUP(M$643,$AB$8:$AG$8,$AB58:$AG58) -> #N/A | ... AA58: =LOOKUP(AA$643,$AB$8:$AG$8,$AB58:$AG58) -> #N/A | AB58: x
C59: >>Artikel
D60: Daten lesen | F60: =LOOKUP(F$643,$AB$8:$AG$8,$AB60:$AG60) -> #N/A | G60: =LOOKUP(G$643,$AB$8:$AG$8,$AB60:$AG60) -> #N/A | H60: =LOOKUP(H$643,$AB$8:$AG$8,$AB60:$AG60) -> #N/A | I60: =LOOKUP(I$643,$AB$8:$AG$8,$AB60:$AG60) -> #N/A | J60: =LOOKUP(J$643,$AB$8:$AG$8,$AB60:$AG60) -> #N/A | K60: =LOOKUP(K$643,$AB$8:$AG$8,$AB60:$AG60) -> #N/A | L60: =LOOKUP(L$643,$AB$8:$AG$8,$AB60:$AG60) -> #N/A | M60: =LOOKUP(M$643,$AB$8:$AG$8,$AB60:$AG60) -> #N/A | ... AA60: =LOOKUP(AA$643,$AB$8:$AG$8,$AB60:$AG60) -> #N/A | AB60: x | AC60: x | AD60: x | AE60: x
D61: Daten erstellen/bearbeiten/kopieren | F61: =LOOKUP(F$643,$AB$8:$AG$8,$AB61:$AG61) -> #N/A | G61: =LOOKUP(G$643,$AB$8:$AG$8,$AB61:$AG61) -> #N/A | H61: =LOOKUP(H$643,$AB$8:$AG$8,$AB61:$AG61) -> #N/A | I61: =LOOKUP(I$643,$AB$8:$AG$8,$AB61:$AG61) -> #N/A | J61: =LOOKUP(J$643,$AB$8:$AG$8,$AB61:$AG61) -> #N/A | K61: =LOOKUP(K$643,$AB$8:$AG$8,$AB61:$AG61) -> #N/A | L61: =LOOKUP(L$643,$AB$8:$AG$8,$AB61:$AG61) -> #N/A | M61: =LOOKUP(M$643,$AB$8:$AG$8,$AB61:$AG61) -> #N/A | ... AA61: =LOOKUP(AA$643,$AB$8:$AG$8,$AB61:$AG61) -> #N/A | AB61: x | AC61: x
D62: Daten löschen | F62: =LOOKUP(F$643,$AB$8:$AG$8,$AB62:$AG62) -> #N/A | G62: =LOOKUP(G$643,$AB$8:$AG$8,$AB62:$AG62) -> #N/A | H62: =LOOKUP(H$643,$AB$8:$AG$8,$AB62:$AG62) -> #N/A | I62: =LOOKUP(I$643,$AB$8:$AG$8,$AB62:$AG62) -> #N/A | J62: =LOOKUP(J$643,$AB$8:$AG$8,$AB62:$AG62) -> #N/A | K62: =LOOKUP(K$643,$AB$8:$AG$8,$AB62:$AG62) -> #N/A | L62: =LOOKUP(L$643,$AB$8:$AG$8,$AB62:$AG62) -> #N/A | M62: =LOOKUP(M$643,$AB$8:$AG$8,$AB62:$AG62) -> #N/A | ... AA62: =LOOKUP(AA$643,$AB$8:$AG$8,$AB62:$AG62) -> #N/A | AB62: x
C63: >>Kunden
D64: Daten lesen | F64: =LOOKUP(F$643,$AB$8:$AG$8,$AB64:$AG64) -> #N/A | G64: =LOOKUP(G$643,$AB$8:$AG$8,$AB64:$AG64) -> #N/A | H64: =LOOKUP(H$643,$AB$8:$AG$8,$AB64:$AG64) -> #N/A | I64: =LOOKUP(I$643,$AB$8:$AG$8,$AB64:$AG64) -> #N/A | J64: =LOOKUP(J$643,$AB$8:$AG$8,$AB64:$AG64) -> #N/A | K64: =LOOKUP(K$643,$AB$8:$AG$8,$AB64:$AG64) -> #N/A | L64: =LOOKUP(L$643,$AB$8:$AG$8,$AB64:$AG64) -> #N/A | M64: =LOOKUP(M$643,$AB$8:$AG$8,$AB64:$AG64) -> #N/A | ... AA64: =LOOKUP(AA$643,$AB$8:$AG$8,$AB64:$AG64) -> #N/A | AB64: x | AC64: x | AD64: x | AE64: x
D65: Daten erstellen/bearbeiten/kopieren | F65: =LOOKUP(F$643,$AB$8:$AG$8,$AB65:$AG65) -> #N/A | G65: =LOOKUP(G$643,$AB$8:$AG$8,$AB65:$AG65) -> #N/A | H65: =LOOKUP(H$643,$AB$8:$AG$8,$AB65:$AG65) -> #N/A | I65: =LOOKUP(I$643,$AB$8:$AG$8,$AB65:$AG65) -> #N/A | J65: =LOOKUP(J$643,$AB$8:$AG$8,$AB65:$AG65) -> #N/A | K65: =LOOKUP(K$643,$AB$8:$AG$8,$AB65:$AG65) -> #N/A | L65: =LOOKUP(L$643,$AB$8:$AG$8,$AB65:$AG65) -> #N/A | M65: =LOOKUP(M$643,$AB$8:$AG$8,$AB65:$AG65) -> #N/A | ... AA65: =LOOKUP(AA$643,$AB$8:$AG$8,$AB65:$AG65) -> #N/A | AB65: x | AC65: x
D66: Daten löschen | F66: =LOOKUP(F$643,$AB$8:$AG$8,$AB66:$AG66) -> #N/A | G66: =LOOKUP(G$643,$AB$8:$AG$8,$AB66:$AG66) -> #N/A | H66: =LOOKUP(H$643,$AB$8:$AG$8,$AB66:$AG66) -> #N/A | I66: =LOOKUP(I$643,$AB$8:$AG$8,$AB66:$AG66) -> #N/A | J66: =LOOKUP(J$643,$AB$8:$AG$8,$AB66:$AG66) -> #N/A | K66: =LOOKUP(K$643,$AB$8:$AG$8,$AB66:$AG66) -> #N/A | L66: =LOOKUP(L$643,$AB$8:$AG$8,$AB66:$AG66) -> #N/A | M66: =LOOKUP(M$643,$AB$8:$AG$8,$AB66:$AG66) -> #N/A | ... AA66: =LOOKUP(AA$643,$AB$8:$AG$8,$AB66:$AG66) -> #N/A | AB66: x
C67: >>Mitarbeiter
D68: Daten lesen | F68: =LOOKUP(F$643,$AB$8:$AG$8,$AB68:$AG68) -> #N/A | G68: =LOOKUP(G$643,$AB$8:$AG$8,$AB68:$AG68) -> #N/A | H68: =LOOKUP(H$643,$AB$8:$AG$8,$AB68:$AG68) -> #N/A | I68: =LOOKUP(I$643,$AB$8:$AG$8,$AB68:$AG68) -> #N/A | J68: =LOOKUP(J$643,$AB$8:$AG$8,$AB68:$AG68) -> #N/A | K68: =LOOKUP(K$643,$AB$8:$AG$8,$AB68:$AG68) -> #N/A | L68: =LOOKUP(L$643,$AB$8:$AG$8,$AB68:$AG68) -> #N/A | M68: =LOOKUP(M$643,$AB$8:$AG$8,$AB68:$AG68) -> #N/A | ... AA68: =LOOKUP(AA$643,$AB$8:$AG$8,$AB68:$AG68) -> #N/A | AB68: x | AC68: x | AD68: x | AE68: x
D69: Daten erstellen/bearbeiten/kopieren | F69: =LOOKUP(F$643,$AB$8:$AG$8,$AB69:$AG69) -> #N/A | G69: =LOOKUP(G$643,$AB$8:$AG$8,$AB69:$AG69) -> #N/A | H69: =LOOKUP(H$643,$AB$8:$AG$8,$AB69:$AG69) -> #N/A | I69: =LOOKUP(I$643,$AB$8:$AG$8,$AB69:$AG69) -> #N/A | J69: =LOOKUP(J$643,$AB$8:$AG$8,$AB69:$AG69) -> #N/A | K69: =LOOKUP(K$643,$AB$8:$AG$8,$AB69:$AG69) -> #N/A | L69: =LOOKUP(L$643,$AB$8:$AG$8,$AB69:$AG69) -> #N/A | M69: =LOOKUP(M$643,$AB$8:$AG$8,$AB69:$AG69) -> #N/A | ... AA69: =LOOKUP(AA$643,$AB$8:$AG$8,$AB69:$AG69) -> #N/A | AB69: x | AC69: x
D70: Daten löschen | F70: =LOOKUP(F$643,$AB$8:$AG$8,$AB70:$AG70) -> #N/A | G70: =LOOKUP(G$643,$AB$8:$AG$8,$AB70:$AG70) -> #N/A | H70: =LOOKUP(H$643,$AB$8:$AG$8,$AB70:$AG70) -> #N/A | I70: =LOOKUP(I$643,$AB$8:$AG$8,$AB70:$AG70) -> #N/A | J70: =LOOKUP(J$643,$AB$8:$AG$8,$AB70:$AG70) -> #N/A | K70: =LOOKUP(K$643,$AB$8:$AG$8,$AB70:$AG70) -> #N/A | L70: =LOOKUP(L$643,$AB$8:$AG$8,$AB70:$AG70) -> #N/A | M70: =LOOKUP(M$643,$AB$8:$AG$8,$AB70:$AG70) -> #N/A | ... AA70: =LOOKUP(AA$643,$AB$8:$AG$8,$AB70:$AG70) -> #N/A | AB70: x
