Workbook

Sheet Anleitung
D2: root-service ag Wydenstrasse 29 Postfach 227 CH-8575 Bürglen Telefon +41 (0)71 634 80 40 Telefax +41 (0)71 633 25 37 E-Mail: info@root.ch
B5: Vorgehen
B7: 1. Arbeitsmappe «Gruppenberechtigung» | D7: In dieser Mappe werden den Gruppen die benötigten Rechte zugewiesen. Wie in der Legende beschrieben, bedeutet 1 das Recht für Vollzugriff; 2 für Löschen; 3 für Bearbeiten und erstellen; 4 für Lesen. Ein ! (Ausrufezeichen) steht für zusätzliche Rechte, welche nicht in den Hauptkategorien abgedeckt sind.
B9: 2. Arbeitsmappe «Benutzer» | D9: In dieser Arbeitsmappe werden alle Perigon-Benutzer erfasst und im blauen Bereich den dazugehörigen Gruppen zugewiesen. Ein Benutzer kann mehreren Gruppen zugewiesen werden.
B11: 3. Umsetzung in der Perigon-Benutzerverwaltung

Sheet Gruppenberechtigung
E2: root-service ag Wydenstrasse 29 Postfach 227 CH-8575 Bürglen Telefon +41 (0)71 634 80 40 E-Mail: info@root.ch Internet: www.root.ch
C3: Version 2025.2
C4: Gruppenberechtigung | F4: 1 | G4: Vollzugriff | K4: 2 | L4: Löschen | T4: 3 | U4: Bearbeiten / nicht Löschen
C5: Bereiche | F5: 4 | G5: Lesen | N5: 0 | O5: kein Zugriff | Y5: ! | Z5: zusätzliches Recht
F6: Benutzergruppe | G6: 01 Geschäftsleitung | H6: 02 Administration | I6: 03 HR/Personal | J6: 04 Finanzen | L6: 08 Diplomiertes Pflegefachpersonal (Tertiär) | M6: 09 Fachpersonal Pflege (Sekundar EFZ / EBA) | N6: 10 Andere/ohne Ausbildung (SRK) | O6: 11 Hauswirtschaft | P6: 12 Diplomiertes Pflegefachpersonal Psychiatrie (Tertiär) | T6: 20 Teamleitung | Z6: 93 Dispo DP Team A löschen | AA6: 94 Dispo DP Team B löschen | AB6: 95 Dispo EP Team A löschen | AC6: 96 Dispo EP Team B löschen | AD6: 97 Dispo lesen | AG6: 98 Notizen Administration | AH6: 99 Notitzen Pflege | AV6: Stufe 1 | AW6: Stufe 2 | AX6: Stufe 3 | AY6: Stufe 4 | BB6: Kontrolle | BC6: Kontrolle Stufe 1-4 wenn Leer dann mit Leerzeichen | BJ6: Ab Version | BK6: Bis Version (Letze Version wo diese Konfig aktiv wart) | BL6: In Version geändert | BM6: Aktiv? (Muss nicht manuell gemacht werden da eine Formel dies berechnet
BK7: Ausblenden
C8: Adressen | F8: Ü | G8: 1 | H8: 2 | I8: 2 | J8: 2 | L8: 4 | M8: 4 | N8: 4 | O8: 4 | P8: 1 | AV8: 1 | AW8: 2 | AX8: 3 | AY8: 4 | BB8: =IF(AND(E8<>"",AV8=""),"fehler","Ok") -> Ok | BC8: =IF(G8<>"",IF(OR(AV8="",AW8="",AX8="",AY8=""),"Leerzeichen fehlt","Leerzeiche IO"),"") -> Leerzeiche IO | BJ8: ? | BM8: =IF(BK8="","Ja","Nein") -> Ja
D9: Adresse | BB9: =IF(AND(E9<>"",AV9=""),"fehler","Ok") -> Ok | BC9: =IF(G9<>"",IF(OR(AV9="",AW9="",AX9="",AY9=""),"Leerzeichen fehlt","Leerzeiche IO"),"") | BJ9: ? | BM9: =IF(BK9="","Ja","Nein") -> Ja
E10: Daten lesen | G10: =LOOKUP(G$8,$AV$8:$BN$8,$AV10:$BN10) -> x | H10: =LOOKUP(H$8,$AV$8:$BN$8,$AV10:$BN10) -> x | I10: =LOOKUP(I$8,$AV$8:$BN$8,$AV10:$BN10) -> x | J10: =LOOKUP(J$8,$AV$8:$BN$8,$AV10:$BN10) -> x | K10: =LOOKUP(K$8,$AV$8:$BN$8,$AV10:$BN10) -> #N/A | L10: =LOOKUP(L$8,$AV$8:$BN$8,$AV10:$BN10) -> x | M10: =LOOKUP(M$8,$AV$8:$BN$8,$AV10:$BN10) -> x | N10: =LOOKUP(N$8,$AV$8:$BN$8,$AV10:$BN10) -> x | ... AU10: =LOOKUP(AU$8,$AV$8:$BN$8,$AV10:$BN10) -> #N/A | AV10: x | AW10: x | AX10: x | AY10: x | BB10: =IF(AND(E10<>"",AV10=""),"fehler","Ok") -> Ok | BC10: =IF(G10<>"",IF(OR(AV10="",AW10="",AX10="",AY10=""),"Leerzeichen fehlt","Leerzeiche IO"),"") -> Leerzeiche IO | BJ10: ? | BM10: =IF(BK10="","Ja","Nein") -> Ja
E11: Daten bearbeiten | G11: =LOOKUP(G$8,$AV$8:$BN$8,$AV11:$BN11) -> x | H11: =LOOKUP(H$8,$AV$8:$BN$8,$AV11:$BN11) -> x | I11: =LOOKUP(I$8,$AV$8:$BN$8,$AV11:$BN11) -> x | J11: =LOOKUP(J$8,$AV$8:$BN$8,$AV11:$BN11) -> x | K11: =LOOKUP(K$8,$AV$8:$BN$8,$AV11:$BN11) -> #N/A | L11: =LOOKUP(L$8,$AV$8:$BN$8,$AV11:$BN11) | M11: =LOOKUP(M$8,$AV$8:$BN$8,$AV11:$BN11) | N11: =LOOKUP(N$8,$AV$8:$BN$8,$AV11:$BN11) | ... AU11: =LOOKUP(AU$8,$AV$8:$BN$8,$AV11:$BN11) -> #N/A | AV11: x | AW11: x | AX11: x | BB11: =IF(AND(E11<>"",AV11=""),"fehler","Ok") -> Ok | BC11: =IF(G11<>"",IF(OR(AV11="",AW11="",AX11="",AY11=""),"Leerzeichen fehlt","Leerzeiche IO"),"") -> Leerzeiche IO | BJ11: ? | BM11: =IF(BK11="","Ja","Nein") -> Ja
E12: Daten erstellen | G12: =LOOKUP(G$8,$AV$8:$BN$8,$AV12:$BN12) -> x | H12: =LOOKUP(H$8,$AV$8:$BN$8,$AV12:$BN12) -> x | I12: =LOOKUP(I$8,$AV$8:$BN$8,$AV12:$BN12) -> x | J12: =LOOKUP(J$8,$AV$8:$BN$8,$AV12:$BN12) -> x | K12: =LOOKUP(K$8,$AV$8:$BN$8,$AV12:$BN12) -> #N/A | L12: =LOOKUP(L$8,$AV$8:$BN$8,$AV12:$BN12) | M12: =LOOKUP(M$8,$AV$8:$BN$8,$AV12:$BN12) | N12: =LOOKUP(N$8,$AV$8:$BN$8,$AV12:$BN12) | ... AU12: =LOOKUP(AU$8,$AV$8:$BN$8,$AV12:$BN12) -> #N/A | AV12: x | AW12: x | AX12: x | BB12: =IF(AND(E12<>"",AV12=""),"fehler","Ok") -> Ok | BC12: =IF(G12<>"",IF(OR(AV12="",AW12="",AX12="",AY12=""),"Leerzeichen fehlt","Leerzeiche IO"),"") -> Leerzeiche IO | BJ12: ? | BM12: =IF(BK12="","Ja","Nein") -> Ja
E13: Daten kopieren | G13: =LOOKUP(G$8,$AV$8:$BN$8,$AV13:$BN13) -> x | H13: =LOOKUP(H$8,$AV$8:$BN$8,$AV13:$BN13) -> x | I13: =LOOKUP(I$8,$AV$8:$BN$8,$AV13:$BN13) -> x | J13: =LOOKUP(J$8,$AV$8:$BN$8,$AV13:$BN13) -> x | K13: =LOOKUP(K$8,$AV$8:$BN$8,$AV13:$BN13) -> #N/A | L13: =LOOKUP(L$8,$AV$8:$BN$8,$AV13:$BN13) | M13: =LOOKUP(M$8,$AV$8:$BN$8,$AV13:$BN13) | N13: =LOOKUP(N$8,$AV$8:$BN$8,$AV13:$BN13) | ... AU13: =LOOKUP(AU$8,$AV$8:$BN$8,$AV13:$BN13) -> #N/A | AV13: x | AW13: x | AX13: x | BB13: =IF(AND(E13<>"",AV13=""),"fehler","Ok") -> Ok | BC13: =IF(G13<>"",IF(OR(AV13="",AW13="",AX13="",AY13=""),"Leerzeichen fehlt","Leerzeiche IO"),"") -> Leerzeiche IO | BJ13: ? | BM13: =IF(BK13="","Ja","Nein") -> Ja
E14: Daten löschen | G14: =LOOKUP(G$8,$AV$8:$BN$8,$AV14:$BN14) -> x | H14: =LOOKUP(H$8,$AV$8:$BN$8,$AV14:$BN14) -> x | I14: =LOOKUP(I$8,$AV$8:$BN$8,$AV14:$BN14) -> x | J14: =LOOKUP(J$8,$AV$8:$BN$8,$AV14:$BN14) -> x | K14: =LOOKUP(K$8,$AV$8:$BN$8,$AV14:$BN14) -> #N/A | L14: =LOOKUP(L$8,$AV$8:$BN$8,$AV14:$BN14) | M14: =LOOKUP(M$8,$AV$8:$BN$8,$AV14:$BN14) | N14: =LOOKUP(N$8,$AV$8:$BN$8,$AV14:$BN14) | ... AU14: =LOOKUP(AU$8,$AV$8:$BN$8,$AV14:$BN14) -> #N/A | AV14: x | AW14: x | BB14: =IF(AND(E14<>"",AV14=""),"fehler","Ok") -> Ok | BC14: =IF(G14<>"",IF(OR(AV14="",AW14="",AX14="",AY14=""),"Leerzeichen fehlt","Leerzeiche IO"),"") -> Leerzeiche IO | BJ14: ? | BM14: =IF(BK14="","Ja","Nein") -> Ja
E15: Daten löschen selektiert | G15: =LOOKUP(G$8,$AV$8:$BN$8,$AV15:$BN15) -> x | H15: =LOOKUP(H$8,$AV$8:$BN$8,$AV15:$BN15) -> ! | I15: =LOOKUP(I$8,$AV$8:$BN$8,$AV15:$BN15) -> ! | J15: =LOOKUP(J$8,$AV$8:$BN$8,$AV15:$BN15) -> ! | K15: =LOOKUP(K$8,$AV$8:$BN$8,$AV15:$BN15) -> #N/A | L15: =LOOKUP(L$8,$AV$8:$BN$8,$AV15:$BN15) | M15: =LOOKUP(M$8,$AV$8:$BN$8,$AV15:$BN15) | N15: =LOOKUP(N$8,$AV$8:$BN$8,$AV15:$BN15) | ... AU15: =LOOKUP(AU$8,$AV$8:$BN$8,$AV15:$BN15) -> #N/A | AV15: x | AW15: ! | BB15: =IF(AND(E15<>"",AV15=""),"fehler","Ok") -> Ok | BC15: =IF(G15<>"",IF(OR(AV15="",AW15="",AX15="",AY15=""),"Leerzeichen fehlt","Leerzeiche IO"),"") -> Leerzeiche IO | BJ15: ? | BM15: =IF(BK15="","Ja","Nein") -> Ja
D16: Einsatzplanung | BB16: =IF(AND(E16<>"",AV16=""),"fehler","Ok") -> Ok | BC16: =IF(G16<>"",IF(OR(AV16="",AW16="",AX16="",AY16=""),"Leerzeichen fehlt","Leerzeiche IO"),"") | BJ16: 2023.3 | BM16: =IF(BK16="","Ja","Nein") -> Ja
E17: Daten lesen | G17: =LOOKUP(G$8,$AV$8:$BN$8,$AV17:$BN17) -> x | H17: =LOOKUP(H$8,$AV$8:$BN$8,$AV17:$BN17) -> x | I17: =LOOKUP(I$8,$AV$8:$BN$8,$AV17:$BN17) -> x | J17: =LOOKUP(J$8,$AV$8:$BN$8,$AV17:$BN17) -> x | K17: =LOOKUP(K$8,$AV$8:$BN$8,$AV17:$BN17) -> #N/A | L17: =LOOKUP(L$8,$AV$8:$BN$8,$AV17:$BN17) -> x | M17: =LOOKUP(M$8,$AV$8:$BN$8,$AV17:$BN17) -> x | N17: =LOOKUP(N$8,$AV$8:$BN$8,$AV17:$BN17) -> x | ... AU17: =LOOKUP(AU$8,$AV$8:$BN$8,$AV17:$BN17) -> #N/A | AV17: x | AW17: x | AX17: x | AY17: x | BB17: =IF(AND(E17<>"",AV17=""),"fehler","Ok") -> Ok | BC17: =IF(G17<>"",IF(OR(AV17="",AW17="",AX17="",AY17=""),"Leerzeichen fehlt","Leerzeiche IO"),"") -> Leerzeiche IO | BJ17: 2023.3 | BM17: =IF(BK17="","Ja","Nein") -> Ja
E18: Daten erstellen/bearbeiten/kopieren | G18: =LOOKUP(G$8,$AV$8:$BN$8,$AV18:$BN18) -> x | H18: =LOOKUP(H$8,$AV$8:$BN$8,$AV18:$BN18) -> x | I18: =LOOKUP(I$8,$AV$8:$BN$8,$AV18:$BN18) -> x | J18: =LOOKUP(J$8,$AV$8:$BN$8,$AV18:$BN18) -> x | K18: =LOOKUP(K$8,$AV$8:$BN$8,$AV18:$BN18) -> #N/A | L18: =LOOKUP(L$8,$AV$8:$BN$8,$AV18:$BN18) | M18: =LOOKUP(M$8,$AV$8:$BN$8,$AV18:$BN18) | N18: =LOOKUP(N$8,$AV$8:$BN$8,$AV18:$BN18) | ... AU18: =LOOKUP(AU$8,$AV$8:$BN$8,$AV18:$BN18) -> #N/A | AV18: x | AW18: x | AX18: x | BB18: =IF(AND(E18<>"",AV18=""),"fehler","Ok") -> Ok | BC18: =IF(G18<>"",IF(OR(AV18="",AW18="",AX18="",AY18=""),"Leerzeichen fehlt","Leerzeiche IO"),"") -> Leerzeiche IO | BJ18: 2023.3 | BM18: =IF(BK18="","Ja","Nein") -> Ja
D19: Beziehungen | BB19: =IF(AND(E19<>"",AV19=""),"fehler","Ok") -> Ok | BC19: =IF(G19<>"",IF(OR(AV19="",AW19="",AX19="",AY19=""),"Leerzeichen fehlt","Leerzeiche IO"),"") | BJ19: ? | BM19: =IF(BK19="","Ja","Nein") -> Ja
E20: Beziehungen lesen | G20: =LOOKUP(G$8,$AV$8:$BN$8,$AV20:$BN20) -> x | H20: =LOOKUP(H$8,$AV$8:$BN$8,$AV20:$BN20) -> x | I20: =LOOKUP(I$8,$AV$8:$BN$8,$AV20:$BN20) -> x | J20: =LOOKUP(J$8,$AV$8:$BN$8,$AV20:$BN20) -> x | K20: =LOOKUP(K$8,$AV$8:$BN$8,$AV20:$BN20) -> #N/A | L20: =LOOKUP(L$8,$AV$8:$BN$8,$AV20:$BN20) -> x | M20: =LOOKUP(M$8,$AV$8:$BN$8,$AV20:$BN20) -> x | N20: =LOOKUP(N$8,$AV$8:$BN$8,$AV20:$BN20) -> x | ... AU20: =LOOKUP(AU$8,$AV$8:$BN$8,$AV20:$BN20) -> #N/A | AV20: x | AW20: x | AX20: x | AY20: x | BB20: =IF(AND(E20<>"",AV20=""),"fehler","Ok") -> Ok | BC20: =IF(G20<>"",IF(OR(AV20="",AW20="",AX20="",AY20=""),"Leerzeichen fehlt","Leerzeiche IO"),"") -> Leerzeiche IO | BJ20: ? | BM20: =IF(BK20="","Ja","Nein") -> Ja
E21: Beziehungen bearbeiten | G21: =LOOKUP(G$8,$AV$8:$BN$8,$AV21:$BN21) -> x | H21: =LOOKUP(H$8,$AV$8:$BN$8,$AV21:$BN21) -> x | I21: =LOOKUP(I$8,$AV$8:$BN$8,$AV21:$BN21) -> x | J21: =LOOKUP(J$8,$AV$8:$BN$8,$AV21:$BN21) -> x | K21: =LOOKUP(K$8,$AV$8:$BN$8,$AV21:$BN21) -> #N/A | L21: =LOOKUP(L$8,$AV$8:$BN$8,$AV21:$BN21) | M21: =LOOKUP(M$8,$AV$8:$BN$8,$AV21:$BN21) | N21: =LOOKUP(N$8,$AV$8:$BN$8,$AV21:$BN21) | ... AU21: =LOOKUP(AU$8,$AV$8:$BN$8,$AV21:$BN21) -> #N/A | AV21: x | AW21: x | AX21: x | BB21: =IF(AND(E21<>"",AV21=""),"fehler","Ok") -> Ok | BC21: =IF(G21<>"",IF(OR(AV21="",AW21="",AX21="",AY21=""),"Leerzeichen fehlt","Leerzeiche IO"),"") -> Leerzeiche IO | BJ21: ? | BM21: =IF(BK21="","Ja","Nein") -> Ja
E22: Beziehungsadresen erstellen | G22: =LOOKUP(G$8,$AV$8:$BN$8,$AV22:$BN22) -> x | H22: =LOOKUP(H$8,$AV$8:$BN$8,$AV22:$BN22) -> x | I22: =LOOKUP(I$8,$AV$8:$BN$8,$AV22:$BN22) -> x | J22: =LOOKUP(J$8,$AV$8:$BN$8,$AV22:$BN22) -> x | K22: =LOOKUP(K$8,$AV$8:$BN$8,$AV22:$BN22) -> #N/A | L22: =LOOKUP(L$8,$AV$8:$BN$8,$AV22:$BN22) | M22: =LOOKUP(M$8,$AV$8:$BN$8,$AV22:$BN22) | N22: =LOOKUP(N$8,$AV$8:$BN$8,$AV22:$BN22) | ... AU22: =LOOKUP(AU$8,$AV$8:$BN$8,$AV22:$BN22) -> #N/A | AV22: x | AW22: x | AX22: x | BB22: =IF(AND(E22<>"",AV22=""),"fehler","Ok") -> Ok | BC22: =IF(G22<>"",IF(OR(AV22="",AW22="",AX22="",AY22=""),"Leerzeichen fehlt","Leerzeiche IO"),"") -> Leerzeiche IO | BJ22: ? | BM22: =IF(BK22="","Ja","Nein") -> Ja
E23: Beziehungsadressen bearbeiten Verwaltet Nein | G23: =LOOKUP(G$8,$AV$8:$BN$8,$AV23:$BN23) -> x | H23: =LOOKUP(H$8,$AV$8:$BN$8,$AV23:$BN23) -> x | I23: =LOOKUP(I$8,$AV$8:$BN$8,$AV23:$BN23) -> x | J23: =LOOKUP(J$8,$AV$8:$BN$8,$AV23:$BN23) -> x | K23: =LOOKUP(K$8,$AV$8:$BN$8,$AV23:$BN23) -> #N/A | L23: =LOOKUP(L$8,$AV$8:$BN$8,$AV23:$BN23) | M23: =LOOKUP(M$8,$AV$8:$BN$8,$AV23:$BN23) | N23: =LOOKUP(N$8,$AV$8:$BN$8,$AV23:$BN23) | ... AU23: =LOOKUP(AU$8,$AV$8:$BN$8,$AV23:$BN23) -> #N/A | AV23: x | AW23: x | AX23: x | BB23: =IF(AND(E23<>"",AV23=""),"fehler","Ok") -> Ok | BC23: =IF(G23<>"",IF(OR(AV23="",AW23="",AX23="",AY23=""),"Leerzeichen fehlt","Leerzeiche IO"),"") -> Leerzeiche IO | BJ23: ? | BM23: =IF(BK23="","Ja","Nein") -> Ja
E24: Beziehungsadressen bearbeiten Verwaltet Ja | G24: =LOOKUP(G$8,$AV$8:$BN$8,$AV24:$BN24) -> x | H24: =LOOKUP(H$8,$AV$8:$BN$8,$AV24:$BN24) -> x | I24: =LOOKUP(I$8,$AV$8:$BN$8,$AV24:$BN24) -> x | J24: =LOOKUP(J$8,$AV$8:$BN$8,$AV24:$BN24) -> x | K24: =LOOKUP(K$8,$AV$8:$BN$8,$AV24:$BN24) -> #N/A | L24: =LOOKUP(L$8,$AV$8:$BN$8,$AV24:$BN24) | M24: =LOOKUP(M$8,$AV$8:$BN$8,$AV24:$BN24) | N24: =LOOKUP(N$8,$AV$8:$BN$8,$AV24:$BN24) | ... AU24: =LOOKUP(AU$8,$AV$8:$BN$8,$AV24:$BN24) -> #N/A | AV24: x | AW24: x | AX24: x | BB24: =IF(AND(E24<>"",AV24=""),"fehler","Ok") -> Ok | BC24: =IF(G24<>"",IF(OR(AV24="",AW24="",AX24="",AY24=""),"Leerzeichen fehlt","Leerzeiche IO"),"") -> Leerzeiche IO | BJ24: ? | BM24: =IF(BK24="","Ja","Nein") -> Ja
D25: Verbindungsangaben | BB25: =IF(AND(E25<>"",AV25=""),"fehler","Ok") -> Ok | BC25: =IF(G25<>"",IF(OR(AV25="",AW25="",AX25="",AY25=""),"Leerzeichen fehlt","Leerzeiche IO"),"") | BJ25: ? | BM25: =IF(BK25="","Ja","Nein") -> Ja
E26: Daten lesen | G26: =LOOKUP(G$8,$AV$8:$BN$8,$AV26:$BN26) -> x | H26: =LOOKUP(H$8,$AV$8:$BN$8,$AV26:$BN26) -> x | I26: =LOOKUP(I$8,$AV$8:$BN$8,$AV26:$BN26) -> x | J26: =LOOKUP(J$8,$AV$8:$BN$8,$AV26:$BN26) -> x | K26: =LOOKUP(K$8,$AV$8:$BN$8,$AV26:$BN26) -> #N/A | L26: =LOOKUP(L$8,$AV$8:$BN$8,$AV26:$BN26) -> x | M26: =LOOKUP(M$8,$AV$8:$BN$8,$AV26:$BN26) -> x | N26: =LOOKUP(N$8,$AV$8:$BN$8,$AV26:$BN26) -> x | ... AU26: =LOOKUP(AU$8,$AV$8:$BN$8,$AV26:$BN26) -> #N/A | AV26: x | AW26: x | AX26: x | AY26: x | BB26: =IF(AND(E26<>"",AV26=""),"fehler","Ok") -> Ok | BC26: =IF(G26<>"",IF(OR(AV26="",AW26="",AX26="",AY26=""),"Leerzeichen fehlt","Leerzeiche IO"),"") -> Leerzeiche IO | BJ26: ? | BM26: =IF(BK26="","Ja","Nein") -> Ja
E27: Daten erstellen/bearbeiten /kopieren | G27: =LOOKUP(G$8,$AV$8:$BN$8,$AV27:$BN27) -> x | H27: =LOOKUP(H$8,$AV$8:$BN$8,$AV27:$BN27) -> x | I27: =LOOKUP(I$8,$AV$8:$BN$8,$AV27:$BN27) -> x | J27: =LOOKUP(J$8,$AV$8:$BN$8,$AV27:$BN27) -> x | K27: =LOOKUP(K$8,$AV$8:$BN$8,$AV27:$BN27) -> #N/A | L27: =LOOKUP(L$8,$AV$8:$BN$8,$AV27:$BN27) | M27: =LOOKUP(M$8,$AV$8:$BN$8,$AV27:$BN27) | N27: =LOOKUP(N$8,$AV$8:$BN$8,$AV27:$BN27) | ... AU27: =LOOKUP(AU$8,$AV$8:$BN$8,$AV27:$BN27) -> #N/A | AV27: x | AW27: x | AX27: x | BB27: =IF(AND(E27<>"",AV27=""),"fehler","Ok") -> Ok | BC27: =IF(G27<>"",IF(OR(AV27="",AW27="",AX27="",AY27=""),"Leerzeichen fehlt","Leerzeiche IO"),"") -> Leerzeiche IO | BJ27: ? | BM27: =IF(BK27="","Ja","Nein") -> Ja
E28: Daten löschen | G28: =LOOKUP(G$8,$AV$8:$BN$8,$AV28:$BN28) -> x | H28: =LOOKUP(H$8,$AV$8:$BN$8,$AV28:$BN28) -> x | I28: =LOOKUP(I$8,$AV$8:$BN$8,$AV28:$BN28) -> x | J28: =LOOKUP(J$8,$AV$8:$BN$8,$AV28:$BN28) -> x | K28: =LOOKUP(K$8,$AV$8:$BN$8,$AV28:$BN28) -> #N/A | L28: =LOOKUP(L$8,$AV$8:$BN$8,$AV28:$BN28) | M28: =LOOKUP(M$8,$AV$8:$BN$8,$AV28:$BN28) | N28: =LOOKUP(N$8,$AV$8:$BN$8,$AV28:$BN28) | ... AU28: =LOOKUP(AU$8,$AV$8:$BN$8,$AV28:$BN28) -> #N/A | AV28: x | AW28: x | BB28: =IF(AND(E28<>"",AV28=""),"fehler","Ok") -> Ok | BC28: =IF(G28<>"",IF(OR(AV28="",AW28="",AX28="",AY28=""),"Leerzeichen fehlt","Leerzeiche IO"),"") -> Leerzeiche IO | BJ28: ? | BM28: =IF(BK28="","Ja","Nein") -> Ja
D29: Vorgänge | BC29: =IF(G29<>"",IF(OR(AV29="",AW29="",AX29="",AY29=""),"Leerzeichen fehlt","Leerzeiche IO"),"") | BJ29: ? | BM29: =IF(BK29="","Ja","Nein") -> Ja
E30: E-Mail versenden | G30: =LOOKUP(G$8,$AV$8:$BN$8,$AV30:$BN30) -> x | H30: =LOOKUP(H$8,$AV$8:$BN$8,$AV30:$BN30) -> x | I30: =LOOKUP(I$8,$AV$8:$BN$8,$AV30:$BN30) -> x | J30: =LOOKUP(J$8,$AV$8:$BN$8,$AV30:$BN30) -> x | K30: =LOOKUP(K$8,$AV$8:$BN$8,$AV30:$BN30) -> #N/A | L30: =LOOKUP(L$8,$AV$8:$BN$8,$AV30:$BN30) | M30: =LOOKUP(M$8,$AV$8:$BN$8,$AV30:$BN30) | N30: =LOOKUP(N$8,$AV$8:$BN$8,$AV30:$BN30) | ... AU30: =LOOKUP(AU$8,$AV$8:$BN$8,$AV30:$BN30) -> #N/A | AV30: x | AW30: x | AX30: ! | BB30: =IF(AND(E30<>"",AV30=""),"fehler","Ok") -> Ok | BC30: =IF(G30<>"",IF(OR(AV30="",AW30="",AX30="",AY30=""),"Leerzeichen fehlt","Leerzeiche IO"),"") -> Leerzeiche IO | BJ30: ? | BM30: =IF(BK30="","Ja","Nein") -> Ja
E31: MS-Office-Dokumente erstellen | G31: =LOOKUP(G$8,$AV$8:$BN$8,$AV31:$BN31) -> x | H31: =LOOKUP(H$8,$AV$8:$BN$8,$AV31:$BN31) -> x | I31: =LOOKUP(I$8,$AV$8:$BN$8,$AV31:$BN31) -> x | J31: =LOOKUP(J$8,$AV$8:$BN$8,$AV31:$BN31) -> x | K31: =LOOKUP(K$8,$AV$8:$BN$8,$AV31:$BN31) -> #N/A | L31: =LOOKUP(L$8,$AV$8:$BN$8,$AV31:$BN31) | M31: =LOOKUP(M$8,$AV$8:$BN$8,$AV31:$BN31) | N31: =LOOKUP(N$8,$AV$8:$BN$8,$AV31:$BN31) | ... AU31: =LOOKUP(AU$8,$AV$8:$BN$8,$AV31:$BN31) -> #N/A | AV31: x | AW31: x | AX31: ! | BB31: =IF(AND(E31<>"",AV31=""),"fehler","Ok") -> Ok | BC31: =IF(G31<>"",IF(OR(AV31="",AW31="",AX31="",AY31=""),"Leerzeichen fehlt","Leerzeiche IO"),"") -> Leerzeiche IO | BJ31: ? | BM31: =IF(BK31="","Ja","Nein") -> Ja
E32: Dokumenteverzeichnis (bisherige) | G32: =LOOKUP(G$8,$AV$8:$BN$8,$AV32:$BN32) -> x | H32: =LOOKUP(H$8,$AV$8:$BN$8,$AV32:$BN32) -> x | I32: =LOOKUP(I$8,$AV$8:$BN$8,$AV32:$BN32) -> x | J32: =LOOKUP(J$8,$AV$8:$BN$8,$AV32:$BN32) -> x | K32: =LOOKUP(K$8,$AV$8:$BN$8,$AV32:$BN32) -> #N/A | L32: =LOOKUP(L$8,$AV$8:$BN$8,$AV32:$BN32) | M32: =LOOKUP(M$8,$AV$8:$BN$8,$AV32:$BN32) | N32: =LOOKUP(N$8,$AV$8:$BN$8,$AV32:$BN32) | ... AU32: =LOOKUP(AU$8,$AV$8:$BN$8,$AV32:$BN32) -> #N/A | AV32: x | AW32: x | AX32: ! | BB32: =IF(AND(E32<>"",AV32=""),"fehler","Ok") -> Ok | BC32: =IF(G32<>"",IF(OR(AV32="",AW32="",AX32="",AY32=""),"Leerzeichen fehlt","Leerzeiche IO"),"") -> Leerzeiche IO | BJ32: ? | BM32: =IF(BK32="","Ja","Nein") -> Ja
E33: Drucken | G33: =LOOKUP(G$8,$AV$8:$BN$8,$AV33:$BN33) -> x | H33: =LOOKUP(H$8,$AV$8:$BN$8,$AV33:$BN33) -> x | I33: =LOOKUP(I$8,$AV$8:$BN$8,$AV33:$BN33) -> x | J33: =LOOKUP(J$8,$AV$8:$BN$8,$AV33:$BN33) -> x | K33: =LOOKUP(K$8,$AV$8:$BN$8,$AV33:$BN33) -> #N/A | L33: =LOOKUP(L$8,$AV$8:$BN$8,$AV33:$BN33) | M33: =LOOKUP(M$8,$AV$8:$BN$8,$AV33:$BN33) | N33: =LOOKUP(N$8,$AV$8:$BN$8,$AV33:$BN33) | ... AU33: =LOOKUP(AU$8,$AV$8:$BN$8,$AV33:$BN33) -> #N/A | AV33: x | AW33: x | AX33: ! | BB33: =IF(AND(E33<>"",AV33=""),"fehler","Ok") -> Ok | BC33: =IF(G33<>"",IF(OR(AV33="",AW33="",AX33="",AY33=""),"Leerzeichen fehlt","Leerzeiche IO"),"") -> Leerzeiche IO | BJ33: ? | BM33: =IF(BK33="","Ja","Nein") -> Ja
E34: Gruppenzuweisung für Selektion | G34: =LOOKUP(G$8,$AV$8:$BN$8,$AV34:$BN34) -> x | H34: =LOOKUP(H$8,$AV$8:$BN$8,$AV34:$BN34) -> x | I34: =LOOKUP(I$8,$AV$8:$BN$8,$AV34:$BN34) -> x | J34: =LOOKUP(J$8,$AV$8:$BN$8,$AV34:$BN34) -> x | K34: =LOOKUP(K$8,$AV$8:$BN$8,$AV34:$BN34) -> #N/A | L34: =LOOKUP(L$8,$AV$8:$BN$8,$AV34:$BN34) | M34: =LOOKUP(M$8,$AV$8:$BN$8,$AV34:$BN34) | N34: =LOOKUP(N$8,$AV$8:$BN$8,$AV34:$BN34) | ... AU34: =LOOKUP(AU$8,$AV$8:$BN$8,$AV34:$BN34) -> #N/A | AV34: x | AW34: x | AX34: ! | BB34: =IF(AND(E34<>"",AV34=""),"fehler","Ok") -> Ok | BC34: =IF(G34<>"",IF(OR(AV34="",AW34="",AX34="",AY34=""),"Leerzeichen fehlt","Leerzeiche IO"),"") -> Leerzeiche IO | BJ34: ? | BM34: =IF(BK34="","Ja","Nein") -> Ja
E35: Notiz für Selektion generieren | G35: =LOOKUP(G$8,$AV$8:$BN$8,$AV35:$BN35) -> x | H35: =LOOKUP(H$8,$AV$8:$BN$8,$AV35:$BN35) -> x | I35: =LOOKUP(I$8,$AV$8:$BN$8,$AV35:$BN35) -> x | J35: =LOOKUP(J$8,$AV$8:$BN$8,$AV35:$BN35) -> x | K35: =LOOKUP(K$8,$AV$8:$BN$8,$AV35:$BN35) -> #N/A | L35: =LOOKUP(L$8,$AV$8:$BN$8,$AV35:$BN35) | M35: =LOOKUP(M$8,$AV$8:$BN$8,$AV35:$BN35) | N35: =LOOKUP(N$8,$AV$8:$BN$8,$AV35:$BN35) | ... AU35: =LOOKUP(AU$8,$AV$8:$BN$8,$AV35:$BN35) -> #N/A | AV35: x | AW35: x | AX35: ! | BB35: =IF(AND(E35<>"",AV35=""),"fehler","Ok") -> Ok | BC35: =IF(G35<>"",IF(OR(AV35="",AW35="",AX35="",AY35=""),"Leerzeichen fehlt","Leerzeiche IO"),"") -> Leerzeiche IO | BJ35: ? | BM35: =IF(BK35="","Ja","Nein") -> Ja
E36: Mitglieder-Briefanrede generieren selektiert | G36: =LOOKUP(G$8,$AV$8:$BN$8,$AV36:$BN36) -> x | H36: =LOOKUP(H$8,$AV$8:$BN$8,$AV36:$BN36) -> x | I36: =LOOKUP(I$8,$AV$8:$BN$8,$AV36:$BN36) -> x | J36: =LOOKUP(J$8,$AV$8:$BN$8,$AV36:$BN36) -> x | K36: =LOOKUP(K$8,$AV$8:$BN$8,$AV36:$BN36) -> #N/A | L36: =LOOKUP(L$8,$AV$8:$BN$8,$AV36:$BN36) | M36: =LOOKUP(M$8,$AV$8:$BN$8,$AV36:$BN36) | N36: =LOOKUP(N$8,$AV$8:$BN$8,$AV36:$BN36) | ... AU36: =LOOKUP(AU$8,$AV$8:$BN$8,$AV36:$BN36) -> #N/A | AV36: x | AW36: x | AX36: ! | BB36: =IF(AND(E36<>"",AV36=""),"fehler","Ok") -> Ok | BC36: =IF(G36<>"",IF(OR(AV36="",AW36="",AX36="",AY36=""),"Leerzeichen fehlt","Leerzeiche IO"),"") -> Leerzeiche IO | BJ36: ? | BM36: =IF(BK36="","Ja","Nein") -> Ja
E37: Adress-Briefanrede generieren selektiert | G37: =LOOKUP(G$8,$AV$8:$BN$8,$AV37:$BN37) -> x | H37: =LOOKUP(H$8,$AV$8:$BN$8,$AV37:$BN37) -> x | I37: =LOOKUP(I$8,$AV$8:$BN$8,$AV37:$BN37) -> x | J37: =LOOKUP(J$8,$AV$8:$BN$8,$AV37:$BN37) -> x | K37: =LOOKUP(K$8,$AV$8:$BN$8,$AV37:$BN37) -> #N/A | L37: =LOOKUP(L$8,$AV$8:$BN$8,$AV37:$BN37) | M37: =LOOKUP(M$8,$AV$8:$BN$8,$AV37:$BN37) | N37: =LOOKUP(N$8,$AV$8:$BN$8,$AV37:$BN37) | ... AU37: =LOOKUP(AU$8,$AV$8:$BN$8,$AV37:$BN37) -> #N/A | AV37: x | AW37: x | AX37: ! | BB37: =IF(AND(E37<>"",AV37=""),"fehler","Ok") -> Ok | BC37: =IF(G37<>"",IF(OR(AV37="",AW37="",AX37="",AY37=""),"Leerzeichen fehlt","Leerzeiche IO"),"") -> Leerzeiche IO | BJ37: ? | BM37: =IF(BK37="","Ja","Nein") -> Ja
E38: Ettikettendruck | G38: =LOOKUP(G$8,$AV$8:$BN$8,$AV38:$BN38) -> x | H38: =LOOKUP(H$8,$AV$8:$BN$8,$AV38:$BN38) -> x | I38: =LOOKUP(I$8,$AV$8:$BN$8,$AV38:$BN38) -> x | J38: =LOOKUP(J$8,$AV$8:$BN$8,$AV38:$BN38) -> x | K38: =LOOKUP(K$8,$AV$8:$BN$8,$AV38:$BN38) -> #N/A | L38: =LOOKUP(L$8,$AV$8:$BN$8,$AV38:$BN38) | M38: =LOOKUP(M$8,$AV$8:$BN$8,$AV38:$BN38) | N38: =LOOKUP(N$8,$AV$8:$BN$8,$AV38:$BN38) | ... AU38: =LOOKUP(AU$8,$AV$8:$BN$8,$AV38:$BN38) -> #N/A | AV38: x | AW38: x | AX38: ! | BB38: =IF(AND(E38<>"",AV38=""),"fehler","Ok") -> Ok | BC38: =IF(G38<>"",IF(OR(AV38="",AW38="",AX38="",AY38=""),"Leerzeichen fehlt","Leerzeiche IO"),"") -> Leerzeiche IO | BJ38: ? | BM38: =IF(BK38="","Ja","Nein") -> Ja
E39: Status ändern selektiert | G39: =LOOKUP(G$8,$AV$8:$BN$8,$AV39:$BN39) -> x | H39: =LOOKUP(H$8,$AV$8:$BN$8,$AV39:$BN39) -> x | I39: =LOOKUP(I$8,$AV$8:$BN$8,$AV39:$BN39) -> x | J39: =LOOKUP(J$8,$AV$8:$BN$8,$AV39:$BN39) -> x | K39: =LOOKUP(K$8,$AV$8:$BN$8,$AV39:$BN39) -> #N/A | L39: =LOOKUP(L$8,$AV$8:$BN$8,$AV39:$BN39) | M39: =LOOKUP(M$8,$AV$8:$BN$8,$AV39:$BN39) | N39: =LOOKUP(N$8,$AV$8:$BN$8,$AV39:$BN39) | ... AU39: =LOOKUP(AU$8,$AV$8:$BN$8,$AV39:$BN39) -> #N/A | AV39: x | AW39: x | AX39: ! | BB39: =IF(AND(E39<>"",AV39=""),"fehler","Ok") -> Ok | BC39: =IF(G39<>"",IF(OR(AV39="",AW39="",AX39="",AY39=""),"Leerzeichen fehlt","Leerzeiche IO"),"") -> Leerzeiche IO | BJ39: ? | BM39: =IF(BK39="","Ja","Nein") -> Ja
E40: Mitglieder-Gruppenzuweisung aktualisieren | G40: =LOOKUP(G$8,$AV$8:$BN$8,$AV40:$BN40) -> x | H40: =LOOKUP(H$8,$AV$8:$BN$8,$AV40:$BN40) -> ! | I40: =LOOKUP(I$8,$AV$8:$BN$8,$AV40:$BN40) -> ! | J40: =LOOKUP(J$8,$AV$8:$BN$8,$AV40:$BN40) -> ! | K40: =LOOKUP(K$8,$AV$8:$BN$8,$AV40:$BN40) -> #N/A | L40: =LOOKUP(L$8,$AV$8:$BN$8,$AV40:$BN40) | M40: =LOOKUP(M$8,$AV$8:$BN$8,$AV40:$BN40) | N40: =LOOKUP(N$8,$AV$8:$BN$8,$AV40:$BN40) | ... AU40: =LOOKUP(AU$8,$AV$8:$BN$8,$AV40:$BN40) -> #N/A | AV40: x | AW40: ! | AX40: ! | BB40: =IF(AND(E40<>"",AV40=""),"fehler","Ok") -> Ok | BC40: =IF(G40<>"",IF(OR(AV40="",AW40="",AX40="",AY40=""),"Leerzeichen fehlt","Leerzeiche IO"),"") -> Leerzeiche IO | BJ40: ? | BM40: =IF(BK40="","Ja","Nein") -> Ja
E41: Kunden-Gruppenzuweisung aktualisieren | G41: =LOOKUP(G$8,$AV$8:$BN$8,$AV41:$BN41) -> x | H41: =LOOKUP(H$8,$AV$8:$BN$8,$AV41:$BN41) -> ! | I41: =LOOKUP(I$8,$AV$8:$BN$8,$AV41:$BN41) -> ! | J41: =LOOKUP(J$8,$AV$8:$BN$8,$AV41:$BN41) -> ! | K41: =LOOKUP(K$8,$AV$8:$BN$8,$AV41:$BN41) -> #N/A | L41: =LOOKUP(L$8,$AV$8:$BN$8,$AV41:$BN41) | M41: =LOOKUP(M$8,$AV$8:$BN$8,$AV41:$BN41) | N41: =LOOKUP(N$8,$AV$8:$BN$8,$AV41:$BN41) | ... AU41: =LOOKUP(AU$8,$AV$8:$BN$8,$AV41:$BN41) -> #N/A | AV41: x | AW41: ! | AX41: ! | BB41: =IF(AND(E41<>"",AV41=""),"fehler","Ok") -> Ok | BC41: =IF(G41<>"",IF(OR(AV41="",AW41="",AX41="",AY41=""),"Leerzeichen fehlt","Leerzeiche IO"),"") -> Leerzeiche IO | BJ41: ? | BM41: =IF(BK41="","Ja","Nein") -> Ja
...

Sheet Benutzer
F2: root-service ag Wydenstrasse 29 Postfach 227 CH-8575 Bürglen Telefon +41 (0)71 634 80 40 E-Mail: info@root.ch Internet: www.root.ch
B4: Benutzer in Gruppen
B6: Benutzer
B7: Adress - ID | C7: Name | D7: Benutzername | E7: Benutzergruppe | F7: =IF(Gruppenberechtigung!G$6="","",Gruppenberechtigung!G$6) -> 01 Geschäftsleitung | G7: =IF(Gruppenberechtigung!H$6="","",Gruppenberechtigung!H$6) -> 02 Administration | H7: =IF(Gruppenberechtigung!I$6="","",Gruppenberechtigung!I$6) -> 03 HR/Personal | I7: =IF(Gruppenberechtigung!J$6="","",Gruppenberechtigung!J$6) -> 04 Finanzen | J7: =IF(Gruppenberechtigung!K$6="","",Gruppenberechtigung!K$6) | K7: =IF(Gruppenberechtigung!L$6="","",Gruppenberechtigung!L$6) -> 08 Diplomiertes Pflegefachpersonal (Tertiär) | L7: =IF(Gruppenberechtigung!M$6="","",Gruppenberechtigung!M$6) -> 09 Fachpersonal Pflege (Sekundar EFZ / EBA) | M7: =IF(Gruppenberechtigung!N$6="","",Gruppenberechtigung!N$6) -> 10 Andere/ohne Ausbildung (SRK) | ... U7: =IF(Gruppenberechtigung!V$6="","",Gruppenberechtigung!V$6) | V7: =IF(Gruppenberechtigung!R$6="","",Gruppenberechtigung!R$6) | W7: =IF(Gruppenberechtigung!X$6="","",Gruppenberechtigung!X$6) | X7: =IF(Gruppenberechtigung!Y$6="","",Gruppenberechtigung!Y$6) | Y7: =IF(Gruppenberechtigung!Z$6="","",Gruppenberechtigung!Z$6) -> 93 Dispo DP Team A löschen | Z7: =IF(Gruppenberechtigung!AA$6="","",Gruppenberechtigung!AA$6) -> 94 Dispo DP Team B löschen | AA7: =IF(Gruppenberechtigung!AB$6="","",Gruppenberechtigung!AB$6) -> 95 Dispo EP Team A löschen | AB7: =IF(Gruppenberechtigung!AC$6="","",Gruppenberechtigung!AC$6) -> 96 Dispo EP Team B löschen | AC7: =IF(Gruppenberechtigung!AD$6="","",Gruppenberechtigung!AD$6) -> 97 Dispo lesen | AD7: =IF(Gruppenberechtigung!AE$6="","",Gruppenberechtigung!AE$6) | ... AT7: =IF(Gruppenberechtigung!AU$6="","",Gruppenberechtigung!AU$6)
B9: keine | C9: Administrator (Vollzugriff) | D9: Administrator | Z9: x | AA9: x | AB9: x | AC9: x | AF9: x
B10: 1253 | C10: Ursula Meier | D10: um | F10: x | S10: x | AF10: x
B11: 1257 | C11: Silvana Normalverbraucher | D11: sn | G11: x | AF11: x
B12: 1256 | C12: Erika Mustermann | D12: em | G12: x | AF12: x
B13: 1258 | C13: Andrea Musterfrau | D13: am | I13: x | L13: x | O13: x | AB13: x | AG13: x
B14: 1259 | C14: Hanna von Musterhausen | D14: hv | AB14: x
B15: 1260 | C15: Franziska Schweizer | D15: fs | S15: x | AB15: x
B16: 1261 | C16: Carolline Smith | D16: cs | M16: x | Y16: x | Z16: x | AB16: x | AG16: x
B17: 1254 | C17: Max Mustermann | D17: mm | F17: x | M17: x | AB17: x | AF17: x
B18: 1255 | C18: Vreni Müller | D18: vm | F18: x | O18: x | AA18: x | AB18: x | AF18: x

Sheet Tabelle1
C3: >Hilfe- und Pflegedokumentation
C4: >>Vorgänge
D5: Leistungsübernahme aus LPB | F5: =LOOKUP(Gruppenberechtigung!#REF!,Gruppenberechtigung!$AV$8:$BN$8,$AB5:$AG5) -> #REF! | G5: =LOOKUP(Gruppenberechtigung!#REF!,Gruppenberechtigung!$AV$8:$BN$8,$AB5:$AG5) -> #REF! | H5: =LOOKUP(Gruppenberechtigung!#REF!,Gruppenberechtigung!$AV$8:$BN$8,$AB5:$AG5) -> #REF! | I5: =LOOKUP(Gruppenberechtigung!#REF!,Gruppenberechtigung!$AV$8:$BN$8,$AB5:$AG5) -> #REF! | J5: =LOOKUP(Gruppenberechtigung!#REF!,Gruppenberechtigung!$AV$8:$BN$8,$AB5:$AG5) -> #REF! | K5: =LOOKUP(Gruppenberechtigung!#REF!,Gruppenberechtigung!$AV$8:$BN$8,$AB5:$AG5) -> #REF! | L5: =LOOKUP(Gruppenberechtigung!#REF!,Gruppenberechtigung!$AV$8:$BN$8,$AB5:$AG5) -> #REF! | M5: =LOOKUP(Gruppenberechtigung!#REF!,Gruppenberechtigung!$AV$8:$BN$8,$AB5:$AG5) -> #REF! | ... AA5: =LOOKUP(Gruppenberechtigung!#REF!,Gruppenberechtigung!$AV$8:$BN$8,$AB5:$AG5) -> #REF! | AB5: x | AC5: x | AD5: !
D6: >>Auswertungen
D7: Überweisungsrapport drucken | F7: =LOOKUP(Gruppenberechtigung!#REF!,Gruppenberechtigung!$AV$8:$BN$8,$AB7:$AG7) -> #REF! | G7: =LOOKUP(Gruppenberechtigung!#REF!,Gruppenberechtigung!$AV$8:$BN$8,$AB7:$AG7) -> #REF! | H7: =LOOKUP(Gruppenberechtigung!#REF!,Gruppenberechtigung!$AV$8:$BN$8,$AB7:$AG7) -> #REF! | I7: =LOOKUP(Gruppenberechtigung!#REF!,Gruppenberechtigung!$AV$8:$BN$8,$AB7:$AG7) -> #REF! | J7: =LOOKUP(Gruppenberechtigung!#REF!,Gruppenberechtigung!$AV$8:$BN$8,$AB7:$AG7) -> #REF! | K7: =LOOKUP(Gruppenberechtigung!#REF!,Gruppenberechtigung!$AV$8:$BN$8,$AB7:$AG7) -> #REF! | L7: =LOOKUP(Gruppenberechtigung!#REF!,Gruppenberechtigung!$AV$8:$BN$8,$AB7:$AG7) -> #REF! | M7: =LOOKUP(Gruppenberechtigung!#REF!,Gruppenberechtigung!$AV$8:$BN$8,$AB7:$AG7) -> #REF! | ... AA7: =LOOKUP(Gruppenberechtigung!#REF!,Gruppenberechtigung!$AV$8:$BN$8,$AB7:$AG7) -> #REF! | AB7: x | AC7: x | AD7: ! | AE7: !
D8: Kardex druckenm | F8: =LOOKUP(Gruppenberechtigung!#REF!,Gruppenberechtigung!$AV$8:$BN$8,$AB8:$AG8) -> #REF! | G8: =LOOKUP(Gruppenberechtigung!#REF!,Gruppenberechtigung!$AV$8:$BN$8,$AB8:$AG8) -> #REF! | H8: =LOOKUP(Gruppenberechtigung!#REF!,Gruppenberechtigung!$AV$8:$BN$8,$AB8:$AG8) -> #REF! | I8: =LOOKUP(Gruppenberechtigung!#REF!,Gruppenberechtigung!$AV$8:$BN$8,$AB8:$AG8) -> #REF! | J8: =LOOKUP(Gruppenberechtigung!#REF!,Gruppenberechtigung!$AV$8:$BN$8,$AB8:$AG8) -> #REF! | K8: =LOOKUP(Gruppenberechtigung!#REF!,Gruppenberechtigung!$AV$8:$BN$8,$AB8:$AG8) -> #REF! | L8: =LOOKUP(Gruppenberechtigung!#REF!,Gruppenberechtigung!$AV$8:$BN$8,$AB8:$AG8) -> #REF! | M8: =LOOKUP(Gruppenberechtigung!#REF!,Gruppenberechtigung!$AV$8:$BN$8,$AB8:$AG8) -> #REF! | ... AA8: =LOOKUP(Gruppenberechtigung!#REF!,Gruppenberechtigung!$AV$8:$BN$8,$AB8:$AG8) -> #REF! | AB8: x | AC8: x | AD8: ! | AE8: !
D9: Kardex Rückseite drucken | F9: =LOOKUP(Gruppenberechtigung!#REF!,Gruppenberechtigung!$AV$8:$BN$8,$AB9:$AG9) -> #REF! | G9: =LOOKUP(Gruppenberechtigung!#REF!,Gruppenberechtigung!$AV$8:$BN$8,$AB9:$AG9) -> #REF! | H9: =LOOKUP(Gruppenberechtigung!#REF!,Gruppenberechtigung!$AV$8:$BN$8,$AB9:$AG9) -> #REF! | I9: =LOOKUP(Gruppenberechtigung!#REF!,Gruppenberechtigung!$AV$8:$BN$8,$AB9:$AG9) -> #REF! | J9: =LOOKUP(Gruppenberechtigung!#REF!,Gruppenberechtigung!$AV$8:$BN$8,$AB9:$AG9) -> #REF! | K9: =LOOKUP(Gruppenberechtigung!#REF!,Gruppenberechtigung!$AV$8:$BN$8,$AB9:$AG9) -> #REF! | L9: =LOOKUP(Gruppenberechtigung!#REF!,Gruppenberechtigung!$AV$8:$BN$8,$AB9:$AG9) -> #REF! | M9: =LOOKUP(Gruppenberechtigung!#REF!,Gruppenberechtigung!$AV$8:$BN$8,$AB9:$AG9) -> #REF! | ... AA9: =LOOKUP(Gruppenberechtigung!#REF!,Gruppenberechtigung!$AV$8:$BN$8,$AB9:$AG9) -> #REF! | AB9: x | AC9: x | AD9: ! | AE9: !
D10: Daten lesen | F10: =LOOKUP(Gruppenberechtigung!#REF!,Gruppenberechtigung!$AV$8:$BN$8,$AB10:$AG10) -> #REF! | G10: =LOOKUP(Gruppenberechtigung!#REF!,Gruppenberechtigung!$AV$8:$BN$8,$AB10:$AG10) -> #REF! | H10: =LOOKUP(Gruppenberechtigung!#REF!,Gruppenberechtigung!$AV$8:$BN$8,$AB10:$AG10) -> #REF! | I10: =LOOKUP(Gruppenberechtigung!#REF!,Gruppenberechtigung!$AV$8:$BN$8,$AB10:$AG10) -> #REF! | J10: =LOOKUP(Gruppenberechtigung!#REF!,Gruppenberechtigung!$AV$8:$BN$8,$AB10:$AG10) -> #REF! | K10: =LOOKUP(Gruppenberechtigung!#REF!,Gruppenberechtigung!$AV$8:$BN$8,$AB10:$AG10) -> #REF! | L10: =LOOKUP(Gruppenberechtigung!#REF!,Gruppenberechtigung!$AV$8:$BN$8,$AB10:$AG10) -> #REF! | M10: =LOOKUP(Gruppenberechtigung!#REF!,Gruppenberechtigung!$AV$8:$BN$8,$AB10:$AG10) -> #REF! | ... AA10: =LOOKUP(Gruppenberechtigung!#REF!,Gruppenberechtigung!$AV$8:$BN$8,$AB10:$AG10) -> #REF! | AB10: x | AC10: x | AD10: x | AE10: x
D11: Daten erstellen | F11: =LOOKUP(Gruppenberechtigung!#REF!,Gruppenberechtigung!$AV$8:$BN$8,$AB11:$AG11) -> #REF! | G11: =LOOKUP(Gruppenberechtigung!#REF!,Gruppenberechtigung!$AV$8:$BN$8,$AB11:$AG11) -> #REF! | H11: =LOOKUP(Gruppenberechtigung!#REF!,Gruppenberechtigung!$AV$8:$BN$8,$AB11:$AG11) -> #REF! | I11: =LOOKUP(Gruppenberechtigung!#REF!,Gruppenberechtigung!$AV$8:$BN$8,$AB11:$AG11) -> #REF! | J11: =LOOKUP(Gruppenberechtigung!#REF!,Gruppenberechtigung!$AV$8:$BN$8,$AB11:$AG11) -> #REF! | K11: =LOOKUP(Gruppenberechtigung!#REF!,Gruppenberechtigung!$AV$8:$BN$8,$AB11:$AG11) -> #REF! | L11: =LOOKUP(Gruppenberechtigung!#REF!,Gruppenberechtigung!$AV$8:$BN$8,$AB11:$AG11) -> #REF! | M11: =LOOKUP(Gruppenberechtigung!#REF!,Gruppenberechtigung!$AV$8:$BN$8,$AB11:$AG11) -> #REF! | ... AA11: =LOOKUP(Gruppenberechtigung!#REF!,Gruppenberechtigung!$AV$8:$BN$8,$AB11:$AG11) -> #REF! | AB11: x | AC11: x
D12: Daten bearbeiten | F12: =LOOKUP(Gruppenberechtigung!#REF!,Gruppenberechtigung!$AV$8:$BN$8,$AB12:$AG12) -> #REF! | G12: =LOOKUP(Gruppenberechtigung!#REF!,Gruppenberechtigung!$AV$8:$BN$8,$AB12:$AG12) -> #REF! | H12: =LOOKUP(Gruppenberechtigung!#REF!,Gruppenberechtigung!$AV$8:$BN$8,$AB12:$AG12) -> #REF! | I12: =LOOKUP(Gruppenberechtigung!#REF!,Gruppenberechtigung!$AV$8:$BN$8,$AB12:$AG12) -> #REF! | J12: =LOOKUP(Gruppenberechtigung!#REF!,Gruppenberechtigung!$AV$8:$BN$8,$AB12:$AG12) -> #REF! | K12: =LOOKUP(Gruppenberechtigung!#REF!,Gruppenberechtigung!$AV$8:$BN$8,$AB12:$AG12) -> #REF! | L12: =LOOKUP(Gruppenberechtigung!#REF!,Gruppenberechtigung!$AV$8:$BN$8,$AB12:$AG12) -> #REF! | M12: =LOOKUP(Gruppenberechtigung!#REF!,Gruppenberechtigung!$AV$8:$BN$8,$AB12:$AG12) -> #REF! | ... AA12: =LOOKUP(Gruppenberechtigung!#REF!,Gruppenberechtigung!$AV$8:$BN$8,$AB12:$AG12) -> #REF! | AB12: x | AC12: x | AD12: x
D13: Daten löschen | F13: =LOOKUP(Gruppenberechtigung!#REF!,Gruppenberechtigung!$AV$8:$BN$8,$AB13:$AG13) -> #REF! | G13: =LOOKUP(Gruppenberechtigung!#REF!,Gruppenberechtigung!$AV$8:$BN$8,$AB13:$AG13) -> #REF! | H13: =LOOKUP(Gruppenberechtigung!#REF!,Gruppenberechtigung!$AV$8:$BN$8,$AB13:$AG13) -> #REF! | I13: =LOOKUP(Gruppenberechtigung!#REF!,Gruppenberechtigung!$AV$8:$BN$8,$AB13:$AG13) -> #REF! | J13: =LOOKUP(Gruppenberechtigung!#REF!,Gruppenberechtigung!$AV$8:$BN$8,$AB13:$AG13) -> #REF! | K13: =LOOKUP(Gruppenberechtigung!#REF!,Gruppenberechtigung!$AV$8:$BN$8,$AB13:$AG13) -> #REF! | L13: =LOOKUP(Gruppenberechtigung!#REF!,Gruppenberechtigung!$AV$8:$BN$8,$AB13:$AG13) -> #REF! | M13: =LOOKUP(Gruppenberechtigung!#REF!,Gruppenberechtigung!$AV$8:$BN$8,$AB13:$AG13) -> #REF! | ... AA13: =LOOKUP(Gruppenberechtigung!#REF!,Gruppenberechtigung!$AV$8:$BN$8,$AB13:$AG13) -> #REF! | AB13: x | AC13: x
D14: Drucken | F14: =LOOKUP(Gruppenberechtigung!#REF!,Gruppenberechtigung!$AV$8:$BN$8,$AB14:$AG14) -> #REF! | G14: =LOOKUP(Gruppenberechtigung!#REF!,Gruppenberechtigung!$AV$8:$BN$8,$AB14:$AG14) -> #REF! | H14: =LOOKUP(Gruppenberechtigung!#REF!,Gruppenberechtigung!$AV$8:$BN$8,$AB14:$AG14) -> #REF! | I14: =LOOKUP(Gruppenberechtigung!#REF!,Gruppenberechtigung!$AV$8:$BN$8,$AB14:$AG14) -> #REF! | J14: =LOOKUP(Gruppenberechtigung!#REF!,Gruppenberechtigung!$AV$8:$BN$8,$AB14:$AG14) -> #REF! | K14: =LOOKUP(Gruppenberechtigung!#REF!,Gruppenberechtigung!$AV$8:$BN$8,$AB14:$AG14) -> #REF! | L14: =LOOKUP(Gruppenberechtigung!#REF!,Gruppenberechtigung!$AV$8:$BN$8,$AB14:$AG14) -> #REF! | M14: =LOOKUP(Gruppenberechtigung!#REF!,Gruppenberechtigung!$AV$8:$BN$8,$AB14:$AG14) -> #REF! | ... AA14: =LOOKUP(Gruppenberechtigung!#REF!,Gruppenberechtigung!$AV$8:$BN$8,$AB14:$AG14) -> #REF! | AB14: x | AC14: x | AD14: x | AE14: !
C15: >Kundennotiz
D16: Daten erstellen | F16: =LOOKUP(Gruppenberechtigung!#REF!,Gruppenberechtigung!$AV$8:$BN$8,$AB16:$AG16) -> #REF! | G16: =LOOKUP(Gruppenberechtigung!#REF!,Gruppenberechtigung!$AV$8:$BN$8,$AB16:$AG16) -> #REF! | H16: =LOOKUP(Gruppenberechtigung!#REF!,Gruppenberechtigung!$AV$8:$BN$8,$AB16:$AG16) -> #REF! | I16: =LOOKUP(Gruppenberechtigung!#REF!,Gruppenberechtigung!$AV$8:$BN$8,$AB16:$AG16) -> #REF! | J16: =LOOKUP(Gruppenberechtigung!#REF!,Gruppenberechtigung!$AV$8:$BN$8,$AB16:$AG16) -> #REF! | K16: =LOOKUP(Gruppenberechtigung!#REF!,Gruppenberechtigung!$AV$8:$BN$8,$AB16:$AG16) -> #REF! | L16: =LOOKUP(Gruppenberechtigung!#REF!,Gruppenberechtigung!$AV$8:$BN$8,$AB16:$AG16) -> #REF! | M16: =LOOKUP(Gruppenberechtigung!#REF!,Gruppenberechtigung!$AV$8:$BN$8,$AB16:$AG16) -> #REF! | ... AA16: =LOOKUP(Gruppenberechtigung!#REF!,Gruppenberechtigung!$AV$8:$BN$8,$AB16:$AG16) -> #REF! | AB16: x | AC16: x | AD16: x
D17: Daten bearbeiten | F17: =LOOKUP(Gruppenberechtigung!#REF!,Gruppenberechtigung!$AV$8:$BN$8,$AB17:$AG17) -> #REF! | G17: =LOOKUP(Gruppenberechtigung!#REF!,Gruppenberechtigung!$AV$8:$BN$8,$AB17:$AG17) -> #REF! | H17: =LOOKUP(Gruppenberechtigung!#REF!,Gruppenberechtigung!$AV$8:$BN$8,$AB17:$AG17) -> #REF! | I17: =LOOKUP(Gruppenberechtigung!#REF!,Gruppenberechtigung!$AV$8:$BN$8,$AB17:$AG17) -> #REF! | J17: =LOOKUP(Gruppenberechtigung!#REF!,Gruppenberechtigung!$AV$8:$BN$8,$AB17:$AG17) -> #REF! | K17: =LOOKUP(Gruppenberechtigung!#REF!,Gruppenberechtigung!$AV$8:$BN$8,$AB17:$AG17) -> #REF! | L17: =LOOKUP(Gruppenberechtigung!#REF!,Gruppenberechtigung!$AV$8:$BN$8,$AB17:$AG17) -> #REF! | M17: =LOOKUP(Gruppenberechtigung!#REF!,Gruppenberechtigung!$AV$8:$BN$8,$AB17:$AG17) -> #REF! | ... AA17: =LOOKUP(Gruppenberechtigung!#REF!,Gruppenberechtigung!$AV$8:$BN$8,$AB17:$AG17) -> #REF! | AB17: x | AC17: x | AD17: x
D18: Daten löschen | F18: =LOOKUP(Gruppenberechtigung!#REF!,Gruppenberechtigung!$AV$8:$BN$8,$AB18:$AG18) -> #REF! | G18: =LOOKUP(Gruppenberechtigung!#REF!,Gruppenberechtigung!$AV$8:$BN$8,$AB18:$AG18) -> #REF! | H18: =LOOKUP(Gruppenberechtigung!#REF!,Gruppenberechtigung!$AV$8:$BN$8,$AB18:$AG18) -> #REF! | I18: =LOOKUP(Gruppenberechtigung!#REF!,Gruppenberechtigung!$AV$8:$BN$8,$AB18:$AG18) -> #REF! | J18: =LOOKUP(Gruppenberechtigung!#REF!,Gruppenberechtigung!$AV$8:$BN$8,$AB18:$AG18) -> #REF! | K18: =LOOKUP(Gruppenberechtigung!#REF!,Gruppenberechtigung!$AV$8:$BN$8,$AB18:$AG18) -> #REF! | L18: =LOOKUP(Gruppenberechtigung!#REF!,Gruppenberechtigung!$AV$8:$BN$8,$AB18:$AG18) -> #REF! | M18: =LOOKUP(Gruppenberechtigung!#REF!,Gruppenberechtigung!$AV$8:$BN$8,$AB18:$AG18) -> #REF! | ... AA18: =LOOKUP(Gruppenberechtigung!#REF!,Gruppenberechtigung!$AV$8:$BN$8,$AB18:$AG18) -> #REF! | AB18: x | AC18: x
D19: Drucken | F19: =LOOKUP(Gruppenberechtigung!#REF!,Gruppenberechtigung!$AV$8:$BN$8,$AB19:$AG19) -> #REF! | G19: =LOOKUP(Gruppenberechtigung!#REF!,Gruppenberechtigung!$AV$8:$BN$8,$AB19:$AG19) -> #REF! | H19: =LOOKUP(Gruppenberechtigung!#REF!,Gruppenberechtigung!$AV$8:$BN$8,$AB19:$AG19) -> #REF! | I19: =LOOKUP(Gruppenberechtigung!#REF!,Gruppenberechtigung!$AV$8:$BN$8,$AB19:$AG19) -> #REF! | J19: =LOOKUP(Gruppenberechtigung!#REF!,Gruppenberechtigung!$AV$8:$BN$8,$AB19:$AG19) -> #REF! | K19: =LOOKUP(Gruppenberechtigung!#REF!,Gruppenberechtigung!$AV$8:$BN$8,$AB19:$AG19) -> #REF! | L19: =LOOKUP(Gruppenberechtigung!#REF!,Gruppenberechtigung!$AV$8:$BN$8,$AB19:$AG19) -> #REF! | M19: =LOOKUP(Gruppenberechtigung!#REF!,Gruppenberechtigung!$AV$8:$BN$8,$AB19:$AG19) -> #REF! | ... AA19: =LOOKUP(Gruppenberechtigung!#REF!,Gruppenberechtigung!$AV$8:$BN$8,$AB19:$AG19) -> #REF! | AB19: x | AC19: x | AD19: x | AE19: !
C20: >Verlaufsbericht
D21: Daten erstellen | F21: =LOOKUP(Gruppenberechtigung!#REF!,Gruppenberechtigung!$AV$8:$BN$8,$AB21:$AG21) -> #REF! | G21: =LOOKUP(Gruppenberechtigung!#REF!,Gruppenberechtigung!$AV$8:$BN$8,$AB21:$AG21) -> #REF! | H21: =LOOKUP(Gruppenberechtigung!#REF!,Gruppenberechtigung!$AV$8:$BN$8,$AB21:$AG21) -> #REF! | I21: =LOOKUP(Gruppenberechtigung!#REF!,Gruppenberechtigung!$AV$8:$BN$8,$AB21:$AG21) -> #REF! | J21: ! | K21: =LOOKUP(Gruppenberechtigung!#REF!,Gruppenberechtigung!$AV$8:$BN$8,$AB21:$AG21) -> #REF! | L21: =LOOKUP(Gruppenberechtigung!#REF!,Gruppenberechtigung!$AV$8:$BN$8,$AB21:$AG21) -> #REF! | M21: =LOOKUP(Gruppenberechtigung!#REF!,Gruppenberechtigung!$AV$8:$BN$8,$AB21:$AG21) -> #REF! | N21: =LOOKUP(Gruppenberechtigung!#REF!,Gruppenberechtigung!$AV$8:$BN$8,$AB21:$AG21) -> #REF! | O21: =LOOKUP(Gruppenberechtigung!#REF!,Gruppenberechtigung!$AV$8:$BN$8,$AB21:$AG21) -> #REF! | P21: =LOOKUP(Gruppenberechtigung!#REF!,Gruppenberechtigung!$AV$8:$BN$8,$AB21:$AG21) -> #REF! | Q21: =LOOKUP(Gruppenberechtigung!#REF!,Gruppenberechtigung!$AV$8:$BN$8,$AB21:$AG21) -> #REF! | R21: =LOOKUP(Gruppenberechtigung!#REF!,Gruppenberechtigung!$AV$8:$BN$8,$AB21:$AG21) -> #REF! | ... AA21: =LOOKUP(Gruppenberechtigung!#REF!,Gruppenberechtigung!$AV$8:$BN$8,$AB21:$AG21) -> #REF! | AB21: x | AC21: x | AD21: x
D22: Daten bearbeiten | F22: =LOOKUP(Gruppenberechtigung!#REF!,Gruppenberechtigung!$AV$8:$BN$8,$AB22:$AG22) -> #REF! | G22: =LOOKUP(Gruppenberechtigung!#REF!,Gruppenberechtigung!$AV$8:$BN$8,$AB22:$AG22) -> #REF! | H22: =LOOKUP(Gruppenberechtigung!#REF!,Gruppenberechtigung!$AV$8:$BN$8,$AB22:$AG22) -> #REF! | I22: =LOOKUP(Gruppenberechtigung!#REF!,Gruppenberechtigung!$AV$8:$BN$8,$AB22:$AG22) -> #REF! | J22: ! | K22: =LOOKUP(Gruppenberechtigung!#REF!,Gruppenberechtigung!$AV$8:$BN$8,$AB22:$AG22) -> #REF! | L22: =LOOKUP(Gruppenberechtigung!#REF!,Gruppenberechtigung!$AV$8:$BN$8,$AB22:$AG22) -> #REF! | M22: =LOOKUP(Gruppenberechtigung!#REF!,Gruppenberechtigung!$AV$8:$BN$8,$AB22:$AG22) -> #REF! | N22: =LOOKUP(Gruppenberechtigung!#REF!,Gruppenberechtigung!$AV$8:$BN$8,$AB22:$AG22) -> #REF! | O22: =LOOKUP(Gruppenberechtigung!#REF!,Gruppenberechtigung!$AV$8:$BN$8,$AB22:$AG22) -> #REF! | P22: =LOOKUP(Gruppenberechtigung!#REF!,Gruppenberechtigung!$AV$8:$BN$8,$AB22:$AG22) -> #REF! | Q22: =LOOKUP(Gruppenberechtigung!#REF!,Gruppenberechtigung!$AV$8:$BN$8,$AB22:$AG22) -> #REF! | R22: =LOOKUP(Gruppenberechtigung!#REF!,Gruppenberechtigung!$AV$8:$BN$8,$AB22:$AG22) -> #REF! | ... AA22: =LOOKUP(Gruppenberechtigung!#REF!,Gruppenberechtigung!$AV$8:$BN$8,$AB22:$AG22) -> #REF! | AB22: x | AC22: x | AD22: x
D23: Daten löschen | F23: =LOOKUP(Gruppenberechtigung!#REF!,Gruppenberechtigung!$AV$8:$BN$8,$AB23:$AG23) -> #REF! | G23: =LOOKUP(Gruppenberechtigung!#REF!,Gruppenberechtigung!$AV$8:$BN$8,$AB23:$AG23) -> #REF! | H23: =LOOKUP(Gruppenberechtigung!#REF!,Gruppenberechtigung!$AV$8:$BN$8,$AB23:$AG23) -> #REF! | I23: =LOOKUP(Gruppenberechtigung!#REF!,Gruppenberechtigung!$AV$8:$BN$8,$AB23:$AG23) -> #REF! | J23: =LOOKUP(Gruppenberechtigung!#REF!,Gruppenberechtigung!$AV$8:$BN$8,$AB23:$AG23) -> #REF! | K23: =LOOKUP(Gruppenberechtigung!#REF!,Gruppenberechtigung!$AV$8:$BN$8,$AB23:$AG23) -> #REF! | L23: =LOOKUP(Gruppenberechtigung!#REF!,Gruppenberechtigung!$AV$8:$BN$8,$AB23:$AG23) -> #REF! | M23: =LOOKUP(Gruppenberechtigung!#REF!,Gruppenberechtigung!$AV$8:$BN$8,$AB23:$AG23) -> #REF! | ... AA23: =LOOKUP(Gruppenberechtigung!#REF!,Gruppenberechtigung!$AV$8:$BN$8,$AB23:$AG23) -> #REF! | AB23: x | AC23: x
D24: Drucken | F24: =LOOKUP(Gruppenberechtigung!#REF!,Gruppenberechtigung!$AV$8:$BN$8,$AB24:$AG24) -> #REF! | G24: =LOOKUP(Gruppenberechtigung!#REF!,Gruppenberechtigung!$AV$8:$BN$8,$AB24:$AG24) -> #REF! | H24: =LOOKUP(Gruppenberechtigung!#REF!,Gruppenberechtigung!$AV$8:$BN$8,$AB24:$AG24) -> #REF! | I24: =LOOKUP(Gruppenberechtigung!#REF!,Gruppenberechtigung!$AV$8:$BN$8,$AB24:$AG24) -> #REF! | J24: =LOOKUP(Gruppenberechtigung!#REF!,Gruppenberechtigung!$AV$8:$BN$8,$AB24:$AG24) -> #REF! | K24: =LOOKUP(Gruppenberechtigung!#REF!,Gruppenberechtigung!$AV$8:$BN$8,$AB24:$AG24) -> #REF! | L24: =LOOKUP(Gruppenberechtigung!#REF!,Gruppenberechtigung!$AV$8:$BN$8,$AB24:$AG24) -> #REF! | M24: =LOOKUP(Gruppenberechtigung!#REF!,Gruppenberechtigung!$AV$8:$BN$8,$AB24:$AG24) -> #REF! | ... AA24: =LOOKUP(Gruppenberechtigung!#REF!,Gruppenberechtigung!$AV$8:$BN$8,$AB24:$AG24) -> #REF! | AB24: x | AC24: x | AD24: x | AE24: !
C25: >Medikament
D26: Daten erstellen | F26: =LOOKUP(Gruppenberechtigung!#REF!,Gruppenberechtigung!$AV$8:$BN$8,$AB26:$AG26) -> #REF! | G26: =LOOKUP(Gruppenberechtigung!#REF!,Gruppenberechtigung!$AV$8:$BN$8,$AB26:$AG26) -> #REF! | H26: =LOOKUP(Gruppenberechtigung!#REF!,Gruppenberechtigung!$AV$8:$BN$8,$AB26:$AG26) -> #REF! | I26: =LOOKUP(Gruppenberechtigung!#REF!,Gruppenberechtigung!$AV$8:$BN$8,$AB26:$AG26) -> #REF! | J26: ! | K26: =LOOKUP(Gruppenberechtigung!#REF!,Gruppenberechtigung!$AV$8:$BN$8,$AB26:$AG26) -> #REF! | L26: =LOOKUP(Gruppenberechtigung!#REF!,Gruppenberechtigung!$AV$8:$BN$8,$AB26:$AG26) -> #REF! | M26: =LOOKUP(Gruppenberechtigung!#REF!,Gruppenberechtigung!$AV$8:$BN$8,$AB26:$AG26) -> #REF! | N26: =LOOKUP(Gruppenberechtigung!#REF!,Gruppenberechtigung!$AV$8:$BN$8,$AB26:$AG26) -> #REF! | O26: =LOOKUP(Gruppenberechtigung!#REF!,Gruppenberechtigung!$AV$8:$BN$8,$AB26:$AG26) -> #REF! | P26: =LOOKUP(Gruppenberechtigung!#REF!,Gruppenberechtigung!$AV$8:$BN$8,$AB26:$AG26) -> #REF! | Q26: =LOOKUP(Gruppenberechtigung!#REF!,Gruppenberechtigung!$AV$8:$BN$8,$AB26:$AG26) -> #REF! | R26: =LOOKUP(Gruppenberechtigung!#REF!,Gruppenberechtigung!$AV$8:$BN$8,$AB26:$AG26) -> #REF! | ... AA26: =LOOKUP(Gruppenberechtigung!#REF!,Gruppenberechtigung!$AV$8:$BN$8,$AB26:$AG26) -> #REF! | AB26: x | AC26: x | AD26: x
D27: Daten bearbeiten | F27: =LOOKUP(Gruppenberechtigung!#REF!,Gruppenberechtigung!$AV$8:$BN$8,$AB27:$AG27) -> #REF! | G27: =LOOKUP(Gruppenberechtigung!#REF!,Gruppenberechtigung!$AV$8:$BN$8,$AB27:$AG27) -> #REF! | H27: =LOOKUP(Gruppenberechtigung!#REF!,Gruppenberechtigung!$AV$8:$BN$8,$AB27:$AG27) -> #REF! | I27: =LOOKUP(Gruppenberechtigung!#REF!,Gruppenberechtigung!$AV$8:$BN$8,$AB27:$AG27) -> #REF! | J27: ! | K27: =LOOKUP(Gruppenberechtigung!#REF!,Gruppenberechtigung!$AV$8:$BN$8,$AB27:$AG27) -> #REF! | L27: =LOOKUP(Gruppenberechtigung!#REF!,Gruppenberechtigung!$AV$8:$BN$8,$AB27:$AG27) -> #REF! | M27: =LOOKUP(Gruppenberechtigung!#REF!,Gruppenberechtigung!$AV$8:$BN$8,$AB27:$AG27) -> #REF! | N27: =LOOKUP(Gruppenberechtigung!#REF!,Gruppenberechtigung!$AV$8:$BN$8,$AB27:$AG27) -> #REF! | O27: =LOOKUP(Gruppenberechtigung!#REF!,Gruppenberechtigung!$AV$8:$BN$8,$AB27:$AG27) -> #REF! | P27: =LOOKUP(Gruppenberechtigung!#REF!,Gruppenberechtigung!$AV$8:$BN$8,$AB27:$AG27) -> #REF! | Q27: =LOOKUP(Gruppenberechtigung!#REF!,Gruppenberechtigung!$AV$8:$BN$8,$AB27:$AG27) -> #REF! | R27: =LOOKUP(Gruppenberechtigung!#REF!,Gruppenberechtigung!$AV$8:$BN$8,$AB27:$AG27) -> #REF! | ... AA27: =LOOKUP(Gruppenberechtigung!#REF!,Gruppenberechtigung!$AV$8:$BN$8,$AB27:$AG27) -> #REF! | AB27: x | AC27: x | AD27: x
D28: Daten löschen | F28: =LOOKUP(Gruppenberechtigung!#REF!,Gruppenberechtigung!$AV$8:$BN$8,$AB28:$AG28) -> #REF! | G28: =LOOKUP(Gruppenberechtigung!#REF!,Gruppenberechtigung!$AV$8:$BN$8,$AB28:$AG28) -> #REF! | H28: =LOOKUP(Gruppenberechtigung!#REF!,Gruppenberechtigung!$AV$8:$BN$8,$AB28:$AG28) -> #REF! | I28: =LOOKUP(Gruppenberechtigung!#REF!,Gruppenberechtigung!$AV$8:$BN$8,$AB28:$AG28) -> #REF! | J28: =LOOKUP(Gruppenberechtigung!#REF!,Gruppenberechtigung!$AV$8:$BN$8,$AB28:$AG28) -> #REF! | K28: =LOOKUP(Gruppenberechtigung!#REF!,Gruppenberechtigung!$AV$8:$BN$8,$AB28:$AG28) -> #REF! | L28: =LOOKUP(Gruppenberechtigung!#REF!,Gruppenberechtigung!$AV$8:$BN$8,$AB28:$AG28) -> #REF! | M28: =LOOKUP(Gruppenberechtigung!#REF!,Gruppenberechtigung!$AV$8:$BN$8,$AB28:$AG28) -> #REF! | ... AA28: =LOOKUP(Gruppenberechtigung!#REF!,Gruppenberechtigung!$AV$8:$BN$8,$AB28:$AG28) -> #REF! | AB28: x | AC28: x
D29: Drucken | F29: =LOOKUP(Gruppenberechtigung!#REF!,Gruppenberechtigung!$AV$8:$BN$8,$AB29:$AG29) -> #REF! | G29: =LOOKUP(Gruppenberechtigung!#REF!,Gruppenberechtigung!$AV$8:$BN$8,$AB29:$AG29) -> #REF! | H29: =LOOKUP(Gruppenberechtigung!#REF!,Gruppenberechtigung!$AV$8:$BN$8,$AB29:$AG29) -> #REF! | I29: =LOOKUP(Gruppenberechtigung!#REF!,Gruppenberechtigung!$AV$8:$BN$8,$AB29:$AG29) -> #REF! | J29: =LOOKUP(Gruppenberechtigung!#REF!,Gruppenberechtigung!$AV$8:$BN$8,$AB29:$AG29) -> #REF! | K29: =LOOKUP(Gruppenberechtigung!#REF!,Gruppenberechtigung!$AV$8:$BN$8,$AB29:$AG29) -> #REF! | L29: =LOOKUP(Gruppenberechtigung!#REF!,Gruppenberechtigung!$AV$8:$BN$8,$AB29:$AG29) -> #REF! | M29: =LOOKUP(Gruppenberechtigung!#REF!,Gruppenberechtigung!$AV$8:$BN$8,$AB29:$AG29) -> #REF! | ... AA29: =LOOKUP(Gruppenberechtigung!#REF!,Gruppenberechtigung!$AV$8:$BN$8,$AB29:$AG29) -> #REF! | AB29: x | AC29: x | AD29: x | AE29: !
D30: Neue Medikamente in d. Stammdaten übernehmen | F30: =LOOKUP(Gruppenberechtigung!#REF!,Gruppenberechtigung!$AV$8:$BN$8,$AB30:$AG30) -> #REF! | G30: =LOOKUP(Gruppenberechtigung!#REF!,Gruppenberechtigung!$AV$8:$BN$8,$AB30:$AG30) -> #REF! | H30: =LOOKUP(Gruppenberechtigung!#REF!,Gruppenberechtigung!$AV$8:$BN$8,$AB30:$AG30) -> #REF! | I30: =LOOKUP(Gruppenberechtigung!#REF!,Gruppenberechtigung!$AV$8:$BN$8,$AB30:$AG30) -> #REF! | J30: ! | K30: =LOOKUP(Gruppenberechtigung!#REF!,Gruppenberechtigung!$AV$8:$BN$8,$AB30:$AG30) -> #REF! | L30: =LOOKUP(Gruppenberechtigung!#REF!,Gruppenberechtigung!$AV$8:$BN$8,$AB30:$AG30) -> #REF! | M30: =LOOKUP(Gruppenberechtigung!#REF!,Gruppenberechtigung!$AV$8:$BN$8,$AB30:$AG30) -> #REF! | N30: =LOOKUP(Gruppenberechtigung!#REF!,Gruppenberechtigung!$AV$8:$BN$8,$AB30:$AG30) -> #REF! | O30: =LOOKUP(Gruppenberechtigung!#REF!,Gruppenberechtigung!$AV$8:$BN$8,$AB30:$AG30) -> #REF! | P30: =LOOKUP(Gruppenberechtigung!#REF!,Gruppenberechtigung!$AV$8:$BN$8,$AB30:$AG30) -> #REF! | Q30: =LOOKUP(Gruppenberechtigung!#REF!,Gruppenberechtigung!$AV$8:$BN$8,$AB30:$AG30) -> #REF! | R30: =LOOKUP(Gruppenberechtigung!#REF!,Gruppenberechtigung!$AV$8:$BN$8,$AB30:$AG30) -> #REF! | ... AA30: =LOOKUP(Gruppenberechtigung!#REF!,Gruppenberechtigung!$AV$8:$BN$8,$AB30:$AG30) -> #REF! | AB30: x | AC30: x | AD30: !
C37: >Wunddokumentation
D38: Daten erstellen | F38: =LOOKUP(Gruppenberechtigung!#REF!,Gruppenberechtigung!$AV$8:$BN$8,$AB38:$AG38) -> #REF! | G38: =LOOKUP(Gruppenberechtigung!#REF!,Gruppenberechtigung!$AV$8:$BN$8,$AB38:$AG38) -> #REF! | H38: =LOOKUP(Gruppenberechtigung!#REF!,Gruppenberechtigung!$AV$8:$BN$8,$AB38:$AG38) -> #REF! | I38: =LOOKUP(Gruppenberechtigung!#REF!,Gruppenberechtigung!$AV$8:$BN$8,$AB38:$AG38) -> #REF! | J38: =LOOKUP(Gruppenberechtigung!#REF!,Gruppenberechtigung!$AV$8:$BN$8,$AB38:$AG38) -> #REF! | K38: =LOOKUP(Gruppenberechtigung!#REF!,Gruppenberechtigung!$AV$8:$BN$8,$AB38:$AG38) -> #REF! | L38: =LOOKUP(Gruppenberechtigung!#REF!,Gruppenberechtigung!$AV$8:$BN$8,$AB38:$AG38) -> #REF! | M38: =LOOKUP(Gruppenberechtigung!#REF!,Gruppenberechtigung!$AV$8:$BN$8,$AB38:$AG38) -> #REF! | ... AA38: =LOOKUP(Gruppenberechtigung!#REF!,Gruppenberechtigung!$AV$8:$BN$8,$AB38:$AG38) -> #REF! | AB38: x | AC38: x | AD38: x | AE38: x
D39: Daten bearbeiten | F39: =LOOKUP(Gruppenberechtigung!#REF!,Gruppenberechtigung!$AV$8:$BN$8,$AB39:$AG39) -> #REF! | G39: =LOOKUP(Gruppenberechtigung!#REF!,Gruppenberechtigung!$AV$8:$BN$8,$AB39:$AG39) -> #REF! | H39: =LOOKUP(Gruppenberechtigung!#REF!,Gruppenberechtigung!$AV$8:$BN$8,$AB39:$AG39) -> #REF! | I39: =LOOKUP(Gruppenberechtigung!#REF!,Gruppenberechtigung!$AV$8:$BN$8,$AB39:$AG39) -> #REF! | J39: =LOOKUP(Gruppenberechtigung!#REF!,Gruppenberechtigung!$AV$8:$BN$8,$AB39:$AG39) -> #REF! | K39: =LOOKUP(Gruppenberechtigung!#REF!,Gruppenberechtigung!$AV$8:$BN$8,$AB39:$AG39) -> #REF! | L39: =LOOKUP(Gruppenberechtigung!#REF!,Gruppenberechtigung!$AV$8:$BN$8,$AB39:$AG39) -> #REF! | M39: =LOOKUP(Gruppenberechtigung!#REF!,Gruppenberechtigung!$AV$8:$BN$8,$AB39:$AG39) -> #REF! | ... AA39: =LOOKUP(Gruppenberechtigung!#REF!,Gruppenberechtigung!$AV$8:$BN$8,$AB39:$AG39) -> #REF! | AB39: x | AC39: x | AD39: x
D40: Daten löschen | F40: =LOOKUP(Gruppenberechtigung!#REF!,Gruppenberechtigung!$AV$8:$BN$8,$AB40:$AG40) -> #REF! | G40: =LOOKUP(Gruppenberechtigung!#REF!,Gruppenberechtigung!$AV$8:$BN$8,$AB40:$AG40) -> #REF! | H40: =LOOKUP(Gruppenberechtigung!#REF!,Gruppenberechtigung!$AV$8:$BN$8,$AB40:$AG40) -> #REF! | I40: =LOOKUP(Gruppenberechtigung!#REF!,Gruppenberechtigung!$AV$8:$BN$8,$AB40:$AG40) -> #REF! | J40: =LOOKUP(Gruppenberechtigung!#REF!,Gruppenberechtigung!$AV$8:$BN$8,$AB40:$AG40) -> #REF! | K40: =LOOKUP(Gruppenberechtigung!#REF!,Gruppenberechtigung!$AV$8:$BN$8,$AB40:$AG40) -> #REF! | L40: =LOOKUP(Gruppenberechtigung!#REF!,Gruppenberechtigung!$AV$8:$BN$8,$AB40:$AG40) -> #REF! | M40: =LOOKUP(Gruppenberechtigung!#REF!,Gruppenberechtigung!$AV$8:$BN$8,$AB40:$AG40) -> #REF! | ... AA40: =LOOKUP(Gruppenberechtigung!#REF!,Gruppenberechtigung!$AV$8:$BN$8,$AB40:$AG40) -> #REF! | AB40: x | AC40: x
D41: Drucken | F41: =LOOKUP(Gruppenberechtigung!#REF!,Gruppenberechtigung!$AV$8:$BN$8,$AB41:$AG41) -> #REF! | G41: =LOOKUP(Gruppenberechtigung!#REF!,Gruppenberechtigung!$AV$8:$BN$8,$AB41:$AG41) -> #REF! | H41: =LOOKUP(Gruppenberechtigung!#REF!,Gruppenberechtigung!$AV$8:$BN$8,$AB41:$AG41) -> #REF! | I41: =LOOKUP(Gruppenberechtigung!#REF!,Gruppenberechtigung!$AV$8:$BN$8,$AB41:$AG41) -> #REF! | J41: =LOOKUP(Gruppenberechtigung!#REF!,Gruppenberechtigung!$AV$8:$BN$8,$AB41:$AG41) -> #REF! | K41: =LOOKUP(Gruppenberechtigung!#REF!,Gruppenberechtigung!$AV$8:$BN$8,$AB41:$AG41) -> #REF! | L41: =LOOKUP(Gruppenberechtigung!#REF!,Gruppenberechtigung!$AV$8:$BN$8,$AB41:$AG41) -> #REF! | M41: =LOOKUP(Gruppenberechtigung!#REF!,Gruppenberechtigung!$AV$8:$BN$8,$AB41:$AG41) -> #REF! | ... AA41: =LOOKUP(Gruppenberechtigung!#REF!,Gruppenberechtigung!$AV$8:$BN$8,$AB41:$AG41) -> #REF! | AB41: x | AC41: x | AD41: x | AE41: !
C42: >Pflegeplanung
D43: Daten lesen | F43: =LOOKUP(Gruppenberechtigung!#REF!,Gruppenberechtigung!$AV$8:$BN$8,$AB43:$AG43) -> #REF! | G43: =LOOKUP(Gruppenberechtigung!#REF!,Gruppenberechtigung!$AV$8:$BN$8,$AB43:$AG43) -> #REF! | H43: =LOOKUP(Gruppenberechtigung!#REF!,Gruppenberechtigung!$AV$8:$BN$8,$AB43:$AG43) -> #REF! | I43: =LOOKUP(Gruppenberechtigung!#REF!,Gruppenberechtigung!$AV$8:$BN$8,$AB43:$AG43) -> #REF! | J43: =LOOKUP(Gruppenberechtigung!#REF!,Gruppenberechtigung!$AV$8:$BN$8,$AB43:$AG43) -> #REF! | K43: =LOOKUP(Gruppenberechtigung!#REF!,Gruppenberechtigung!$AV$8:$BN$8,$AB43:$AG43) -> #REF! | L43: =LOOKUP(Gruppenberechtigung!#REF!,Gruppenberechtigung!$AV$8:$BN$8,$AB43:$AG43) -> #REF! | M43: =LOOKUP(Gruppenberechtigung!#REF!,Gruppenberechtigung!$AV$8:$BN$8,$AB43:$AG43) -> #REF! | ... AA43: =LOOKUP(Gruppenberechtigung!#REF!,Gruppenberechtigung!$AV$8:$BN$8,$AB43:$AG43) -> #REF! | AB43: x | AC43: x | AD43: x | AE43: x
D44: Daten erstellen | F44: =LOOKUP(Gruppenberechtigung!#REF!,Gruppenberechtigung!$AV$8:$BN$8,$AB44:$AG44) -> #REF! | G44: =LOOKUP(Gruppenberechtigung!#REF!,Gruppenberechtigung!$AV$8:$BN$8,$AB44:$AG44) -> #REF! | H44: =LOOKUP(Gruppenberechtigung!#REF!,Gruppenberechtigung!$AV$8:$BN$8,$AB44:$AG44) -> #REF! | I44: =LOOKUP(Gruppenberechtigung!#REF!,Gruppenberechtigung!$AV$8:$BN$8,$AB44:$AG44) -> #REF! | J44: =LOOKUP(Gruppenberechtigung!#REF!,Gruppenberechtigung!$AV$8:$BN$8,$AB44:$AG44) -> #REF! | K44: =LOOKUP(Gruppenberechtigung!#REF!,Gruppenberechtigung!$AV$8:$BN$8,$AB44:$AG44) -> #REF! | L44: =LOOKUP(Gruppenberechtigung!#REF!,Gruppenberechtigung!$AV$8:$BN$8,$AB44:$AG44) -> #REF! | M44: =LOOKUP(Gruppenberechtigung!#REF!,Gruppenberechtigung!$AV$8:$BN$8,$AB44:$AG44) -> #REF! | ... AA44: =LOOKUP(Gruppenberechtigung!#REF!,Gruppenberechtigung!$AV$8:$BN$8,$AB44:$AG44) -> #REF! | AB44: x | AC44: x | AD44: x
D45: Daten bearbeiten | F45: =LOOKUP(Gruppenberechtigung!#REF!,Gruppenberechtigung!$AV$8:$BN$8,$AB45:$AG45) -> #REF! | G45: =LOOKUP(Gruppenberechtigung!#REF!,Gruppenberechtigung!$AV$8:$BN$8,$AB45:$AG45) -> #REF! | H45: =LOOKUP(Gruppenberechtigung!#REF!,Gruppenberechtigung!$AV$8:$BN$8,$AB45:$AG45) -> #REF! | I45: =LOOKUP(Gruppenberechtigung!#REF!,Gruppenberechtigung!$AV$8:$BN$8,$AB45:$AG45) -> #REF! | J45: =LOOKUP(Gruppenberechtigung!#REF!,Gruppenberechtigung!$AV$8:$BN$8,$AB45:$AG45) -> #REF! | K45: =LOOKUP(Gruppenberechtigung!#REF!,Gruppenberechtigung!$AV$8:$BN$8,$AB45:$AG45) -> #REF! | L45: =LOOKUP(Gruppenberechtigung!#REF!,Gruppenberechtigung!$AV$8:$BN$8,$AB45:$AG45) -> #REF! | M45: =LOOKUP(Gruppenberechtigung!#REF!,Gruppenberechtigung!$AV$8:$BN$8,$AB45:$AG45) -> #REF! | ... AA45: =LOOKUP(Gruppenberechtigung!#REF!,Gruppenberechtigung!$AV$8:$BN$8,$AB45:$AG45) -> #REF! | AB45: x | AC45: x | AD45: x
D46: Daten löschen | F46: =LOOKUP(Gruppenberechtigung!#REF!,Gruppenberechtigung!$AV$8:$BN$8,$AB46:$AG46) -> #REF! | G46: =LOOKUP(Gruppenberechtigung!#REF!,Gruppenberechtigung!$AV$8:$BN$8,$AB46:$AG46) -> #REF! | H46: =LOOKUP(Gruppenberechtigung!#REF!,Gruppenberechtigung!$AV$8:$BN$8,$AB46:$AG46) -> #REF! | I46: =LOOKUP(Gruppenberechtigung!#REF!,Gruppenberechtigung!$AV$8:$BN$8,$AB46:$AG46) -> #REF! | J46: =LOOKUP(Gruppenberechtigung!#REF!,Gruppenberechtigung!$AV$8:$BN$8,$AB46:$AG46) -> #REF! | K46: =LOOKUP(Gruppenberechtigung!#REF!,Gruppenberechtigung!$AV$8:$BN$8,$AB46:$AG46) -> #REF! | L46: =LOOKUP(Gruppenberechtigung!#REF!,Gruppenberechtigung!$AV$8:$BN$8,$AB46:$AG46) -> #REF! | M46: =LOOKUP(Gruppenberechtigung!#REF!,Gruppenberechtigung!$AV$8:$BN$8,$AB46:$AG46) -> #REF! | ... AA46: =LOOKUP(Gruppenberechtigung!#REF!,Gruppenberechtigung!$AV$8:$BN$8,$AB46:$AG46) -> #REF! | AB46: x | AC46: x
D47: Drucken | F47: =LOOKUP(Gruppenberechtigung!#REF!,Gruppenberechtigung!$AV$8:$BN$8,$AB47:$AG47) -> #REF! | G47: =LOOKUP(Gruppenberechtigung!#REF!,Gruppenberechtigung!$AV$8:$BN$8,$AB47:$AG47) -> #REF! | H47: =LOOKUP(Gruppenberechtigung!#REF!,Gruppenberechtigung!$AV$8:$BN$8,$AB47:$AG47) -> #REF! | I47: =LOOKUP(Gruppenberechtigung!#REF!,Gruppenberechtigung!$AV$8:$BN$8,$AB47:$AG47) -> #REF! | J47: =LOOKUP(Gruppenberechtigung!#REF!,Gruppenberechtigung!$AV$8:$BN$8,$AB47:$AG47) -> #REF! | K47: =LOOKUP(Gruppenberechtigung!#REF!,Gruppenberechtigung!$AV$8:$BN$8,$AB47:$AG47) -> #REF! | L47: =LOOKUP(Gruppenberechtigung!#REF!,Gruppenberechtigung!$AV$8:$BN$8,$AB47:$AG47) -> #REF! | M47: =LOOKUP(Gruppenberechtigung!#REF!,Gruppenberechtigung!$AV$8:$BN$8,$AB47:$AG47) -> #REF! | ... AA47: =LOOKUP(Gruppenberechtigung!#REF!,Gruppenberechtigung!$AV$8:$BN$8,$AB47:$AG47) -> #REF! | AB47: x | AC47: x | AD47: x | AE47: x
C50: >Info-Definition
...
